BEGIN:VCALENDAR
VERSION:2.0
PRODID:-//EABC Thailand - ECPv6.15.20//NONSGML v1.0//EN
CALSCALE:GREGORIAN
METHOD:PUBLISH
X-WR-CALNAME:EABC Thailand
X-ORIGINAL-URL:https://www.eabc-thailand.org
X-WR-CALDESC:Events for EABC Thailand
REFRESH-INTERVAL;VALUE=DURATION:PT1H
X-Robots-Tag:noindex
X-PUBLISHED-TTL:PT1H
BEGIN:VTIMEZONE
TZID:Asia/Shanghai
BEGIN:STANDARD
TZOFFSETFROM:+0800
TZOFFSETTO:+0800
TZNAME:CST
DTSTART:20240101T000000
END:STANDARD
END:VTIMEZONE
BEGIN:VTIMEZONE
TZID:Asia/Krasnoyarsk
BEGIN:STANDARD
TZOFFSETFROM:+0700
TZOFFSETTO:+0700
TZNAME:+07
DTSTART:20240101T000000
END:STANDARD
END:VTIMEZONE
BEGIN:VEVENT
DTSTART;TZID=Asia/Shanghai:20250701T083000
DTEND;TZID=Asia/Shanghai:20250701T160000
DTSTAMP:20260419T213823
CREATED:20250619T065735Z
LAST-MODIFIED:20250619T065735Z
UID:15751-1751358600-1751385600@www.eabc-thailand.org
SUMMARY:Webinar: Deepening The Understanding of EU Sanctions And Enhancing Cooperation To Reduce Sanctions Circumvention
DESCRIPTION:A virtual EU Sanctions capacity-building seminar “Deepening the understanding of EU sanctions and enhancing cooperation to reduce sanctions circumvention” will take place on Tuesday 1 July (8.30am-4pm SGT). \nThe primary aim of the seminar is to raise awareness of EU sanctions and their application\, and to cooperate to counter possible circumvention of these measures. The seminar is free of charge and targeted to private sector operators interested in improving their awareness of EU sanctions. \nThe EU team of trainers includes sanctions experts from the European Commission\, representatives from EU Member States as well as experts from the EU private sector (compliance divisions of major banks\, exports and transportation/logistics companies). Attached you can find the draft agenda. \nThe link to the seminar platform will be provided to registered participants one day ahead of the event. The seminar language will be English only. \nEvent details: \n\nDate: 1 July 2025\nTime: 8:30 AM – 4:00 PM\nVenue: Virtual\nRegistration: [HERE]\n\nThe deadline for registrations is 25 June 2025\, after which participation will be confirmed by email. For any questions regarding the seminar\, interested participants can contact the following e-mail: SanctionsVirtual@istc.int
URL:https://www.eabc-thailand.org/event/webinar-deepening-the-understanding-of-eu-sanctions-and-enhancing-cooperation-to-reduce-sanctions-circumvention/
LOCATION:Bangkok
ATTACH;FMTTYPE=image/png:https://www.eabc-thailand.org/wp-content/uploads/2025/06/European-Union-Delegation-to-Singapore-Webinar-1-e1750316188249.png
END:VEVENT
BEGIN:VEVENT
DTSTART;VALUE=DATE:20250717
DTEND;VALUE=DATE:20250718
DTSTAMP:20260419T213823
CREATED:20250714T043129Z
LAST-MODIFIED:20250714T043129Z
UID:15852-1752710400-1752796799@www.eabc-thailand.org
SUMMARY:Summer in White 2.0!
DESCRIPTION:Join us for the second edition of one of our most iconic events of the year — Summer in White 2.0! Let’s celebrate the spirit of the Mediterranean in the heart of Bangkok with an unforgettable evening filled with Spanish flair. Set on the amazing terrace of Mod Kaew Wine Bar\, this event will blend professional networking with the relaxed elegance of a Mediterranean summer night. \nExpand your professional network in a vibrant\, international setting\, engage with members of the Spanish-Thai business community and enjoy fine Spanish food\, live DJ entertainment\, and refreshing drinks in a total white ambiance. \nSave the date: Thursday\, 17 July 2025\nTime: From 6:30 PM onwards\nVenue: Mod Kaew Wine Bar\nDress code: Mediterranean White\nRegister: Click Here \nLet’s make this summer night unforgettable — together.
URL:https://www.eabc-thailand.org/event/summer-in-white-2-0/
LOCATION:Mod Kaew Wine Bar
ATTACH;FMTTYPE=image/png:https://www.eabc-thailand.org/wp-content/uploads/2025/07/Summer-in-white-2.0-A-spanish-mediterranean-evening-1-e1752467094876.png
END:VEVENT
BEGIN:VEVENT
DTSTART;TZID=Asia/Krasnoyarsk:20250719T180000
DTEND;TZID=Asia/Krasnoyarsk:20250719T220000
DTSTAMP:20260419T213823
CREATED:20250711T112814Z
LAST-MODIFIED:20250711T112814Z
UID:15839-1752948000-1752962400@www.eabc-thailand.org
SUMMARY:Rossini’s Reverie: An Enchanted Italian Wine Evening
DESCRIPTION:Veneto & Piedmont Wine Dinner \nSaturday\, 19 July 2025 | 18:00 – 22:00 \nStep into an unforgettable evening of culinary grandeur at Rossini’s\, where the legendary flavors of Veneto and Piedmont unfold in a dazzling showcase of Italian heritage. \nFrom the alpine richness of Piedmont to the Venetian lagoon’s timeless treasures\, each course is a symphony of tradition\, elevated through modern artistry—expertly paired with fine regional wines. \nTwo Exquisite Menus Crafted for the Discerning Palate \nRegular Menu \n\nTHB 4\,700++ with curated wine pairings\nTHB 3\,200++ food only\n\nVegetarian Menu \n\nTHB 4\,100++ with curated wine pairings\nTHB 2\,600++ food only\n\nPrivileged Indulgence for Our Esteemed Members: \n\nThe Grande Club: 20% off food | 30% off beverages (excluding wine)\nMarriott Bonvoy: 10% off food & beverages (excluding wine)\n\nRossini’s – Sheraton Grande Sukhumvit\, A Luxury Collection Hotel \nSecure your place for this rare epicurean journey | Limited seats available \nEvent Details: \n\nVenue: Rossini’s\, Sheraton Grande Sukhumvit\nDate: July 19th\, 2025\nTime: From 18:00 – 22.00 hrs.\n Reservations: 02 649 8888 | dining.sgs@luxurycollection.com | https://sheratongrandesukhumvit.info/RossinisReverie19Jul25\n\nWebsite: www.sheratongrandesukhumvit.com
URL:https://www.eabc-thailand.org/event/rossinis-reverie-an-enchanted-italian-wine-evening/
LOCATION:Rossini’s\, Sheraton Grande Sukhumvit
CATEGORIES:Member Event
ATTACH;FMTTYPE=image/jpeg:https://www.eabc-thailand.org/wp-content/uploads/2025/07/Rossinis-Wine-Dinner-02-e1752233051365.jpg
END:VEVENT
BEGIN:VEVENT
DTSTART;TZID=Asia/Krasnoyarsk:20250725T110000
DTEND;TZID=Asia/Krasnoyarsk:20250725T132000
DTSTAMP:20260419T213823
CREATED:20250620T073547Z
LAST-MODIFIED:20250724T074302Z
UID:15769-1753441200-1753449600@www.eabc-thailand.org
SUMMARY:EABC Luncheon Seminar\, “Thailand’s Investment Promotion: Gateway for European Businesses to Prosperity and Sustainability\,”
DESCRIPTION:Join us for the EABC Luncheon Seminar\, “Thailand’s Investment Promotion: Gateway for European Businesses to Prosperity and Sustainability\,” We are honoured to welcome Mr. Narit Therdsteerasukdi\, Secretary General\, Board of Investment (BOI) as our keynote speaker at this high-level luncheon on Friday\, 25 July 2025\, from 11:30 to 14:00 at the Sheraton Grande Sukhumvit. \nThe event aims to foster Thai-European investment collaboration by providing insights into Thailand’s economic direction\, the Board of Investment’s (BOI) strategic priorities\, and current investment promotion measures. It offers a valuable platform for participants to explore how their businesses can align with Thailand’s investment framework\, while building meaningful connections across sectors. \nEvent details: \n\nDate: Friday\, 25 July 2025\nTime: 11:00 – 13:20\nVenue: Sheraton Grande Sukhumvit\nRegistration: https://forms.office.com/r/CYCw2pS22D?origin=lprLink\n\nTicket fees:  \n\n1\,600THB for Members of EABC\n1\,600THB for Members of Supporting Chambers\n2\,200THB for Non – Members\n\n  \nAgenda \n\n\n\n11.00-11.45\nRegistration\n\n\n11.45-12.30\nLuncheon (3 course meal)\n\n\n12.30-12.35\nWelcome Remarks \nMrs. Paranee Adulyapichet\, President \nEuropean Association for Business and Commerce (EABC) \n \n\n\n12.35-13.20\nKeynote speech and Presentation \nMr. Narit Therdsteerasukdi \nSecretary General\, Board of Investment (BOI) \n \n\n\n13.20-13.35\nQ&A session\n\n\n13.35-13.40\nClosing Remarks \nMrs. Paranee Adulyapichet\, President \nEuropean Association for Business and Commerce (EABC) \n \n\n\n13.40\nPhoto Session\n\n\n\n  \nPAYMENT: \nBy bank transfer: Account Name: European Trade Association for Business and Commerce \nBank : Bangkok Bank (Empire Tower) \nA/C No: 857-7-0-2794-2 & By PromptPay payment: 010 955 400 1231 \nPlease kindly send us the proof of payment at office@eabc-thailand.org \n  \nIMPORTANT REMARKS: \n\nRegistration will close on Friday\, 18 July at 6.00 PM\nRegistration mandatory. No walk-ins allowed.\nTo confirm your registration\, please proceed with bank transfer payment and send your proof of payment to office@eabc-thailand.org\nALL PAYMENTS MUST BE MADE IN ADVANCE TO EABC If payment is not received at least 24 hours prior to the event\, your spot may be given to someone on the waiting list.\nYou can cancel for free up to 48 hours (2 days) before the event\, and your payment will be fully refunded.\nCancellations made within less than 48 hours (2 days) of the event and no-shows will not be eligible for either a refund or credit.
URL:https://www.eabc-thailand.org/event/eabc-luncheon-seminar-thailands-investment-promotion-gateway-for-european-businesses-to-prosperity-and-sustainability-2/
LOCATION:Bangkok
CATEGORIES:EABC Event
ATTACH;FMTTYPE=image/png:https://www.eabc-thailand.org/wp-content/uploads/2025/06/EABC-LUNCHEON-3-e1753342918858.png
END:VEVENT
END:VCALENDAR