BEGIN:VCALENDAR
VERSION:2.0
PRODID:-//EABC Thailand - ECPv6.15.20//NONSGML v1.0//EN
CALSCALE:GREGORIAN
METHOD:PUBLISH
X-ORIGINAL-URL:https://www.eabc-thailand.org
X-WR-CALDESC:Events for EABC Thailand
REFRESH-INTERVAL;VALUE=DURATION:PT1H
X-Robots-Tag:noindex
X-PUBLISHED-TTL:PT1H
BEGIN:VTIMEZONE
TZID:Asia/Krasnoyarsk
BEGIN:STANDARD
TZOFFSETFROM:+0700
TZOFFSETTO:+0700
TZNAME:+07
DTSTART:20240101T000000
END:STANDARD
END:VTIMEZONE
BEGIN:VEVENT
DTSTART;TZID=Asia/Krasnoyarsk:20250610T180000
DTEND;TZID=Asia/Krasnoyarsk:20250610T210000
DTSTAMP:20260419T230820
CREATED:20250522T064018Z
LAST-MODIFIED:20250522T064018Z
UID:15578-1749578400-1749589200@www.eabc-thailand.org
SUMMARY:BCCT Chef's\, Science and Supergoods: What's Really on Your Plates?
DESCRIPTION:Join us for an enlightening session featuring expert perspectives from culinary masters and leading wellness professionals. \nThe event will kick off with a cooking demonstration followed by a panel discussion\, and conclude with an open Q&A session where you can engage directly with experts—ask questions\, share ideas\, and gain valuable insights in a relaxed investment networking atmosphere. \nDon’t miss this opportunity—we look forward to seeing you all there! \n  \nEvent Details: \n\nDate: Tuesday 10th June 2025\nTime: 6 – 9 PM\nVenue: dusitD2 Samyan Bangkok (10-minute walk from Samyan MRT)\n\n\nTickets Fees:\n\nBCCT/partner members 1\,100 THB   (includes food\, free-flow beer\, wine\, and soft drinks.)\nRSVP: book online click here or email events@bccthai.com for assistance.\nNon-members who would like to join this event should email – greg@bccthai.com
URL:https://www.eabc-thailand.org/event/bcct-chefs-science-and-supergoods-whats-really-on-your-plates/
LOCATION:Bangkok
CATEGORIES:Co-Chamber Event
ATTACH;FMTTYPE=image/jpeg:https://www.eabc-thailand.org/wp-content/uploads/2025/05/Banner_10.6-Healthcare-e1747889017335.jpg
END:VEVENT
BEGIN:VEVENT
DTSTART;TZID=Asia/Krasnoyarsk:20250611T180000
DTEND;TZID=Asia/Krasnoyarsk:20250611T180000
DTSTAMP:20260419T230820
CREATED:20250527T093420Z
LAST-MODIFIED:20250527T093420Z
UID:15624-1749664800-1749664800@www.eabc-thailand.org
SUMMARY:TEBA Cocktail Reception "Building a Resilient Partnership"
DESCRIPTION:We are pleased to invite you to TEBA Cocktail Reception “Building a Resilient Partnership”\, which will be held on Wednesday 11th of June 2025 from 18.00 hrs. onwards (Registration starts at 17.00 hrs) at  “The Athenee Hotel\, Crystal Ballroom\, 3rd Floor”\, 61 Witthayu Road\, Lumphini Phatum Wan\, Bangkok 10330. \nWe are delighted to invited distinguished guests\, including: \n– Minister of Industry\, H.E. Mr. Akanat Promphan\n– Thailand Board of Investment (BOI)\, Secretary General\, H.E Mr. Narit Therdsteerasukdi\n– EU Ambassador\, H.E. Mr. David Daly\n– The Ambassadors of the EU Member States\n– The Delegation of the European Union to Thailand\, Minister Counsellor\, Head of Trade and Economics Section\, Ms. Renita Bhaskar \nFurthermore\, witnessing spectacular showcases by Airbus\, BMW\, Mercedes-Benz\, AVL\, Ducati\, Robert Bosch\, TUV Rheinland\, Triumph Motorcycles\, and UA Autoparts. We look forward to your valuable participation & business networking with representatives of Royal Thai Government\, Embassies\, Bilateral Chambers\, C-Suite management\, business professional & expertise. \nEvent Details: \n\nDate: Wednesday 11th of June 2025\nTime: 18.00 hrs. onwards (Registration starts at 17.00 hrs)\nVenue: The Athenee Hotel\, Crystal Ballroom\, 3rd Floor\nRegistration: [HERE]\n\n\n  Ticket Fees:      \n\nTEBA Members (only Cocktail): THB 1\,300\nMembers of Bilateral-Chambers/Co-promoter: THB 1\,700\nNon-member: THB 2\,200\nGroup audience (for 3 persons): THB 5\,500
URL:https://www.eabc-thailand.org/event/teba-cocktail-reception-building-a-resilient-partnership/
LOCATION:Bangkok
CATEGORIES:Co-Chamber Event
ATTACH;FMTTYPE=image/jpeg:https://www.eabc-thailand.org/wp-content/uploads/2025/05/Official-banner-of-TEBA-Cocktail-Reception-2025_Minister-of-Industry-e1748338265902.jpg
END:VEVENT
BEGIN:VEVENT
DTSTART;TZID=Asia/Krasnoyarsk:20250618T183000
DTEND;TZID=Asia/Krasnoyarsk:20250618T210000
DTSTAMP:20260419T230820
CREATED:20250613T093300Z
LAST-MODIFIED:20250613T100150Z
UID:15702-1750271400-1750280400@www.eabc-thailand.org
SUMMARY:STCC Multi-Chamber Networking Night
DESCRIPTION:Network with Purpose at STCC’s Multi-Chamber Networking Night. \nJoin over 20 international chambers and a diverse crowd of professionals\, executives\, and entrepreneurs at one of Bangkok’s most anticipated networking events. \nExpand your business circle\nMeet decision-makers and innovators\nEnjoy a relaxed evening with wine\, canapés & great conversations \nEvent details: \n\nDate: Wednesday 18 June 2025\nTime: 18:30 – 21:00\nVenue: Ballroom\, Anantara Siam Bangkok Hotel\nRegistration Link: [HERE]\n\nTicket fees: \n\n950THB for Member & Co-Chamber Member\n1\,500THB for Non-Member
URL:https://www.eabc-thailand.org/event/stcc-multi-chamber-networking-night-5/
LOCATION:Bangkok
CATEGORIES:Co-Chamber Event
ATTACH;FMTTYPE=image/png:https://www.eabc-thailand.org/wp-content/uploads/2025/06/Untitled-design-e1749807121765.png
END:VEVENT
BEGIN:VEVENT
DTSTART;TZID=Asia/Krasnoyarsk:20250624T090000
DTEND;TZID=Asia/Krasnoyarsk:20250624T120000
DTSTAMP:20260419T230820
CREATED:20250613T095900Z
LAST-MODIFIED:20250613T095900Z
UID:15705-1750755600-1750766400@www.eabc-thailand.org
SUMMARY:FTCC AI Fundamentals for Managing Your Project (Big or Small)
DESCRIPTION:Join us for an engaging 3-hour training session that will transform the way you manage projects—whether big or small—through the power of Generative AI. Delivered by System in Motion\, a pioneer in AI education and integration\, this course is designed to provide actionable knowledge\, real-world applications\, and hands-on practice with the DeepSeek AI platform. \nEvent details: \n\nDate: Tuesday 24 June 2025\nTime: 9:00 AM – 12:00 PM\nVenue: FTCC Office\nRegistration Link: [HERE]\n\nTicket fees: \n\n5\,200THB for FTCC / SweCham / EABC Member\n7\,500THB for Non-Members
URL:https://www.eabc-thailand.org/event/ftcc-ai-fundamentals-for-managing-your-project-big-or-small/
LOCATION:Bangkok
CATEGORIES:Co-Chamber Event
ATTACH;FMTTYPE=image/png:https://www.eabc-thailand.org/wp-content/uploads/2025/06/csm_24_June_AI_fundamental_for_Managing_Your_Project_551e4bc427-e1749808117618.png
END:VEVENT
BEGIN:VEVENT
DTSTART;TZID=Asia/Krasnoyarsk:20250625T110000
DTEND;TZID=Asia/Krasnoyarsk:20250625T143000
DTSTAMP:20260419T230820
CREATED:20250522T092606Z
LAST-MODIFIED:20250530T033543Z
UID:15589-1750849200-1750861800@www.eabc-thailand.org
SUMMARY:EABC Luncheon Policy Session 2025: Civil Servant Medical Benefit Scheme; Policy Direction\, and Way Forward for Sustainable Financing and Patient Access
DESCRIPTION:We are delighted to invite you to EABC Luncheon Policy Session 2025: Civil Servant Medical Benefit Scheme; Policy Direction\, and Way Forward for Sustainable Financing and Patient Access on Wednesday\, 25 June 2025\, 11:00 – 14:30 at Eastin Grand Hotel Phayathai. \nPresented by Healthcare and Pharmaceuticals Working Group. This event is a thought-provoking event designed to bring policymaker and stakeholders to address one of the most pressing challenges in Thailand’s healthcare landscape and to discuss the  importance of the development of sustainable healthcare financing in Thailand. \nAs the country faces a rapidly aging population and a surge in non-communicable diseases (NCDs)\, the current healthcare financing model is becoming increasingly unsustainable. These demographic and epidemiological shifts are placing immense pressure on public health budgets and threatening patient access to essential treatment and services. \nThis session will share the policy direction and explore the urgent need for innovative and sustainable financing solutions to ensure the long-term viability of the Civil Servant Medical Benefit Scheme (CSMBS). It will also highlight the critical role of public-private collaboration in shaping policies that enhance healthcare access while maintaining fiscal responsibility. \nThis endeavor is the route to achieving lasting economic growth and sustainability for Thailand\, paving the way for its future sustainable development. \nJoin us in shaping the future of healthcare in Thailand toward a system that is inclusive\, resilient\, and sustainable. \nEvent details:  \n\nDate: Wednesday\, 25 June 2025\nTime: 11.00- 14.30\nVenue: Eastin Grand Hotel Phayathai\nRegistration: https://forms.office.com/r/CSqEySx6gr?origin=lprLink\n\n* This event will be conducted in Thai. \nTicket fees: \n\n2\,200THB for Members of EABC\n2\,200THB for Members of Supporting Chambers\n3\,000THB for Non – Members\n\nAgenda:   \n\n\n\n11.00 – 11.30\nRegistration\n\n\n11.30 – 11.45\nNetworking\n\n\n11.45 – 12.45\nLunch 3 Course Meal\n\n\n12:30 – 12:35\nWelcoming Remarks by MC\n\n\n12:40– 12:50\nOpening Remarks  \nMs. Paranee Adulyapichet \nEABC President / Chair of Healthcare & Pharmaceuticals Working Group\n\n\n12:50 – 13:50\nPolicy session: “Civil Servant Medical Benefit Scheme; Policy Direction\, and Way Forward for Sustainable Financing and Patient Access” \nMr. Sittichai Ngamkiatkajorn\, Director of Medical Benefits Division\, Comptroller General’s Department\n\n\n13:50 – 14:20\nQ&A\n\n\n14.20 – 14:25\nClosing Remarks  \nMs. Paranee Adulyapichet \nEABC President / Chair of Healthcare & Pharmaceuticals Working Group\n\n\n14.25 –14:30\nPhoto Session \n\n\n\n  \nPayment: \nBy bank transfer: \nAccount Name: European Trade Association for Business and Commerce \nA/C No: 857-7-0-2794-2 \nSwiftcode: BKKBTHBK \nBank: Bangkok Bank \nBranch: Empire Tower Branch \nBy PromptPay payment: 010 955 400 1231 \n  \nIMPORTANT REMARKS: \n\nRegistration will close on Monday\, 23 June 2025\, at 6 PM\nRegistration mandatory. No walk-ins allowed.\nTo confirm your registration\, please proceed with bank transfer payment and send your proof of payment to office@eabc-thailand.org\nALL PAYMENTS MUST BE MADE IN ADVANCE TO EABC. If payment is not received at least 24 hours prior to the event\, your spot may be given to someone on the waiting list.\nYou can cancel for free up to 48 hours (2 days) before the event\, and your payment will be fully refunded.\nCancellations made within less than 48 hours (2 days) of the event and no-shows will not be eligible for either a refund or credit.
URL:https://www.eabc-thailand.org/event/eabc-luncheon-policy-session-2025-civil-servant-medical-benefit-scheme-policy-direction-and-way-forward-for-sustainable-financing-and-patient-access/
LOCATION:Bangkok
CATEGORIES:EABC Event
ATTACH;FMTTYPE=image/png:https://www.eabc-thailand.org/wp-content/uploads/2025/05/25th-June-banner-e1748576128865.png
END:VEVENT
BEGIN:VEVENT
DTSTART;TZID=Asia/Krasnoyarsk:20250630T110000
DTEND;TZID=Asia/Krasnoyarsk:20250630T140000
DTSTAMP:20260419T230820
CREATED:20250527T065539Z
LAST-MODIFIED:20250610T092540Z
UID:15612-1751281200-1751292000@www.eabc-thailand.org
SUMMARY:EABC Luncheon: Advancing Trade\, Investment\, and FTAs in a Shifting Global Landscape
DESCRIPTION:Join us for the EABC Luncheon: Advancing Trade\, Investment\, and FTAs in a Shifting Global Landscape. We are honoured to welcome H.E. Mr. Pichai Naripthaphan\, Minister of Commerce\, as our keynote speaker at this high-level luncheon on Monday\, 30 June 2025. This exclusive event will explore Thailand’s strategic approach to global trade\, investment\, and the evolving landscape of Free Trade Agreements. \nAs global economic dynamics shift\, and Thailand continues to advance FTA negotiations—including with the European Union—this platform will provide valuable insights into the government’s trade priorities\, opportunities for business\, and key policy developments shaping the future. \nThe luncheon will also serve as a unique opportunity for the policy dialogue and networking between the European business community and senior government stakeholders. \nEvent details: \n\nDate: Monday\, 30 June 2025\nTime: 11:00 – 14:00\nVenue: The Athenee Hotel\nRegistration Link: https://forms.office.com/r/NPZ7SJCe9L\n\nTicket fees: \n\n2\,200THB for Members of EABC\n2\,200THB for Members of Supporting Chambers\n3\,000THB for Non – Members\n\n\nDon’t miss this important opportunity to stay informed and engaged on Thailand’s trade and investment outlook. \nAgenda \n\n\n\n\n11.00-11.45\nRegistration\n\n\n11.45-12.30\nLuncheon (3 course meal)\n\n\n12.30-12.35\nWelcome Remarks\nMrs. Paranee Adulyapichet\, President\nEuropean Association for Business and Commerce (EABC)\n\n\n12.35-12.45\nOpening Remarks \nMs. Renita Bhaskar\, Minister Counsellor\, Head of Trade and Economic Affairs\nEuropean Union Delegation to Thailand\n\n\n12.45-13.05\nKeynote Address \nH.E. Mr. Pichai Naripthaphan\, Minister of Commerce\n\n\n13.05-13.25\nQ&A session\n\n\n13.25-13.30\nClosing Remarks\nMrs. Paranee Adulyapichet\, President\nEuropean Association for Business and Commerce (EABC)\n\n\n13.30\nPhoto Session\n\n\n\n\n  \nPAYMENT:\nBy bank transfer: Account Name: European Trade Association for Business and Commerce\nBank : Bangkok Bank (Empire Tower)\nA/C No: 857-7-0-2794-2 & By PromptPay payment: 010 955 400 1231\nPlease kindly send us the proof of payment at office@eabc-thailand.org \nIMPORTANT REMARKS: \n\n\nRegistration will close on Friday\, 27 June 2025.\nRegistration mandatory. No walk-ins allowed.\nTo confirm your registration\, please proceed with bank transfer payment and send your proof of payment to office@eabc-thailand.org\nALL PAYMENTS MUST BE MADE IN ADVANCE TO EABC If payment is not received at least 24 hours prior to the event\, your spot may be given to someone on the waiting list.\nYou can cancel for free up to 48 hours (2 days) before the event\, and your payment will be fully refunded.\nCancellations made within less than 48 hours (2 days) of the event and no-shows will not be eligible for either a refund or credit.
URL:https://www.eabc-thailand.org/event/eabc-luncheon-advancing-trade-investment-and-ftas-in-a-shifting-global-landscape/
LOCATION:Bangkok
CATEGORIES:EABC Event
ATTACH;FMTTYPE=image/png:https://www.eabc-thailand.org/wp-content/uploads/2025/05/30th-June-banner-3-1.png
END:VEVENT
END:VCALENDAR