BEGIN:VCALENDAR
VERSION:2.0
PRODID:-//EABC Thailand - ECPv6.15.20//NONSGML v1.0//EN
CALSCALE:GREGORIAN
METHOD:PUBLISH
X-WR-CALNAME:EABC Thailand
X-ORIGINAL-URL:https://www.eabc-thailand.org
X-WR-CALDESC:Events for EABC Thailand
REFRESH-INTERVAL;VALUE=DURATION:PT1H
X-Robots-Tag:noindex
X-PUBLISHED-TTL:PT1H
BEGIN:VTIMEZONE
TZID:Asia/Krasnoyarsk
BEGIN:STANDARD
TZOFFSETFROM:+0700
TZOFFSETTO:+0700
TZNAME:+07
DTSTART:20230101T000000
END:STANDARD
END:VTIMEZONE
BEGIN:VEVENT
DTSTART;TZID=Asia/Krasnoyarsk:20241105T083000
DTEND;TZID=Asia/Krasnoyarsk:20241105T103000
DTSTAMP:20260421T094233
CREATED:20241003T034338Z
LAST-MODIFIED:20241101T053910Z
UID:14667-1730795400-1730802600@www.eabc-thailand.org
SUMMARY:EABC Breakfast-Talk on Tuesday 5 November
DESCRIPTION:EABC -The European Chamber of Commerce Thailand is delighted to organize the following Breakfast-Talk on Tuesday 5 November 8.30-10:30 am: Thailand’s Economic Transformation 2024-2025: Economic Recovery\, Strategic Insights and Investment Opportunities for European Businesses. \nThis event will be the opportunity to exchange with Dr. Arnunchanog Sakondhavat\, Director of the Macroeconomic Strategy and Planning Division\, the office of National Economic and Social Development Council. \nThis event is organized with the support of the following organizations: \n\n\nIrish Thai Chamber\nThai European Business Association\nThai-Finnish Chamber\nSpanish-Thailand Chamber of Commerce\n\n\n\n\nAgenda:\n\n08:30 AM – Registration \n09:00 AM – Breakfast buffet \n09:30 AM – Opening remarks \n09:40 AM – Presentation by Dr. Arnunchanog Sakondhavat\, Director of the Macroeconomic Strategy and Planning Division\, the office of National Economic and Social Development Council \n10:05 AM – Q&A \n10:20 AM – Closing remarks \nEvent details: \n\n\nDate: Tuesday\, 5th November 2024 \nTime: 08:30 AM – 10:30 AM \nVenue: The Athenee Hotel\nRegistration: here\nTicket fees:\n\n1\,400 THB for Members of EABC\n1\,400 THB for Members of Supporting Chambers\n1\,700 THB for Non – Members\n\n\nIMPORTANT REMARKS:\n\nRegistration will close on Thursday\, 31 October\, at 6.00 PM\nRegistration mandatory. No walk-ins allowed.\nTo confirm your registration\, please proceed with bank transfer payment and send your proof of payment to office@eabc-thailand.org\nALL PAYMENTS MUST BE MADE IN ADVANCE TO EABC If payment is not received at least 24 hours prior to the event\, your spot may be given to someone on the waiting list.\nYou can cancel for free up to 48 hours (2 days) before the event\, and your payment will be fully refunded.\nCancellations made within less than 48 hours (2 days) of the event and no-shows will not be eligible for either a refund or credit.
URL:https://www.eabc-thailand.org/event/eabc-breakfast-talk-on-tuesday-5-november/
CATEGORIES:EABC Event
ATTACH;FMTTYPE=image/png:https://www.eabc-thailand.org/wp-content/uploads/2024/10/Breakfast-Talk-4.png
END:VEVENT
BEGIN:VEVENT
DTSTART;TZID=Asia/Krasnoyarsk:20241108T183000
DTEND;TZID=Asia/Krasnoyarsk:20241108T213000
DTSTAMP:20260421T094233
CREATED:20241021T014906Z
LAST-MODIFIED:20241022T063207Z
UID:14753-1731090600-1731101400@www.eabc-thailand.org
SUMMARY:BeLuThai Belgian Beer Tasting Contest 2024
DESCRIPTION:BeLuThai cordially invites you to the BeLuThai Belgian Beer Tasting Contest 2024 & Multi-Chambers Networking on Friday 8th November 2024 at Ballroom 3\, 4th floor\, Conrad Bangkok Hotel \nEvent Highlights: \n\nBeer Tasting Booths: Sample a diverse selection of Belgian beers and connect with vendors.\n\nTasting Contest: Test your palate in a fun\, blind-tasting competition! \n\n\nEvent Details:  \nDate: Friday 8th November 2024 \nTime: 18.30 – 21.30 hrs. \nVenue: Ballroom 3\, 4th floor\, Conrad Bangkok Hotel\nEntry: \n• Entrance Ticket (Member & Guest)​​​                      1\,200 THB\n• Entrance Ticket and Tasting Contest      ​​​              1\,500 THB\n* The ticket includes 2 complimentary glasses of Hoegaarden or Stella Artois\, along with Belgian Theme food.\nRegister: here
URL:https://www.eabc-thailand.org/event/beluthai-belgian-beer-tasting-contest-2024/
CATEGORIES:Co-Chamber Event
ATTACH;FMTTYPE=image/png:https://www.eabc-thailand.org/wp-content/uploads/2024/10/Beer-tasting-banner-2024-1.png
END:VEVENT
BEGIN:VEVENT
DTSTART;TZID=Asia/Krasnoyarsk:20241114T103000
DTEND;TZID=Asia/Krasnoyarsk:20241114T200000
DTSTAMP:20260421T094233
CREATED:20241017T074059Z
LAST-MODIFIED:20241017T074059Z
UID:14749-1731580200-1731614400@www.eabc-thailand.org
SUMMARY:EEC Business Forum 2024
DESCRIPTION:On behalf of the Joint Foreign Chambers of Commerce (JFCCT)\, the Netherlands-Thai Chamber of Commerce (NTCC)\, and the co-chamber partners cordially invite you to join EEC Business Forum 2024: Accelerating the EEC as a Global Hub for the BCG Economy. Together with the support from Thailand Convention and Exhibition Bureau (TCEB)\, the Eastern Economic Corridor Office of Thailand (EECo)\, and private organizations\, the audience will gain knowledge on how the EEC area could provide a better life quality within the BCG concept. A field trip with presentations at PTT LNG in Map Ta Phut area will take place in the morning. \nPTT LNG is one of Thailand’s leading companies in the practical implementation of low-carbon\, green\, and circular technologies within the EEC area. They are offering a unique opportunity for business delegations to explore the EEC and showcase their initiatives related to the bio-circular-green (BCG) economy. \nMore presentations and a lively panel discussion followed by a sunset networking will all be held again in the afternoon at the InterContinental Pattaya Resort. During these interactions and networking opportunities\, people in the field surround you and exchange knowledge or identify some new business opportunities in Thailand’s Eastern Economic Corridor. \nEvent Details: \nDate:  14 November 2024 \nTime: 10.30 – 20.00 (GMT +7) \nLocation: \n(1) Venue: PTT LNG Nong Fab (LMPT2) (map​) \n(2) Venue: Phratamnak Ballroom\, InterContinental Pattaya Resort(map​) \nRegister: Here
URL:https://www.eabc-thailand.org/event/eec-business-forum-2024/
CATEGORIES:Co-Chamber Event
ATTACH;FMTTYPE=application/pdf:https://www.eabc-thailand.org/wp-content/uploads/2024/10/EEC-2024-Sponsorsip-Packages.pdf
END:VEVENT
BEGIN:VEVENT
DTSTART;TZID=Asia/Krasnoyarsk:20241121T183000
DTEND;TZID=Asia/Krasnoyarsk:20241121T210000
DTSTAMP:20260421T094233
CREATED:20241105T064935Z
LAST-MODIFIED:20241105T070012Z
UID:14778-1732213800-1732222800@www.eabc-thailand.org
SUMMARY:Multi-Chamber Networking Night on the Cruise
DESCRIPTION:You are warmly invited to join us for an exclusive Multi-Chamber Networking Night on the Cruise\, a unique evening designed to bring together professionals and businesses from various industries for networking and collaboration. \nEvent Details:\nDate: Thursday 21 November 2024\nTime: 6.30 p.m. – 9.00 p.m.\nLocation: Riverside Bangkok Hotel\, Soi Rajavithi 21\, Sirindhorn MRT station \nCruise: Riverside Bangkok Cruise \nRegister: here  \nThis is a wonderful opportunity to connect with members from multiple chambers in a relaxed\, scenic environment\, complete with refreshments\, live entertainment\, and breathtaking views. Additionally\, guests will experience the ambiance of Vijit Chao Phraya\, a special event along the Chao Phraya River featuring an immersive display of modern projection mapping\, lighting\, and multimedia at key points along the riverside. \nLimited Availability:\nSpaces are limited\, so please RSVP as soon as possible to secure your spot on the cruise. \nWe look forward to welcoming you aboard for an evening of connections and camaraderie.
URL:https://www.eabc-thailand.org/event/multi-chamber-networking-night-on-the-cruise-on-21-november-2024/
CATEGORIES:Co-Chamber Event
ATTACH;FMTTYPE=image/png:https://www.eabc-thailand.org/wp-content/uploads/2024/11/Multi-Chamber-Networking-Night-on-cruise-FB-Flyer.png
END:VEVENT
BEGIN:VEVENT
DTSTART;TZID=Asia/Krasnoyarsk:20241126T110000
DTEND;TZID=Asia/Krasnoyarsk:20241126T140000
DTSTAMP:20260421T094233
CREATED:20241107T025726Z
LAST-MODIFIED:20241119T075208Z
UID:14795-1732618800-1732629600@www.eabc-thailand.org
SUMMARY:EABC Luncheon: "Progress and Prospects in the EU-Thailand Free Trade Agreement Negotiations" on 26th November 2024 at the Athenee Hotel
DESCRIPTION:EABC\, the European Chamber of Commerce Thailand is delighted to organize the following Luncheon: Progress and Prospects in the EU-Thailand Free Trade Agreement Negotiations.\n\n  \nThis exclusive EABC Luncheon\, held alongside the fourth round of EU-Thailand FTA negotiations\, will bring together the Chief Negotiators from Thailand and the EU to share their views on the state of play of the negotiations. They will engage in a forward-looking dialogue with participants to discuss progress to date and hear the perspectives of Thai and EU business on the direction for the FTA negotiation\, offering valuable perspectives on the economic potential this agreement holds for both the EU and Thailand. \nThis luncheon will also serve as a platform for Thai and European businesses to engage directly with the Chief negotiators\, facilitating open dialogue on expectations\, opportunities\, and issues on the ground that will be essential to a successful FTA. \nEvent details: \n\n\nDate: Tuesday\, 26th November 2024\nTime: 11:00 AM – 14:00 PM\n\nVenue: The Athenee Hotel\n\n\nRegistration: here\n\nAgenda:\n\n\n11:00-11:45 – Registration\n11:45-12:30 – Luncheon (3 course meal)\n12:30-12:35 – Welcome remarks\n12.35-12:40 – Opening Remarks\, Ms. Renita Bhaskar\, Minister Counsellor\, European Union Delegation to Thailand\n12:40-12:50 – Progress and Prospects – The EU Perspective\, Mr. Christophe Kiener\, EU Chief Negotiator European Commission\n12:50-13:00 – Progress and Prospects – The Thai Perspective\, Ms. Chotima Iemsawasdikul\, Thailand Chief Negotiator\, Director General Department of Trade Negotiations\, Ministry of Commerce\n13:00-13:40: Panel discussion and Q&A. Moderator: Mr. Bob Fox\n13:40: Closing remarks\n13:45: Photo session\n14:00: End of the event\n\n\nTicket fees:\n\n1\,800 THB for Members of EABC\n1\,800 THB for Members of Supporting Chambers\n2\,400 THB for Non – Members\n\n  \nPAYMENT: \nBy bank transfer: Account Name: European Trade Association for Business and Commerce \nBank : Bangkok Bank (Empire Tower) \nA/C No: 857-7-0-2794-2 & By PromptPay payment: 010 955 400 1231 \nPlease kindly send us the proof of payment at office@eabc-thailand.org \n  \n \n  \n\n\n\nIMPORTANT REMARKS:\n\nRegistration will close on Friday\, 22 November\, at 6.00 PM\nRegistration mandatory. No walk-ins allowed.\nTo confirm your registration\, please proceed with bank transfer payment and send your proof of payment to office@eabc-thailand.org\nALL PAYMENTS MUST BE MADE IN ADVANCE TO EABC If payment is not received at least 24 hours prior to the event\, your spot may be given to someone on the waiting list.\nYou can cancel for free up to 48 hours (2 days) before the event\, and your payment will be fully refunded.\n\nCancellations made within less than 48 hours (2 days) of the event and no-shows will not be eligible for either a refund or credit.
URL:https://www.eabc-thailand.org/event/eabc-luncheon-seminar-progress-and-prospects-in-the-eu-thailand-free-trade-agreement-negotiations-on-26th-november-2024-at-the-athenee-hotel/
CATEGORIES:EABC Event
ATTACH;FMTTYPE=image/png:https://www.eabc-thailand.org/wp-content/uploads/2024/11/EABC-Luncheon-Seminar-2024-2-3.png
END:VEVENT
BEGIN:VEVENT
DTSTART;TZID=Asia/Krasnoyarsk:20241129T083000
DTEND;TZID=Asia/Krasnoyarsk:20241129T103000
DTSTAMP:20260421T094233
CREATED:20241127T101906Z
LAST-MODIFIED:20241127T102047Z
UID:14846-1732869000-1732876200@www.eabc-thailand.org
SUMMARY:AI in Education: A regional webinar for Thailand & Singapore business & education communities
DESCRIPTION:Artificial Intelligence has been with us for decades. Its uses have become widely embedded.  Generative AI (which now has several main platform offerings with ever-expanding capabilities) became popularly known only in late 2022. It is able to generate original looking content such as writing a term paper or research paper\, a speech\, creating images from text\, creating a podcast. \nIt is a great tool\, but there can be negative outcomes through misuse of AI – eg False information\, hallucinations\, intellectual property violations (many not new behaviours but potentially made easier by Gen AI). Prompting to instruct the generative AI platform has become an art and a science (Prompt Engineering) \nHow should Students use AI; what about Educators/Researchers\, and Institutions? \nJoin this webinar (organized by JFCCT’s Digital Economy/ICT and Sasin School of Management) for a dive into understanding trends and issues in AI in education\, which will be useful also in digital skills training in company environments. \nIn the Backgrounder: AI Governance (Table 1 in Annex) abounds. See Table 3 in the Annex for practices for AI in education relying on global\, regional and various national developments. \nA draft ‘ideal’ but non prescriptive policy paper will be provided before the event\, which will take in global\, regional and local practices and show sources. See item 4 in Annex in the Backgrounder. Please consider those issues\, they will be the main focus of the webinar. \nEvent Details: \nDate: Friday\, 29th November 2024 \nTime: 8:30-10:30 am (Indochina Time) \nRegistration: here \nNote: Please see the Backgrounder for more information: here \nPigeonhole: here  code:  JFCCTAI  (open 24 Nov – 30 Nov)
URL:https://www.eabc-thailand.org/event/ai-in-education-a-regional-webinar-for-thailand-singapore-business-education-communities/
CATEGORIES:Co-Chamber Event
ATTACH;FMTTYPE=image/jpeg:https://www.eabc-thailand.org/wp-content/uploads/2024/11/468441399_877036401277495_8418884146077545691_n.jpg
END:VEVENT
END:VCALENDAR