BEGIN:VCALENDAR
VERSION:2.0
PRODID:-//EABC Thailand - ECPv6.15.20//NONSGML v1.0//EN
CALSCALE:GREGORIAN
METHOD:PUBLISH
X-WR-CALNAME:EABC Thailand
X-ORIGINAL-URL:https://www.eabc-thailand.org
X-WR-CALDESC:Events for EABC Thailand
REFRESH-INTERVAL;VALUE=DURATION:PT1H
X-Robots-Tag:noindex
X-PUBLISHED-TTL:PT1H
BEGIN:VTIMEZONE
TZID:Asia/Krasnoyarsk
BEGIN:STANDARD
TZOFFSETFROM:+0700
TZOFFSETTO:+0700
TZNAME:+07
DTSTART:20230101T000000
END:STANDARD
END:VTIMEZONE
BEGIN:VTIMEZONE
TZID:Europe/Paris
BEGIN:DAYLIGHT
TZOFFSETFROM:+0100
TZOFFSETTO:+0200
TZNAME:CEST
DTSTART:20230326T010000
END:DAYLIGHT
BEGIN:STANDARD
TZOFFSETFROM:+0200
TZOFFSETTO:+0100
TZNAME:CET
DTSTART:20231029T010000
END:STANDARD
BEGIN:DAYLIGHT
TZOFFSETFROM:+0100
TZOFFSETTO:+0200
TZNAME:CEST
DTSTART:20240331T010000
END:DAYLIGHT
BEGIN:STANDARD
TZOFFSETFROM:+0200
TZOFFSETTO:+0100
TZNAME:CET
DTSTART:20241027T010000
END:STANDARD
BEGIN:DAYLIGHT
TZOFFSETFROM:+0100
TZOFFSETTO:+0200
TZNAME:CEST
DTSTART:20250330T010000
END:DAYLIGHT
BEGIN:STANDARD
TZOFFSETFROM:+0200
TZOFFSETTO:+0100
TZNAME:CET
DTSTART:20251026T010000
END:STANDARD
END:VTIMEZONE
BEGIN:VEVENT
DTSTART;TZID=Asia/Krasnoyarsk:20240903T090000
DTEND;TZID=Asia/Krasnoyarsk:20240903T163000
DTSTAMP:20260421T184314
CREATED:20240815T134928Z
LAST-MODIFIED:20240815T134928Z
UID:14409-1725354000-1725381000@www.eabc-thailand.org
SUMMARY:ESG Practices for SMEs: Strategies for thriving in the global green market
DESCRIPTION:“ESG Practices for SMEs: Strategies for Thriving in the Global Green Market\,” presented by the Office of SMEs Promotion (OSMEP)\, The Asia Foundation\, and the Joint Foreign Chambers of Commerce in Thailand (JFCCT). \nThis event\, part of the SMEs Go Global – Go Green project funded by Australia’s Department of Foreign Affairs and Trade (DFAT)\, is dedicated to advancing the integration of Environmental\, Social\, and Governance (ESG) practices among Thai SMEs. \nEvent Details: \nDate: 3rd September 2024 \nTime: 9:00 A.M. – 4:30 P.M. (Registration starts at 8:30 A.M.) \nVenue:  6th Floor\, Amari Bangkok \nRegister: Click here 
URL:https://www.eabc-thailand.org/event/esg-practices-for-smes-strategies-for-thriving-in-the-global-green-market/
CATEGORIES:Co-Chamber Event
ATTACH;FMTTYPE=image/png:https://www.eabc-thailand.org/wp-content/uploads/2024/08/event-ESG.png
END:VEVENT
BEGIN:VEVENT
DTSTART;TZID=Asia/Krasnoyarsk:20240903T173000
DTEND;TZID=Asia/Krasnoyarsk:20240903T183000
DTSTAMP:20260421T184314
CREATED:20240828T095100Z
LAST-MODIFIED:20240829T083235Z
UID:14499-1725384600-1725388200@www.eabc-thailand.org
SUMMARY:Singapore-Thai Chamber of Commerce Business Talk on Hotel Performance\, Market Trends Asia Pacific & Networking Night
DESCRIPTION:Join the Singapore-Thai Chamber of Commerce (STCC) for a thought-provoking discussion on Hotel Performance and Market Trends in Asia Pacific featuring industry expert Jesper Palmqvist! (speaker biography click here) \nNetworking opportunities with fellow industry professionals and delicious refreshments including wine\, beer\, soft drinks\, and cocktail-style food \nEvent Details: \nDate: Tuesday\, September 3\, 2024\nTime: \n5:30 PM – Registration\n6:00 PM – Business Talk\n6:30 PM – Networking Session\nVenue: Atelier Room\, 5th Floor\, Le Méridien Bangkok\nPrices: STCC Member: THB 950\nNon-Member: THB 1\,200 \nRegister here \n(Pre-payment required by Friday\, August 30\, 2024)
URL:https://www.eabc-thailand.org/event/singapore-thai-chamber-of-commerce-business-talk-on-hotel-performance-and-market-trends-asia-pacific-by-jesper-palmqvist-followed-by-networking-night/
CATEGORIES:Co-Chamber Event
ATTACH;FMTTYPE=image/jpeg:https://www.eabc-thailand.org/wp-content/uploads/2024/08/S__29835291.jpg
END:VEVENT
BEGIN:VEVENT
DTSTART;TZID=Asia/Krasnoyarsk:20240904T183000
DTEND;TZID=Asia/Krasnoyarsk:20240904T213000
DTSTAMP:20260421T184314
CREATED:20240816T075337Z
LAST-MODIFIED:20240816T081120Z
UID:14412-1725474600-1725485400@www.eabc-thailand.org
SUMMARY:Welcome Back Multi-Chambers Networking 2024
DESCRIPTION:BeLuThai  with Thai-Finish Chammber of Commerce\, Thai-Swedish Chamber of Commerce\, Thai-Sri Lanka Chamber of Commerce\, European Chamber of Commerce Thai\, Hellenic-Thai Chamber of Commerce\, South African-Thai Chamber of Commerce \, New Zealand Thai Chamber of Commerce\, Thai European Business Association\, and New Zealand-Thai Chamber of Commerce cordially invites you to the Welcome back Multi-Chambers Networking on Wednesday 4th September 2024 at Kimpton Maa-Lai Bangkok \nEvent Details: \nDate: Wednesday 4th September 2024 \nTime: 6.30 pm – 9.30 pm \nVenue: Kimpton Maa-Lai Bangkok \nTicket : \n\nMembers and Co-host Chambers 1\,200 THB\nNon-Member 1\,600 THB\n\nRegister: Here
URL:https://www.eabc-thailand.org/event/welcome-back-multi-chambers-networking-2024/
CATEGORIES:Co-Chamber Event
ATTACH;FMTTYPE=image/png:https://www.eabc-thailand.org/wp-content/uploads/2024/08/Welcome-Back-banner.png
END:VEVENT
BEGIN:VEVENT
DTSTART;TZID=Asia/Krasnoyarsk:20240905T180000
DTEND;TZID=Asia/Krasnoyarsk:20240905T210000
DTSTAMP:20260421T184314
CREATED:20240826T065733Z
LAST-MODIFIED:20240826T071326Z
UID:14483-1725559200-1725570000@www.eabc-thailand.org
SUMMARY:SweCham Business Connect 2024
DESCRIPTION:We warmly invite all members and friends to join us for the upcoming SweCham Business Connect on Thursday\, 5 September 2024 \nEvent Programme \n18:00 – 18:30 Registration Opens \n18:30 – 18:35 Guests are invited to gather for the presentation \n18:35 – 18:40 Welcoming remarks from the SweCham President \n18:40 – 19:00  Special Talk from Khun Narit Therdsteerasukdi on ‘Thailand’s Investment Strategy and Business Opportunities’ \n19:00 – 21:00  Networking and Mingle \nEvent Details: \nDate: Thursday\, 5 September 2024\nTime: 18:30 – 21:00\nVenue: Eastin Grand Hotel Sathorn (BTS Surasak) (MAP) \nTicket:  \nSweCham Members: 600 THB\nSupporting Organisations Members: 600 THB\nNon-members: 1\,200 THB \nRegister here \n*Prices include cocktail food and free-flow soft drinks and alcoholic drinks.\n**No cancellations 48 hrs before the event. No-shows will be invoiced. \nFor more details and to register\, please visit: https://www.eventcreate.com/e/swecham-business-connect-sep-2024
URL:https://www.eabc-thailand.org/event/swecham-business-connect-2024/
CATEGORIES:Co-Chamber Event
ATTACH;FMTTYPE=image/png:https://www.eabc-thailand.org/wp-content/uploads/2024/08/2024.09.05_SweCham-Business-Connect_AW.png
END:VEVENT
BEGIN:VEVENT
DTSTART;TZID=Asia/Krasnoyarsk:20240906T083000
DTEND;TZID=Asia/Krasnoyarsk:20240906T120000
DTSTAMP:20260421T184314
CREATED:20240807T075637Z
LAST-MODIFIED:20240807T075637Z
UID:14382-1725611400-1725624000@www.eabc-thailand.org
SUMMARY:Investment Climate in Indonesia and Malaysia: Legal and Tax Framework\, Opportunities and Strategic Considerations for Thai Investors
DESCRIPTION:As part of DFDL’s 30th anniversary celebrations\, we’re excited to announce our 5th event\, centering on investment opportunities in Indonesia and Malaysia\, two of the most vibrant markets of Southeast Asia. \nEvent Details:  \nDate: Friday\, 6 September 2024\nTime: 8.30 AM – 12.00 PM \nVenue: House on Sathorn\, 106 North Sathon Road\, Bangkok 10500 \nRegister : here  \nSpecial Offering: Exclusive 1:1 meeting available upon request. \nThis exclusive event is designed for Business Executives and General Counsels\, with complimentary admission. Due to limited space\, RSVP is mandatory. \n 
URL:https://www.eabc-thailand.org/event/investment-climate-in-indonesia-and-malaysia-legal-and-tax-framework-opportunities-and-strategic-considerations-for-thai-investors/
CATEGORIES:Member Event
ATTACH;FMTTYPE=image/png:https://www.eabc-thailand.org/wp-content/uploads/2024/08/DFDL-Thailand-Invitation.png
END:VEVENT
BEGIN:VEVENT
DTSTART;TZID=Europe/Paris:20240917T120000
DTEND;TZID=Europe/Paris:20240917T130000
DTSTAMP:20260421T184314
CREATED:20240910T022850Z
LAST-MODIFIED:20240910T070301Z
UID:14565-1726574400-1726578000@www.eabc-thailand.org
SUMMARY:Corporate Sustainability Due Diligence Directive: Compliance Strategies & Key Implications
DESCRIPTION:The Corporate Sustainability Due Diligence Directive (CSDDD)\, approved earlier this year\, mandates companies of more than 1\,000 employees with a turnover of more than EUR450 million to conduct due diligence across their entire supply chains to mitigate adverse impacts of their activities on human rights and environmental protection. \nTo better understand the key implications and strategies for effective compliance with this initiative\, we invite you to a special one-hour\, online event focusing on the Corporate Sustainability Due Diligence Directive (CSDDD).\nDan Dionisie and Zsofia Kerecsen from the European Commission’s DG JUST will provide an online overview of the CSDDD.\nAntony Crockett\, a partner at Herbert Smith Freehills\, will give a presentation on what companies will need to do to comply with the requirements of the CSDDD. \nWebinar Details: \nTitle: Corporate Sustainability Due Diligence Directive: Compliance Strategies & Key Implications\nDate: 17 September 2024\nTime: 12:00 to 13:00 CET\nPlatform: ZOOM \nPlease register here
URL:https://www.eabc-thailand.org/event/corporate-sustainability-due-diligence-directive-compliance-strategies-key-implications/
CATEGORIES:Co-Chamber Event
ATTACH;FMTTYPE=image/png:https://www.eabc-thailand.org/wp-content/uploads/2024/09/CS3D-Banner-1.png
END:VEVENT
BEGIN:VEVENT
DTSTART;TZID=Asia/Krasnoyarsk:20240925T163000
DTEND;TZID=Asia/Krasnoyarsk:20240925T173000
DTSTAMP:20260421T184314
CREATED:20240826T062819Z
LAST-MODIFIED:20240826T062819Z
UID:14462-1727281800-1727285400@www.eabc-thailand.org
SUMMARY:Bridging Commerce and Rights Advocacy: What business associations bring to rights advocacy
DESCRIPTION:Join us for this year’s UN Responsible Business and Human Rights Forum\, with the theme: \nBridging Commerce and Rights Advocacy: What business associations bring to rights advocacy \nEvent Details: \nDate: 25 September 2024 \nTime: 16.30 – 17.30 \nVenue: United Nations Conference Centre (UNCC – BKK)\, Bangkok City\, Thailand \nRegister  Here \nThe forum will be a hybrid event. Please fill in the corresponding registration form for in-person or virtual participation. \nFor the latest updates\, visit the forum website: https://www.rbhrforum.com/
URL:https://www.eabc-thailand.org/event/bridging-commerce-and-rights-advocacy-what-business-associations-bring-to-rights-advocacy/
CATEGORIES:Co-Partner Event
ATTACH;FMTTYPE=image/jpeg:https://www.eabc-thailand.org/wp-content/uploads/2024/08/UN.jpg
END:VEVENT
END:VCALENDAR