BEGIN:VCALENDAR
VERSION:2.0
PRODID:-//EABC Thailand - ECPv6.15.20//NONSGML v1.0//EN
CALSCALE:GREGORIAN
METHOD:PUBLISH
X-WR-CALNAME:EABC Thailand
X-ORIGINAL-URL:https://www.eabc-thailand.org
X-WR-CALDESC:Events for EABC Thailand
REFRESH-INTERVAL;VALUE=DURATION:PT1H
X-Robots-Tag:noindex
X-PUBLISHED-TTL:PT1H
BEGIN:VTIMEZONE
TZID:Asia/Krasnoyarsk
BEGIN:STANDARD
TZOFFSETFROM:+0700
TZOFFSETTO:+0700
TZNAME:+07
DTSTART:20210101T000000
END:STANDARD
END:VTIMEZONE
BEGIN:VEVENT
DTSTART;TZID=Asia/Krasnoyarsk:20220215T150000
DTEND;TZID=Asia/Krasnoyarsk:20220215T170000
DTSTAMP:20260421T184303
CREATED:20220210T081858Z
LAST-MODIFIED:20220210T082817Z
UID:10306-1644937200-1644944400@www.eabc-thailand.org
SUMMARY:ASEAN Webinar: the webinar on Electric Vehicles Infrastructure - Challenges and Opportunities in Singapore\, Malaysia\, Philippines and Vietnam.
DESCRIPTION:Please find below the invitation for the webinar on Electric Vehicles Infrastructure – Challenges and Opportunities in Singapore\, Malaysia\, Philippines and Vietnam. \nThis is the first webinar of a series of 3 webinars on Electric Vehicles and Connected Vehicles in ASEAN and is co-organsised by EBOs of  Singapore\, Vietnam\, Philippines\, and Malaysia\, members of the EBO WWN chapter ASEAN. \nDate & Time:\n15 February 2022\, Tuesday\n4:00 pm – 5:45 pm SGT\n9:00 pm – 10:45 am CET \nRegistration fee:\nEuroCham  Members: FREE\nNon-members: FREE                                                                                                                                                                                            Register Here
URL:https://www.eabc-thailand.org/event/asean-webinar-the-webinar-on-electric-vehicles-infrastructure-challenges-and-opportunities-in-singapore-malaysia-philippines-and-vietnam/
CATEGORIES:Co-Chamber Event,Co-Partner Event
ATTACH;FMTTYPE=image/png:https://www.eabc-thailand.org/wp-content/uploads/2022/02/Eurocham-15-Feb-2022-e1644480493676.png
END:VEVENT
BEGIN:VEVENT
DTSTART;TZID=Asia/Krasnoyarsk:20220216T093000
DTEND;TZID=Asia/Krasnoyarsk:20220216T123000
DTSTAMP:20260421T184303
CREATED:20220207T041302Z
LAST-MODIFIED:20220207T041748Z
UID:10287-1645003800-1645014600@www.eabc-thailand.org
SUMMARY:EU Industry Intellectual Property for the Green Tech and Digital Economy Sectors.
DESCRIPTION:They would like to invite you to the following webinar “Intellectual Property for the Green Tech and Digital Economy Sectors” (16 Februrary\, 9:30-12:30) that we are organising in the framework of the EU Industry Week. \nThey encourage you also to disseminate this link to your SMEs. Indeed\, when registering\, they will have the opportunity to book a 1:1 meeting with one of our IP Business Advisor to discuss their intellectual property in: \n\nEurope\nSouth-East Asia\nChina\nIndia\nLatin America\nAfrica\n\n  \nRegister here: https://events.euconf.eu/ipforgreenanddigital/home \n 
URL:https://www.eabc-thailand.org/event/eu-industry-intellectual-property-for-the-green-tech-and-digital-economy-sectors/
CATEGORIES:Co-Chamber Event
ATTACH;FMTTYPE=image/png:https://www.eabc-thailand.org/wp-content/uploads/2022/02/IP-Desk-.png
END:VEVENT
BEGIN:VEVENT
DTSTART;TZID=Asia/Krasnoyarsk:20220224T143000
DTEND;TZID=Asia/Krasnoyarsk:20220224T160000
DTSTAMP:20260421T184303
CREATED:20220207T042525Z
LAST-MODIFIED:20220209T090921Z
UID:10291-1645713000-1645718400@www.eabc-thailand.org
SUMMARY:STCC: Digital Channels to grow your business Online in Thailand
DESCRIPTION:Spanish – Thai Chamber of Commerce and Relevant Audience are pleased to invite you to join their webinar for Best Digital Channels to grow your business Online in Thailand.\n\n\n\nDate: Thursday\, February 24 2022\nTime: 14.30 -16.00 hrs.\nEntry fee: FOC for participating chamber members\n\nRegistration Link:https://lnkd.in/giZFD4b2\n\n\n\n\n\n\nTopic Review:\nThe transition to “Digital First” or adoption of digital transformation can’t be delayed\, when your sales drop due to not being reachable online by your possible customers\, it is already too late.\n\n\nThe pandemic has accelerated the change of shopping behavior of your customers in Thailand\, but have your company moved to the right speed or do your main stakeholders still believe this is a trend?\n\n\nIn the webinar\, we will give you advice on the first steps and main digital channels your company should be present and how to convince your management to move forward.
URL:https://www.eabc-thailand.org/event/stcc-digital-channels-to-grow-your-business-online-in-thailand/
CATEGORIES:Co-Chamber Event
ATTACH;FMTTYPE=image/png:https://www.eabc-thailand.org/wp-content/uploads/2022/02/Best-Digital-Channels-to-grow-your-business-Online-in-Thailand-1.png
END:VEVENT
BEGIN:VEVENT
DTSTART;TZID=Asia/Krasnoyarsk:20220224T150000
DTEND;TZID=Asia/Krasnoyarsk:20220224T180000
DTSTAMP:20260421T184303
CREATED:20220214T094845Z
LAST-MODIFIED:20220214T094845Z
UID:10321-1645714800-1645725600@www.eabc-thailand.org
SUMMARY:EU & ASEAN Green Transition: Focus on Renewable Energies
DESCRIPTION:Find out more about EU green deal priorities and green agenda on 24 February with a focus on renewable energies! Featuring Ms Kadri Simson\, EU Commissioner for Energy and H.E. Suy Sem\, Cambodia Minister of Mines and Energy amongst other prominent speakers. \n\n\nThe framework of the EU Industry Days and Week 2022\, the EU Delegation to ASEAN and the EU-ASEAN Business Council is organising a webinar “EU & ASEAN green transition: focus on renewable energies” \nThe webinar will offer an overview of ongoing actions in the EU and ASEAN to support the EU green deal priorities and green agenda with a focus on renewable energies. It will present the opportunities that the Team Europe Initiative might offer in ASEAN for the decarbonisation of the energy sector. Speakers will focus on strengths of weaknesses of the renewable energies uptake and in exploring how to step up EU and ASEAN cooperation to achieve results in a short term. The webinar will be organised in the format of a moderated panel discussion (introduced by two video messages including from the EU Commissioner for Energy (TBC) and the Cambodia Minister for Mines and Energy (TBC). \nSoutheast Asia has significant potential for renewable energy. Most recently\, the Philippines and Vietnam have announced retiring coal-fired plants before the end of their life cycles\, as part of a massive initiative undertaken by the Asian Development Bank and others. However\, the progress to shift to renewables is slow\, especially as governments continue to implement strong economic incentives to cling to fossil fuels\, which is why it continues to be strong engagement on the part of the private sector to encourage policy change in this region. \nPotential for EU and ASEAN cooperation in the development and uptake of renewable energies is recognised by both sides as promising and as a key for achieving climate targets. Decarbonisation of the energy sector in ASEAN will be an important part of the fight against climate change and of the green transition of the economy. \n\n\n\nThis overview of ongoing actions in the EU & ASEAN to support these initiatives is not to be missed!\n\n\nDate : 24 Feb 2022 \nTime: 03:00 PM (Thailand Time) \nRegister : https://us02web.zoom.us/webinar/register/WN_Yy0woSj4TISKYIuLs6YnTA \n 
URL:https://www.eabc-thailand.org/event/eu-asean-green-transition-focus-on-renewable-energies/
CATEGORIES:Co-Chamber Event
ATTACH;FMTTYPE=image/jpeg:https://www.eabc-thailand.org/wp-content/uploads/2022/02/EU-Industry-e1644817493671.jpg
END:VEVENT
END:VCALENDAR