BEGIN:VCALENDAR
VERSION:2.0
PRODID:-//EABC Thailand - ECPv6.15.20//NONSGML v1.0//EN
CALSCALE:GREGORIAN
METHOD:PUBLISH
X-ORIGINAL-URL:https://www.eabc-thailand.org
X-WR-CALDESC:Events for EABC Thailand
REFRESH-INTERVAL;VALUE=DURATION:PT1H
X-Robots-Tag:noindex
X-PUBLISHED-TTL:PT1H
BEGIN:VTIMEZONE
TZID:Asia/Krasnoyarsk
BEGIN:STANDARD
TZOFFSETFROM:+0700
TZOFFSETTO:+0700
TZNAME:+07
DTSTART:20200101T000000
END:STANDARD
END:VTIMEZONE
BEGIN:VEVENT
DTSTART;TZID=Asia/Krasnoyarsk:20211102T120000
DTEND;TZID=Asia/Krasnoyarsk:20211110T140000
DTSTAMP:20260421T134222
CREATED:20211006T091910Z
LAST-MODIFIED:20211007T080017Z
UID:9784-1635854400-1636552800@www.eabc-thailand.org
SUMMARY:INVITATION Mazars' flagship conference
DESCRIPTION:Join Mazars’ annual flagship conference “Set for change: tax transparency\, a way towards sustainability”. \nA virtual interactive event split into 4 sessions. You can see the agenda here  \n2 November at 12-14:00 CET \n4 November at 12-14:00 CET \n9 November at 12-14:00 CET \n10 November at 12-14:00 CET \nAttendance is free\, Please registration here  \nLeaders from corporations\, NGOs\, institutions and Mazars’ professionals from all over the world will share their insights on how international companies can embrace sustainable taxation. You will be able to interact with the speakers and participants through dedicated one-to-one networking sessions. \nIf you have any questions\, please send email to tax.global@mazars.com
URL:https://www.eabc-thailand.org/event/invitation-mazars-flagship-conference/
CATEGORIES:Member Event
ATTACH;FMTTYPE=image/jpeg:https://www.eabc-thailand.org/wp-content/uploads/2021/10/Mazars-flagship-conference-banner--e1633593535972.jpg
ORGANIZER;CN="Marzars Thailand":MAILTO:tax.global@mazars.com
END:VEVENT
BEGIN:VEVENT
DTSTART;TZID=Asia/Krasnoyarsk:20211117T113000
DTEND;TZID=Asia/Krasnoyarsk:20211117T143000
DTSTAMP:20260421T134222
CREATED:20210618T050819Z
LAST-MODIFIED:20210618T072808Z
UID:9042-1637148600-1637159400@www.eabc-thailand.org
SUMMARY:CANCHAM Thailand: Experience of a Covid-19 Survivor & Vaccination Webinar
DESCRIPTION:Amid the global COVID-19 pandemic\, anxiety and fear are on the rise across the world. In this seminar\, we will explore the experience of Mr. Jen Meckhayai\, Executive Director of the Thai-Canadian Chamber of Commerce who was unfortunately tested positive for COVID -19. He will take us through his journey\, starting from first symptoms\, RT-PCR testing\, hospitalization\, and treatment at the hand of Bangkok Hospital. \nIn fact\, his journey intends to describe what actually happens in the process of COVID-19 care as a number of people might misunderstand due to wrong information obtained from invalid agents. From the Bangkok Hospital side\, Dr. Nantanit Chiamcharoenvut (Internal Medicine physician) will further explain the medical processes involved. \nIn addition\, updated information in regard to COVID-19 vaccination in Thailand will be discussed by Dr.Pojnicha Mekaroonkamol (Internal Medicine physician). \nEvent Details: \nDate:  17 November 2021 \nTime: 11:30 – 14:30  hrs. \nVenue: The Landmark Bangkok \nEntry fee: FOC for CanCham’s members and participating chambers \nSpeakers: \nDr. Nantanit Chiamcharoenvut \nDr. Pojnicha Mekaroonkamol \nRegistration link: https://canchamthailand.org/event-4300323 \n 
URL:https://www.eabc-thailand.org/event/cancham-thailand-experience-of-a-covid-19-survivor-vaccination-webinar/
CATEGORIES:Co-Chamber Event
ATTACH;FMTTYPE=image/png:https://www.eabc-thailand.org/wp-content/uploads/2021/05/WIL2021_Banner.png
END:VEVENT
BEGIN:VEVENT
DTSTART;TZID=Asia/Krasnoyarsk:20211117T133000
DTEND;TZID=Asia/Krasnoyarsk:20211117T150000
DTSTAMP:20260421T134222
CREATED:20211105T065839Z
LAST-MODIFIED:20211105T065839Z
UID:9956-1637155800-1637161200@www.eabc-thailand.org
SUMMARY:CANCHAM: A webinar about Labour Trends
DESCRIPTION:CanCham and Criterion are organizing a webinar\, Labour Trends: Why you should be recruiting right now ?\n\n\n\nKindly find more event details below.\nDate: Wednesday\, November 17\, 2021\nTime: 13.30 – 15:00\nVenue: Zoom\nEntry fee: FOC for participating chamber members\nRegistration Link: https://bit.ly/3k4bS45
URL:https://www.eabc-thailand.org/event/cancham-a-webinar-about-labour-trends/
CATEGORIES:Co-Chamber Event
ATTACH;FMTTYPE=image/png:https://www.eabc-thailand.org/wp-content/uploads/2021/11/Webinar-Banner-e1636095336626.png
END:VEVENT
BEGIN:VEVENT
DTSTART;TZID=Asia/Krasnoyarsk:20211122T080000
DTEND;TZID=Asia/Krasnoyarsk:20211124T170000
DTSTAMP:20260421T134222
CREATED:20210806T030008Z
LAST-MODIFIED:20211117T033139Z
UID:9456-1637568000-1637773200@www.eabc-thailand.org
SUMMARY:A Hannover Messe Event: Industrial Transformation ASIA-PACIFIC
DESCRIPTION:In an ever-changing and challenging landscape\, manufacturers are in urgent need of Industry 4.0 solutions to help future-proof and build a resilient business. Into its 4th edition\, the Industrial Transformation ASIA-PACIFIC – a HANNOVER MESSE event happening from 22-24 November 2021\, is an essential milestone for businesses to build a good core of talent and tech capabilities and\, more importantly\, to sustain these efforts vis-à-vis evolving customer needs. \nWith ‘Stepping Up Capabilities with Industry 4.0’ as the driving theme\, the event focuses on driving transformation to help businesses to START\, SCALE and SUSTAIN their journey in industry 4.0\, starting from People to Technology\, the event aims to inspire and prepare future workforces with the right technologies and skillsets. \nOrganised by Constellar and Deutsche Messe\, the international partner and organiser of the world-renowned Hannover Messe\, this event is strongly supported by various government agencies\, along with their regional counterparts as well as global industry leaders and key players in the region’s business ecosystem. \nDate: 22 – 24 November 2021 \nTime: 08.00 – 17.00hrs (BKK time) \nRegistration: https://bit.ly/2YrNQs1 (100 complimentary passes for ALL EABC members to redeem!) \nEvent website: https://industrial-transformation.com/ \nFind out more on how to attend physically in the attachment below.
URL:https://www.eabc-thailand.org/event/industrial-transformation-asia-pacific/
CATEGORIES:Co-Partner Event,Partner Event
ATTACH;FMTTYPE=image/jpeg:https://www.eabc-thailand.org/wp-content/uploads/2021/08/ITAP-3Reason-03.jpg
END:VEVENT
BEGIN:VEVENT
DTSTART;TZID=Asia/Krasnoyarsk:20211125T120000
DTEND;TZID=Asia/Krasnoyarsk:20211125T143000
DTSTAMP:20260421T134222
CREATED:20211108T075525Z
LAST-MODIFIED:20211108T075525Z
UID:9968-1637841600-1637850600@www.eabc-thailand.org
SUMMARY:FrancoThai & TEBA: LUNCH TALK on “Reopening Thailand: Main Targets and Ways to Achieve them”
DESCRIPTION:Franco Thai and TEBA would  like to invite members and non members to participate the Lunch talk event on detail below; \nDate & Time:  Thursday 25th November 2021\, from 12.00 – 14.30 PM \nVenue: Ballroom\, SO Bangkok (at the corner of Sathorn Tai and Rama 4 Road). \nTentative Agenda: \n11:30 AM:                  Registration \n12.00 – 13.00 PM:    3-Course Western Set Lunch \n13.00 – 13.05PM:     Welcome address by Pierre Jaffre\, Chairman of the European Aerospace Committee \n13.05 -13.10PM:       Opening address  by H.E. Mr. David Daly\, the Ambassador of the European Union to Thailand (TBC) \n13.10 – 13.20PM:    Keynote speech by H.E. Anutin Charnvirakul \,Deputy Prime Minister & Minister of Public Health \n13.20 -13.30PM:      Group Photo \n13.30 -14.15PM       Panel Discussion on “Main Targets and Ways to Achieve them” \n\nYuthasak Supasorn\, TAT Governor (TBC)\nSarun Benjanirat\, CAAT Deputy Director\nLouis Moser\, IATA Area Manager Thailand\, Laos\, Cambodia\, Myanmar\nModerators: Pierre Jaffre\, Chairman of the European Aerospace Committee & Mr. Stefan Molnar\, Co-Chairman\n\n14.20-14.30PM:     Adjournment \nParticipation Fees: \n1\,500 THB net for Members of all Participating Chambers \n1\,800 THB net for Non-Members \nRegistration Link: https://teba.wufoo.com/forms/z8yrno81ns60r2/ \n 
URL:https://www.eabc-thailand.org/event/francothai-teba-lunch-talk-on-reopening-thailand-main-targets-and-ways-to-achieve-them/
LOCATION:So Sofitel Bangkok Hotel\, 2 North Sathorn Road\, Bangkok\, Bangkok\, 10500\, Thailand
CATEGORIES:Co-Chamber Event
ATTACH;FMTTYPE=image/jpeg:https://www.eabc-thailand.org/wp-content/uploads/2021/11/EAC_LT_25Nov_Banner_updated-e1636357395146.jpg
ORGANIZER;CN="Franco-Thai Chamber of Commerce":MAILTO:events@francothaicc.com
END:VEVENT
BEGIN:VEVENT
DTSTART;TZID=Asia/Krasnoyarsk:20211130T140000
DTEND;TZID=Asia/Krasnoyarsk:20211130T170000
DTSTAMP:20260421T134222
CREATED:20211108T073119Z
LAST-MODIFIED:20211108T073119Z
UID:9965-1638280800-1638291600@www.eabc-thailand.org
SUMMARY:Webinar "New Frontier of Medical Collabration - Explore Poland x Thailand Medical Innovation & Growth Opportunities"
DESCRIPTION:They would like to invite you to join webinar “New Frontier of Medical Collaboration – Explore Poland x Thailand Medical Innovation & Growth Opportunities” \nOverview: \n\nHear from our industry experts from THAIMED and Poland MedSilesia Cluster.\nLearn where could be Your Next New Growth Segment and how to be involved in international partnership between Poland and Thailand.\nDiscover the latest Poland Medical technology innovation on 5 Prime Segments from Health Informatics\, Diagnostic\, Telemedicine\, Medical Equipment & Furniture to Rehabilitation technology.\n\nDate: on Tuesday 30th November 2021 \nTime: from 2.30 p.m. to 5.00 p.m. (GMT 7:00) \nPrice: Free of Charge \nRegistration: Free to register
URL:https://www.eabc-thailand.org/event/webinar-new-frontier-of-medical-collabration-explore-poland-x-thailand-medical-innovation-growth-opportunities/
CATEGORIES:Co-Chamber Event
ATTACH;FMTTYPE=image/png:https://www.eabc-thailand.org/wp-content/uploads/2021/11/Webinar-Poland-30-Nov-e1636356597560.png
END:VEVENT
END:VCALENDAR