BEGIN:VCALENDAR
VERSION:2.0
PRODID:-//EABC Thailand - ECPv6.15.20//NONSGML v1.0//EN
CALSCALE:GREGORIAN
METHOD:PUBLISH
X-WR-CALNAME:EABC Thailand
X-ORIGINAL-URL:https://www.eabc-thailand.org
X-WR-CALDESC:Events for EABC Thailand
REFRESH-INTERVAL;VALUE=DURATION:PT1H
X-Robots-Tag:noindex
X-PUBLISHED-TTL:PT1H
BEGIN:VTIMEZONE
TZID:Asia/Krasnoyarsk
BEGIN:STANDARD
TZOFFSETFROM:+0700
TZOFFSETTO:+0700
TZNAME:+07
DTSTART:20200101T000000
END:STANDARD
END:VTIMEZONE
BEGIN:VEVENT
DTSTART;TZID=Asia/Krasnoyarsk:20210720T090000
DTEND;TZID=Asia/Krasnoyarsk:20210720T110000
DTSTAMP:20260422T061235
CREATED:20210706T093822Z
LAST-MODIFIED:20210707T050747Z
UID:9272-1626771600-1626778800@www.eabc-thailand.org
SUMMARY:German-Thai Railway Association – GTRA
DESCRIPTION:The German-Thai Railway Association (GTRA)\, which EABC is a founding member is organizing a virtual meeting on “Developing German-Thai cooperation and Tech-Localization for enhancing the service quality and attractiveness of Railway in Thailand”. The meeting will be held on Tuesday\, 20th July 2021\, 9:00-11:00 AM. \nThis talk will explore opportunities for both Thai and German industry to develop their business in the railway market in Thailand through joining hands. During this event\, industry representatives will share their experience\, insights and ideas on how specifically Thai-German industry collaborations can exploit new synergies which can result in enhanced quality and attractiveness of railway services in Thailand. Supporting mechanisms such as technology transfer\, tech localization and standardization will also be discussed. \nThe talk is structured by 3 guiding questions and concludes with a Q&A round\, giving the audience an opportunity to engage with the speakers.  Mr. Georg Wolff\, EABC Vice-President & Chairperson of the EABC Working Group Rail and Road Infrastructure will be one of the speakers. \nRegistration is available at https://forms.gle/dExpGPS2QF8Ky8Wg6. The on-line meeting link will be sent to registered e-mail one day ahead of the event.
URL:https://www.eabc-thailand.org/event/german-thai-railway-association-gtra/
CATEGORIES:Member Event
ATTACH;FMTTYPE=image/jpeg:https://www.eabc-thailand.org/wp-content/uploads/2021/07/Online-GTRA-Talk--e1625634406714.jpg
END:VEVENT
BEGIN:VEVENT
DTSTART;TZID=Asia/Krasnoyarsk:20210722T150000
DTEND;TZID=Asia/Krasnoyarsk:20210722T163000
DTSTAMP:20260422T061235
CREATED:20210709T091258Z
LAST-MODIFIED:20210709T091521Z
UID:9296-1626966000-1626971400@www.eabc-thailand.org
SUMMARY:Business Roundtable: Socially Responsible Business Practices in the Automotive Sector in Asia
DESCRIPTION:EABC is pleased to invite you to the Business Roundtable: Socially Responsible Business Practices in the Automotive Sector in Asia on Thursday\, 22nd July 2021 at 15.00-16.30. \nThis business roundtable\, supported by the “Responsible Supply Chains in Asia” (RSCA) programme\, aims to provide space for leading companies and suppliers in the automotive sector in Thailand to share their best practices in socially responsible business practices through their supply chains\, which help businesses to become more resilient\, sustainable and competitive in the long run. \nThis event is jointly organised by the European Association for Business and Commerce (EABC)\, the Thai European Business Association (TEBA)\, and the International Labour Organization (ILO). \n  \nAgenda: https://mcusercontent.com/faa1912c8c3caf1a972da3703/files/60589c47-97ea-6843-325d-60465acc4bc6/Agenda_Business_Roundtable_06072021.pdf\nRegistration: https://zoom.us/meeting/register/tJwpfu2gqDwpGtMm0vz6p7c2jFujUUEUvbib  \n 
URL:https://www.eabc-thailand.org/event/business-roundtable-socially-responsible-business-practices-in-the-automotive-sector-in-asia/
CATEGORIES:Co-Chamber Event
ATTACH;FMTTYPE=image/jpeg:https://www.eabc-thailand.org/wp-content/uploads/2021/07/Automotive-Banner_RCSA02_RE01-e1625635751300.jpg
END:VEVENT
BEGIN:VEVENT
DTSTART;TZID=Asia/Krasnoyarsk:20210728T080000
DTEND;TZID=Asia/Krasnoyarsk:20210728T170000
DTSTAMP:20260422T061235
CREATED:20210715T095704Z
LAST-MODIFIED:20210715T095704Z
UID:9352-1627459200-1627491600@www.eabc-thailand.org
SUMMARY:EuroCham Free Webinar: Progressing the development of Agri-innovations Part II - Showcasing ASEAN Working Models
DESCRIPTION:In this  progressing Agri-Innovation in the region\, They will focus on collaborations across corporates\, start-ups and ecosystem enablers and how these organisations are structuring engagement and investment to help accelerate better outcomes. \nEncouraging and supporting Agri-tech solutions aimed at innovating the way soil\, crops\, nutrients and related-tech are funded\, farmed\, harvested\, processed\, traced and transported is crucial. They look forward to understanding how leaders are connecting within the SG and SEA innovation eco-system to enable smallholders to introduce innovative and scalable solutions to meet affordable and evolving requirements. \nThis will be an insightful session with showcases of the new models\, approaches\, and initiatives being pursued in the region. \nDate: 28 July 2021 \nTime: 4:30 PM – 6:00 PM (SGT) \nFor more details  & registration please click HERE
URL:https://www.eabc-thailand.org/event/eurocham-free-webinar-progressing-the-development-of-agri-innovations-part-ii-showcasing-asean-working-models/
CATEGORIES:Co-Chamber Event
ATTACH;FMTTYPE=image/png:https://www.eabc-thailand.org/wp-content/uploads/2021/07/Eurocham.png
END:VEVENT
BEGIN:VEVENT
DTSTART;TZID=Asia/Krasnoyarsk:20210729T173000
DTEND;TZID=Asia/Krasnoyarsk:20210729T210000
DTSTAMP:20260422T061235
CREATED:20210715T034556Z
LAST-MODIFIED:20210715T034556Z
UID:9332-1627579800-1627592400@www.eabc-thailand.org
SUMMARY:Joint Chambers Tech & The City x Chiang Mai Connect: Agri/Food-tech entrepreneurs Talk & Networking
DESCRIPTION:The next Joint Chambers Tech & The City event in Chiang Mai will be hosted on Thursday 29th July. \nEvent name: Joint Chambers Tech & The City x Chiang Mai Connect: Agri/Food-tech entrepreneurs Talk & Networking. \nDate: Thursday 29th July 2021 \nTime: 17.30 – 21.00 hrs \nLocation: One Sala @ One Nimman \nBooking link: https://app.glueup.com/event/40383/register/ \nFacebook event: https://www.facebook.com/events/567304174286573 \nYou can find full details of the event here: https://bit.ly/36x43g2. \nEntrance fees: Free of charge\, pre-registration is encouraged \n*Only 30 pax attendees allowed to physically attend\, there will be an option for other interested participants to join the talk online (Zoom link will be sent prior to the event).\n 
URL:https://www.eabc-thailand.org/event/joint-chambers-tech-the-city-x-chiang-mai-connect-agri-food-tech-entrepreneurs-talk-networking/
LOCATION:One Sala @ One Nimman\, Thailand
CATEGORIES:Co-Chamber Event
ATTACH;FMTTYPE=image/png:https://www.eabc-thailand.org/wp-content/uploads/2021/07/NIA_AgriFood-02-e1626320077322.png
END:VEVENT
BEGIN:VEVENT
DTSTART;TZID=Asia/Krasnoyarsk:20210730T000000
DTEND;TZID=Asia/Krasnoyarsk:20210916T000000
DTSTAMP:20260422T061235
CREATED:20210730T081907Z
LAST-MODIFIED:20210730T081907Z
UID:9448-1627603200-1631750400@www.eabc-thailand.org
SUMMARY:EABC:The Asia Pacific\, Asia Pacific Rail
DESCRIPTION:The must-attend event for rail professionals across the Asia Pacific\, Asia Pacific Rail is back on 15 & 16 September 2021\, LIVE ONLINE. As the world recovers and rebuilds in 2021\, there’s never been a more important time for the global rail industry to come together to collaborate to meet the changing passenger demands and patterns. So\, in conjunction with our partners\, we are bringing Asia Pacific Rail 2021 to you virtually. \nOver two days\, Asia Pacific Rail 2021 will cover key topics in Digital Rail\, Signalling & Communications\, Operations &Maintenance\, Asset Management\, and Project Updates. \nAsia Pacific Rail will consist of: \n\nA showcase of the latest innovations\, best practices to the rail industry\n100+ railway industry experts speaking at the event\n2000+ attendees from rail authorities & Operators\, Rolling Stock\, Signalling\, rail component manufacturers\, and many more\n\nJoin in live from wherever you are or watch the sessions on-demand. \nRegister now: www.terrapinn.com/jointheAPRail2021
URL:https://www.eabc-thailand.org/event/eabcthe-asia-pacific-asia-pacific-rail/
CATEGORIES:Partner Event
ATTACH;FMTTYPE=image/png:https://www.eabc-thailand.org/wp-content/uploads/2021/07/eabc-e1627632306755.png
END:VEVENT
BEGIN:VEVENT
DTSTART;TZID=Asia/Krasnoyarsk:20210730T140000
DTEND;TZID=Asia/Krasnoyarsk:20210730T170000
DTSTAMP:20260422T061235
CREATED:20210715T074626Z
LAST-MODIFIED:20210715T074626Z
UID:9346-1627653600-1627664400@www.eabc-thailand.org
SUMMARY:IPKey SEA: Thailand MoU on the Protection of Intellectual Property Rights on the Internet
DESCRIPTION:IPKey SEA organizes the technical meeting on “Thailand MoU on the Protection of Intellectual Property Rights on the Internet” on July 30\, 2-5 pm. \nIn this event\, Mr. Franck Fougere\, Chair of Intellectual Property Rights Working Group\, and Mr. Bob Fox\, Chair of Digital Economy/ICT Working Group and Vice President of EABC are invited to be the speaker on “EU Business Perspective on the Prospects and Implementation of the Thailand MoU”. \nPlease see the attachment below for the agenda of the event.\nIf you are interested\, please register via https://lnkd.in/giwQXkB
URL:https://www.eabc-thailand.org/event/ipkey-sea-thailand-mou-on-the-protection-of-intellectual-property-rights-on-the-internet/
CATEGORIES:EABC Event
ATTACH;FMTTYPE=image/jpeg:https://www.eabc-thailand.org/wp-content/uploads/2021/07/IPKey-SEA-30-July-e1626335054138.jpg
END:VEVENT
END:VCALENDAR