BEGIN:VCALENDAR
VERSION:2.0
PRODID:-//EABC Thailand - ECPv6.15.20//NONSGML v1.0//EN
CALSCALE:GREGORIAN
METHOD:PUBLISH
X-WR-CALNAME:EABC Thailand
X-ORIGINAL-URL:https://www.eabc-thailand.org
X-WR-CALDESC:Events for EABC Thailand
REFRESH-INTERVAL;VALUE=DURATION:PT1H
X-Robots-Tag:noindex
X-PUBLISHED-TTL:PT1H
BEGIN:VTIMEZONE
TZID:Asia/Krasnoyarsk
BEGIN:STANDARD
TZOFFSETFROM:+0700
TZOFFSETTO:+0700
TZNAME:+07
DTSTART:20200101T000000
END:STANDARD
END:VTIMEZONE
BEGIN:VEVENT
DTSTART;TZID=Asia/Krasnoyarsk:20210303T131500
DTEND;TZID=Asia/Krasnoyarsk:20210303T152000
DTSTAMP:20260422T131337
CREATED:20210222T095256Z
LAST-MODIFIED:20210222T095850Z
UID:8627-1614777300-1614784800@www.eabc-thailand.org
SUMMARY:STCC : Webinar on Growing Ideas for SME During Covid-19 Macroeconomic Updates & Foreign Exchange Market Trends
DESCRIPTION:Singapore Thai Chamber of Commerce would like to invite you to join the Flyer Webinar on Growing Ideas for SME During Covid-19 Macroeconomic Updates & Foreign Exchange Market Trends on 3rd March 2021. \nKindly circulate to your member for their interest. For registration please can at QR code. \n 
URL:https://www.eabc-thailand.org/event/stcc-webinar-on-growing-ideas-for-sme-during-covid-19-macroeconomic-updates-foreign-exchange-market-trends/
CATEGORIES:Co-Chamber Event
ATTACH;FMTTYPE=image/jpeg:https://www.eabc-thailand.org/wp-content/uploads/2021/02/STCC-web-.jpg
ORGANIZER;CN="Singapore - Thai Chamber of Commerce":MAILTO:marketing@singaporethaicc.or.th
END:VEVENT
BEGIN:VEVENT
DTSTART;TZID=Asia/Krasnoyarsk:20210309T100000
DTEND;TZID=Asia/Krasnoyarsk:20210310T160000
DTSTAMP:20260422T131337
CREATED:20210212T061128Z
LAST-MODIFIED:20210215T033238Z
UID:8564-1615284000-1615392000@www.eabc-thailand.org
SUMMARY:Shaping the Energy of Tomorrow organized by Siemens Energy Asia Pacific
DESCRIPTION:Siemens Energy Asia Pacific will be hosting a 2-day online conference “Asia Pacific Energy Week – Shaping the Energy of Tomorrow” from March 9-10\, 2021\, to tackle the tough challenges facing the entire energy industry today. he questions that arise: How can we meet the growing demand for electricity and protect our climate at the same time? How can we build new energy systems across the globe and combat climate change by making sustainable\, reliable\, and affordable energy possible? \nFor more information and registration\, please go to https://apweek.siemens-energy-events.com/signup/landing \nAgenda \n\nMarch 9\, 2021  \n10:00 –11:10\nPanel Session 1: Energizing societies to enable successful and sustainable growth \nAs different countries have different resources and landscapes\, the path to sustainable energy varies from one country to another. This session will examine how to create a reliable\, affordable and decarbonized energy supply as the only way to achieve sustainable growth and prosperity for everyone. \n13:00 – 14:10\nPanel Session 2: The energy of tomorrow and the shift to a more sustainable world\nEver wondered what and how the energy of tomorrow will be like? This session will tackle the present and future challenges facing the power and energy industry as we advance towards greater sustainability\, innovation and ultimately the transformation of the energy landscape. \n15:00 –16:10 \nPanel Session 3: The power of digitalization in managing grid complexity \nWith the rapid pace of economic growth and increased electricity demand in the region\, efforts are being accelerated to ensure energy reliability. This session will explore how digitalization can support in managing the increased complexity of grids\, resulting from the transformation of the energy landscape – such as increased distributed generation and integration of renewable energy.\n\n \nMarch 10\, 2021  \n09:00 – 10:10\nPanel Session 1: The journey to decarbonized systems for a clean future \nIn the face of climate change\, which is the greatest threat of our era\, companies need to design investment strategies and portfolios that are resilient and sustainable. This session will explore decarbonization journey\, which we must quickly embark on\, to provide sustainable and affordable energy while responsibly reducing greenhouse gas emissions. \n10:30 – 11:40\nPanel Session 2: Offshore wind – How to create the best from the start\nThe offshore wind industry is growing at an exponential rate in Asia Pacific. This session will examine key learnings and best practices from Europe and how we can best manage the opportunities and challenges facing the expansion of offshore wind in Asia Pacific region. \n13:00 – 14:10\nPanel Session 3: Building a sustainable future for the hydrocarbon industry\nWhile the world is moving towards a zero-carbon future\, one focus is on the growing needs of the Oil & Gas sector in Asia Pacific region. This session will look into highlighting reliable and sustainable products and solutions throughout the entire oil and gas value-added process. \n15:00 –16:10 \nPanel Session 4: Opportunities and challenges for clean hydrogen in Asia Pacific \nIn a socially and economically diverse region\, each country has different abilities\, resources and roles to play in the clean hydrogen industry. The session will analyze the opportunities and roles of countries and businesses\, as well as the main challenges in developing clean hydrogen in Asia Pacific.
URL:https://www.eabc-thailand.org/event/siemens-energy-asia-pacific-shaping-the-energy-of-tomorrow/
CATEGORIES:Member Event
END:VEVENT
BEGIN:VEVENT
DTSTART;TZID=Asia/Krasnoyarsk:20210311T083000
DTEND;TZID=Asia/Krasnoyarsk:20210311T113000
DTSTAMP:20260422T131337
CREATED:20210310T230052Z
LAST-MODIFIED:20210310T053219Z
UID:8696-1615451400-1615462200@www.eabc-thailand.org
SUMMARY:EABC Working Group Meeting
DESCRIPTION:Upcoming Working Group Meeting\n\n\n\n11 March 2021\,  Digital Economy/ICT Working Group regular Meeting 3/2021 (and look out\nfor special purpose meetings) \n12 March 2021\,  Healthcare and Pharmaceuticals Working Group Meeting 3/2021 \n17 March 2021\,  Industry Working Group Meeting 2/2021 \n24 March 2021\,  Tourism Working Group Meeting with JFCCT \nPlease contact Ms. Pimwan Pongsuwan\, Policy Manager (advocacy@eabc-thailand.org) about participation.
URL:https://www.eabc-thailand.org/event/eabc-working-group-meeting/
CATEGORIES:EABC Event
ATTACH;FMTTYPE=image/png:https://www.eabc-thailand.org/wp-content/uploads/2021/03/eabc-working-group.png
ORGANIZER;CN="EABC - European Association for Business and Commerce":MAILTO:executive.director@eabc-thailand.org
END:VEVENT
BEGIN:VEVENT
DTSTART;TZID=Asia/Krasnoyarsk:20210311T150000
DTEND;TZID=Asia/Krasnoyarsk:20210311T160000
DTSTAMP:20260422T131337
CREATED:20210302T071156Z
LAST-MODIFIED:20210302T071234Z
UID:8653-1615474800-1615478400@www.eabc-thailand.org
SUMMARY:ECCK Sustainable Development Goals Webinar Series 2021 on Paradigm shift: towards a resource efficient economy
DESCRIPTION:The European Chamber of Commerce in Korea (ECCK) has set Sustainability as a focus area for 2021. In order to contribute to a better world\, the ECCK has set up a webinar series on the United Nations Sustainable Development Goals (SDGs). H.E. BAN Ki-moon\, the eight Secretary-General of United Nations\, is supporting this initiative. ECCK will open this webinar series to all members of the European Business Organisation Worldwide Network (EBOWWN)\, spread out across 45 countries. \nDate: Thursday\, March 11\, 2021\nTime: 15:00 – 16:00 (BKK time)\nRegistration: ECCK SDGs Webinar Series 2021 on Paradigm shift – European Chamber of Commerce in Korea\nAdmission fee: Free of charge (this webinar is only open to ECCK and EBO WWN members) \nSpeaker:  \n \nMs. Saori DUBOURG\, Member of the Board of Executive Directors of BASF
URL:https://www.eabc-thailand.org/event/ecck-sustainable-development-goals-webinar-series-2021-on-paradigm-shift-towards-a-resource-efficient-economy/
CATEGORIES:Partner Event
ATTACH;FMTTYPE=image/png:https://www.eabc-thailand.org/wp-content/uploads/2021/03/Screenshot-2021-03-02-13.44.03.png
END:VEVENT
BEGIN:VEVENT
DTSTART;TZID=Asia/Krasnoyarsk:20210311T180000
DTEND;TZID=Asia/Krasnoyarsk:20210311T210000
DTSTAMP:20260422T131337
CREATED:20210305T072542Z
LAST-MODIFIED:20210308T031602Z
UID:8668-1615485600-1615496400@www.eabc-thailand.org
SUMMARY:CANCHAM KICKSTART PARTY
DESCRIPTION:EVENT DETAILS \nDate: Thursday\, March 11\, 2021 \nTime: 18:00 – 21:00 \nVenue: The Mango Tree Surawongse (MAP) \nDress Code: Casual \nEntry Fee:\nTHB 500 for Members\nTHB 800 for Non-members\n*The entry fee includes a complimentary cocktail\, amazing food by the Mango Tree\, and a lucky draw to be won. \n  \nFor information please see CLICK HERE \n 
URL:https://www.eabc-thailand.org/event/cancham-kickstart-party/
LOCATION:Mango Tree
CATEGORIES:Co-Chamber Event
END:VEVENT
BEGIN:VEVENT
DTSTART;TZID=Asia/Krasnoyarsk:20210324T183000
DTEND;TZID=Asia/Krasnoyarsk:20210324T210000
DTSTAMP:20260422T131337
CREATED:20210310T073445Z
LAST-MODIFIED:20210311T075040Z
UID:8703-1616610600-1616619600@www.eabc-thailand.org
SUMMARY:Singapore-Thai Chamber of Commerce Multi Chambers Networking Night
DESCRIPTION:Time to start 1st Multi Chambers Networking Night for year 2021. The event will take place on 24 March 2021 \nat Rib Room & Bar at Landmark Hotel\, 31st Floor. \n  \nRegistration here: https://www.singaporethaicc.or.th/event/multi-chambers-networking-night-16/ \n  \n  \n 
URL:https://www.eabc-thailand.org/event/singapore-thai-chamber-of-commerce-multi-chambers-networking-night/
LOCATION:The Landmark Bangkok
CATEGORIES:Co-Chamber Event
END:VEVENT
BEGIN:VEVENT
DTSTART;TZID=Asia/Krasnoyarsk:20210327T173000
DTEND;TZID=Asia/Krasnoyarsk:20210327T210000
DTSTAMP:20260422T131337
CREATED:20210311T080715Z
LAST-MODIFIED:20210311T085633Z
UID:8717-1616866200-1616878800@www.eabc-thailand.org
SUMMARY:Joint Chambers Tech & The City x Chiang Mai Connect: Tech ecosystem entrepreneurs meet-up & Networking.
DESCRIPTION:  \nEvent name: Joint Chambers Tech & The City x Chiang Mai Connect: Tech ecosystem entrepreneurs meet-up & Networking \nYou can find full details of the event here or below. \nDate: Saturday 27th March \nTime: 17.30 – 21.00 hrs. \nLocation: Artisan Digital Chiang Mai (map) \nBooking link: http://app.glueup.com/event/34206/register \nEntrance fees: Free of charge\, pre-registration is encouraged
URL:https://www.eabc-thailand.org/event/joint-chambers-tech-the-city-x-chiang-mai-connect-tech-ecosystem-entrepreneurs-meet-up-networking/
LOCATION:Artisan Digital Chiang Mai
CATEGORIES:Co-Chamber Event
ATTACH;FMTTYPE=image/jpeg:https://www.eabc-thailand.org/wp-content/uploads/2021/03/NIA-event-cover-01.jpg
END:VEVENT
END:VCALENDAR