BEGIN:VCALENDAR
VERSION:2.0
PRODID:-//EABC Thailand - ECPv6.15.20//NONSGML v1.0//EN
CALSCALE:GREGORIAN
METHOD:PUBLISH
X-WR-CALNAME:EABC Thailand
X-ORIGINAL-URL:https://www.eabc-thailand.org
X-WR-CALDESC:Events for EABC Thailand
REFRESH-INTERVAL;VALUE=DURATION:PT1H
X-Robots-Tag:noindex
X-PUBLISHED-TTL:PT1H
BEGIN:VTIMEZONE
TZID:Asia/Krasnoyarsk
BEGIN:STANDARD
TZOFFSETFROM:+0700
TZOFFSETTO:+0700
TZNAME:+07
DTSTART:20200101T000000
END:STANDARD
END:VTIMEZONE
BEGIN:VEVENT
DTSTART;TZID=Asia/Krasnoyarsk:20210211T133000
DTEND;TZID=Asia/Krasnoyarsk:20210211T150000
DTSTAMP:20260422T144841
CREATED:20210129T095446Z
LAST-MODIFIED:20210129T095446Z
UID:8420-1613050200-1613055600@www.eabc-thailand.org
SUMMARY:Cancham Webinar: Ways to reduce your Thai personal Income Tax 
DESCRIPTION:CanCham and MBMG are organizing a Webinar: Ways to reduce your Thai personal Income Tax. The event is scheduled for Thursday\, February 11\, 2021\, from 13:30 – 15:00. This event will focus on legitimate ways of minimizing Personal Income Tax (PIT) in Thailand through several allowances and savings. \n\nEvent Details\nDate: Thursday\, February 11\, 2021\nTime: 13:30 – 15:00\nVenue: Zoom – Webinar\nEntrance fee: FOC for CanCham’s members and participating chambers\n\n\n\nEvent Program\n13:30 Introduction to “Ways to reduce your Thai personal Income Tax”\n13:40 Insight from speakers\n14:00 Q&A Session\n15:00 Session ends\n\nSpeakers\nJames Fraser\, Senior Consultant\nJureemas Ung\, Security Investment Consultant\n\n\nRegister link: https://canchamthailand.org/event-4143454
URL:https://www.eabc-thailand.org/event/cancham-webinar-ways-to-reduce-your-thai-personal-income-tax/
CATEGORIES:Co-Chamber Event
ATTACH;FMTTYPE=image/png:https://www.eabc-thailand.org/wp-content/uploads/2021/01/Ways-to-reduce-your-Thai-personal-Income-Tax.png
ORGANIZER;CN="Thai-Canadian Chamber of Commerce":MAILTO:eventsmgr@canchamthailand.org
END:VEVENT
BEGIN:VEVENT
DTSTART;TZID=Asia/Krasnoyarsk:20210211T140000
DTEND;TZID=Asia/Krasnoyarsk:20210211T160000
DTSTAMP:20260422T144841
CREATED:20210211T095435Z
LAST-MODIFIED:20210211T110435Z
UID:8552-1613052000-1613059200@www.eabc-thailand.org
SUMMARY:Digital Dialogues on Privacy’ Series on 11 February 2021
DESCRIPTION:‘Digital Dialogues on Privacy’ Series – jointly-hosted by the Asian Governance Foundation (AGF)\, the German-South East Asian Centre of Excellence for Public Policy and Good Governance (CPG) and Facebook Inc. \nRoundtable 2 in the series was held on 12 November about legal bases for processing data in the Personal Data Protection Act. \nRoundtable 3 will be hold on 11 February 2021\, 2:00-4:00 pm via Zoom about “A Discussion on the Notice and Consent Requirements in the Personal Data Protection Act and its Subordinate Legislations”\, a closed door roundtable of experts. This series of ongoing roundtables first tackled Thailand’s PDPA\, with a focus on a preview of its upcoming subordinate legislations. The second roundtable focused on a discussion the various legal bases for processing data in the PDPA. The third roundtable will now focus on a discussion on notice and consent requirements in the PDPA. Mr. Bob Fox\, EABC Vice President and Digital Economy/ICT Working Group Chair will again be part of the roundtable
URL:https://www.eabc-thailand.org/event/digital-dialogues-on-privacy-series-on-11-february-2021/
CATEGORIES:EABC Event,Partner Event
END:VEVENT
BEGIN:VEVENT
DTSTART;TZID=Asia/Krasnoyarsk:20210224T080000
DTEND;TZID=Asia/Krasnoyarsk:20210224T090000
DTSTAMP:20260422T144841
CREATED:20210215T035051Z
LAST-MODIFIED:20210222T062115Z
UID:8577-1614153600-1614157200@www.eabc-thailand.org
SUMMARY:ECCK Sustainable Development Goals Webinar Series 2021: Leading ESG Strategy for the Energy Industry
DESCRIPTION:The European Chamber of Commerce in Korea (ECCK) has set Sustainability as a focus area for 2021. In order to contribute to a better world\, the ECCK has set up a webinar series on the United Nations Sustainable Development Goals (SDGs).  H.E. BAN Ki-moon\, the eight Secretary-General of United Nations\, is supporting this initiative. ECCK will open this webinar series to all members of the European Business Organisation Worldwide Network (EBOWWN)\, spread out across 45 countries. \nDate: Wednesday\, February 24\, 2021\nTime: 08:00 – 09:00 (BKK time)\nRegistration: https://ecck.or.kr/events/ecck-webinar-series-2021-sustainable-development-goals-with-baker-hughes. \nAdmission fee: Free of charge (this webinar is only open to ECCK and EBO WWN members) \n 
URL:https://www.eabc-thailand.org/event/ecck-sustainable-development-goals-webinar-series-2021-leading-esg-strategy-for-the-energy-industry/
CATEGORIES:Partner Event
END:VEVENT
BEGIN:VEVENT
DTSTART;TZID=Asia/Krasnoyarsk:20210224T093000
DTEND;TZID=Asia/Krasnoyarsk:20210224T120000
DTSTAMP:20260422T144841
CREATED:20210210T094734Z
LAST-MODIFIED:20210210T094734Z
UID:8529-1614159000-1614168000@www.eabc-thailand.org
SUMMARY:UN WOMEN : WEPs AWARENESS TRAINING AGENDA
DESCRIPTION:  \nWhy advancing gender equality means good business? – UN Women \nJoin us for the upcoming awareness training on Wednesday\, February 24\, 2021 from 9:30 AM – 12 PM via Zoom Cloud Meetings. The WEPs Awareness Training will bring a wider awareness of the Women’s Empowerment Principles and identify your company’s strengths\, gaps\, and determine opportunities to improve the performance on gender equality. \n  5 excellent reasons to attend our training: \n\n  A chance to engage with a network of like-minded business leaders;\n  Receives a free Gender Action Plan;\n  Increases recognition\, trust & visibility;\n  Scales up your business & creates impact;\n  Gains access to unparalleled knowledge resources\n\n Register now  \n*Registrations will be handled on a first come\, first served basis\, please RSVP at your earliest convenience. \nIn collaboration with WeEmpowerAsia of UN Women\, Kenan Foundation Asia is inviting 600 corporations in Thailand to enhance their competitiveness by joining the Women’s Empowerment Principles (WEPs) movement. If you are keen on integrating ‘gender equality’ into the business practice\, we would like to cordially invite you to begin the WEPs journey with our capacity building programs. Please note that the training will be conducted in the Thai language. \nClick here to learn more about women’s empowerment in the workplace\, marketplace and community. Please visit www.weempowerasia.kenan-asia.org for more information. \n 
URL:https://www.eabc-thailand.org/event/un-women-weps-awareness-training-agenda/
CATEGORIES:Co-Partner Event
END:VEVENT
BEGIN:VEVENT
DTSTART;TZID=Asia/Krasnoyarsk:20210224T140000
DTEND;TZID=Asia/Krasnoyarsk:20210224T150000
DTSTAMP:20260422T144841
CREATED:20210128T043156Z
LAST-MODIFIED:20210201T054829Z
UID:8402-1614175200-1614178800@www.eabc-thailand.org
SUMMARY:Investment Policy Review of Thailand
DESCRIPTION:OECD has published an Investment Policy Review (IPR) of Thailand examines the business climate and proposes reforms to attract the Foreign Direct Investment that supports inclusive\, sustainable growth and COVID19 recovery. The IPR is implemented as part of the OECD-Thailand Country Programme and studies investment climate reform opportunities that support Thailand’s development ambitions and contribute to the Sustainable Development Goals (SDGs). The full report is available in this link Investment Policy Review of Thailand. EABC had an opportunity to attend and contribute in the process of OECD stakeholder consultation and drafting in February 2020. In this regard\, EABC and OECD would like to cordially invite you to  join the high-level launch of the review on Wednesday\, 24th February\, 2021 from 14.00-15.00 via Zoom. \nIn addition\, EABC draws members attention to the WTO Trade Policy Review (TPR) materials from September 2020\,which are provided in the attached file. \nDate: 24 February 2021 \nTime: 14.00-15.00 \nRegistration: Webinar Registration – Zoom \nAgenda \nModerator: Stephen Thomsen\, Head of Investment Policy Reviews Unit\, OECD \nOpening remarks:\nMasamichi Kono\, Deputy Secretary-General\, OECD\nChutintorn Gongsakdi\, Deputy Permanent Secretary\, Ministry of Foreign Affairs\, Thailand\nPirkka Tapiola\, Ambassador of the European Union to Thailand (tbc)\nKey findings and recommendations\nMartin Wermelinger\, Project Manager\, Investment Policy Reviews\, OECD\nTihana Bule\, Project Manager\, Centre for Responsible Business Conduct\, OECD\nDiscussion \nClosing \n 
URL:https://www.eabc-thailand.org/event/investment-policy-review-of-thailand/
CATEGORIES:Partner Event
END:VEVENT
END:VCALENDAR