BEGIN:VCALENDAR
VERSION:2.0
PRODID:-//EABC Thailand - ECPv6.15.20//NONSGML v1.0//EN
CALSCALE:GREGORIAN
METHOD:PUBLISH
X-WR-CALNAME:EABC Thailand
X-ORIGINAL-URL:https://www.eabc-thailand.org
X-WR-CALDESC:Events for EABC Thailand
REFRESH-INTERVAL;VALUE=DURATION:PT1H
X-Robots-Tag:noindex
X-PUBLISHED-TTL:PT1H
BEGIN:VTIMEZONE
TZID:Asia/Krasnoyarsk
BEGIN:STANDARD
TZOFFSETFROM:+0700
TZOFFSETTO:+0700
TZNAME:+07
DTSTART:20190101T000000
END:STANDARD
END:VTIMEZONE
BEGIN:VEVENT
DTSTART;TZID=Asia/Krasnoyarsk:20200928T110000
DTEND;TZID=Asia/Krasnoyarsk:20201001T170000
DTSTAMP:20260422T202125
CREATED:20200902T033323Z
LAST-MODIFIED:20200917T061539Z
UID:7400-1601290800-1601571600@www.eabc-thailand.org
SUMMARY:EU Business Avenues in S E Asia (ICT)
DESCRIPTION:EU Business Avenues in South East Asia (along with EABC for the Thailand part) are organising an ICT Virtual Business Mission from 28 Sep to 1 Oct 2020\, alongside the ConnecTechAsia virtual tradeshow.  48 European ICT companies will be introducing their technologies to the S.E.Asia. region\, which include AI/AR\, big data\, cloud\, cybersecurity\, IoT\, fintech\, telehealth\, remote monitoring\, home-based learning and other specialised solutions such as fleet management solution targeting at maritime industry\, and solutions for satellite navigation and space situational awareness.  These companies are looking for collaboration opportunities with end-users\, distributors and partners. \nWe would like to invite you to schedule virtual meetings with these European companies\, anytime between 29 Sep to 1 Oct\, 11am – 5pm. \nPlease register on : https://www.eubusinessavenues.com/form/17/trade-visitor-registration-thai and indicate which companies you wish to meet\, and we will get back to you on the schedule/arrangements. \nFor list of companies and their solutions\, please visit: https://www.eubusinessavenues.com/business-missions/information-communication-technologies-2020/exhibitor-directory \nWe would also like to invite all members to join us for the following sessions\, to gain insights into the Thailand’s ICT market challenges and opportunities and get a chance to closely interact with the European companies during the workshop. \nMarket Insights by Industry Experts seminar\nTheme: Insights into Singapore’s and Thailand’s ICT industry trends\, offerings and regulations.\n28 Sep 1:45pm – 3.15pm \n\nWelcome Address by H.E. Barbara Plinkert\, Ambassador of the European Union to Singapore\nArtificial Intelligence (AI) Trends for Businesses in Singapore by Dr Sinuhe Arroyo\, Exco Member of AI & High Performance Computing Chapter\, SGTech\nICT and Cloud Computing Insights within the Singapore Market by Ms Lim May Ann\, Executive Director of Asia Cloud Computing Association (ACCA)\nWelcome Address by H.E. Pirkka Tapiola\, Ambassador of the European Union to Thailand\nEngaging in the Digital Economy in Thailand by Mr Bob Fox\, Chairman\, Digital Economy/ICT Working Group\, European Association for Business and Commerce (EABC) and JFCCT\nSharing by Thailand-based European SMEs on their Experiences in Developing their Businesses in Thailand by\n\nMr. Jostein Aksnes\, CEO\, 7 Peaks Software\nMr. Denis Cappi\, Managing Director\, Kiratech Asia Co. Ltd.\nMr. Svend Nelson\, Lecturer & Entrepreneur\, Former Partner & MD\, Webcontrol Limited\nMr. Peter Fischbach\, President\, ISM Technology Recruitment Ltd.\nMr. Allan Rasmussen\, Founder\, One Development (Thailand) Co.\, Ltd.\n\n\n\n  \nThailand-European ICT Virtual Workshop\n30 Sep 3.30pm – 4.30pm: \n– Understanding the challenges and opportunities in Thailand’s ICT market –  \n\nOpening by Dr. Andreas Weigend\, Former Chief Scientist of Amazon.com and the author of the book Data for the People\nInteractive Breakout Sessions:\n\n       Each breakout session will be facilitated by an experienced workshop leader \n”       Group 1 – Cybersecurity\, Transparency and Traceability \n”       Group 2 – Data Governance\, Smart Logistics / Warehouse Management \n”       Group 3 – Fintech \n”       Group 4 – News Media\, Video and Other Technology \n”       Group 5 – Simulation\, Gamification and Education \n”       Group 6 – Telecommunication \n\nClosing Remarks\n\nFor more information:  http://bit.ly/thEABC20
URL:https://www.eabc-thailand.org/event/eu-business-avenues-in-s-e-asia/
CATEGORIES:EABC Event
END:VEVENT
BEGIN:VEVENT
DTSTART;TZID=Asia/Krasnoyarsk:20201014T093000
DTEND;TZID=Asia/Krasnoyarsk:20201014T120000
DTSTAMP:20260422T202125
CREATED:20201009T101453Z
LAST-MODIFIED:20201027T032120Z
UID:7649-1602667800-1602676800@www.eabc-thailand.org
SUMMARY:TDRI Seminar about Advancing Fast Track Regulatory Reform (Guillotine)
DESCRIPTION:On 14 October 2020\, Thailand Development Research Institute (TDRI)\, together with EABC and JFCCT\, held a public seminar “Regulatory Guillotine: Economic stimulus by regulatory reform”. More than 90 participants via Facebook livestream and many (including press) attended physically at the TDRI office. \nFast Track Regulatory Reform (Guillotine)  is a way to review laws and regulations in Thailand\, striving to reduce unnecessary processes or barriers to the establishment and the operation of business in Thailand.  The ‘Simple and Smart License” project produced over 1\,000 changes\, ready for implementation. This appears on the EABC website here \nSpeakers at the seminar on 14 October included Professor Dr. Borwornsak Uwanno \, Mr. Pakorn Nilprapan\, Mr. Kitti Tangchitmaneesakda\, Dr. Kiratipong Naewmalee\, and Mr. Bob Fox\, Chair\, Digital Economy/ICT group (EABC & JFCCT) and Vice President of EABC\, with endorsements from Mr Luca Bernardinetti (President EABC) and Mr Stanley Kang (Chairman JFCCT). The event was moderated by Dr Somkiat Tangkitvanich President of TDRI. \nThe EABC committed to support the Fast Track Regulatory Reform (Guillotine) processes\, and implementation\, in particular for Ease of Doing Business by welcoming all initiatives; alleviating regulatory requirements and providing easier access to services\, including users of government services (who may be citizens\, business people and visitors). \nPlease see attached Agenda\, Bob Fox’s presentation\, EABC President Endorsement\, JFCCT Chair endorsement and questions posed through the platform. \nTo support these advances in fast track regulatory reform\, please do provide your name\, email and affiliation to Ms. Pimwan Pongsuwan at advocacy@eabc-thailand.org. No funding will be sought; names will not be publicly disclosed. See more here \n  \n 
URL:https://www.eabc-thailand.org/event/tdri-seminar-advancing-fast-track-regulatory-reform-guillotine/
CATEGORIES:EABC Event
END:VEVENT
BEGIN:VEVENT
DTSTART;TZID=Asia/Krasnoyarsk:20201021T050000
DTEND;TZID=Asia/Krasnoyarsk:20201021T213000
DTSTAMP:20260422T202125
CREATED:20201014T033421Z
LAST-MODIFIED:20201014T040617Z
UID:7669-1603256400-1603315800@www.eabc-thailand.org
SUMMARY:BCCT MULTI-CHAMBER PHUKET BRIEFING & NETWORKING
DESCRIPTION:BCCT Multi-Chamber Phuket is organizing Briefing & Networking about The covid and post-covid global economy on Wednesday 21st October 2020 at Outrigger Laguna Phuket Beach Resort start from 5:00 – 9:30 PM.
URL:https://www.eabc-thailand.org/event/bcct-multi-chamber-phuket-briefing-networking-3/
CATEGORIES:Member Event
END:VEVENT
BEGIN:VEVENT
DTSTART;TZID=Asia/Krasnoyarsk:20201027T080000
DTEND;TZID=Asia/Krasnoyarsk:20201027T130000
DTSTAMP:20260422T202125
CREATED:20201022T051503Z
LAST-MODIFIED:20201026T043523Z
UID:7751-1603785600-1603803600@www.eabc-thailand.org
SUMMARY:Brexit the series: Great Opportunities for Thai Exporters to Know
DESCRIPTION:The Department of Trade Negotiations (DTN) would like to extend the invitation to EABC members to join the seminar on “Brexit the series: Great Opportunities for Thai Exporters to Know” on Tuesday\, October 27\, 2020 from 8:00 AM to 1:00 PM at the Marriot Marquis Queen’s Park Hotel. \n  \nThe objective of the seminar is to raise awareness and provide accurate understanding of Brexit situation in the areas of economy\, trade\, investment and its future trends. \n  \nFor registration\, please access to DTN Website (https://regis.dtn.go.th/). For EABC member\, please contact Ms. Pimwan Pongsuwan at advocacy@eabc-thailand.org for registration code. \n  \nThe event will be livestream via Department of Trade Negotiations Facebook page. \n* Please noted that the seminar will conducted all in Thai.
URL:https://www.eabc-thailand.org/event/the-department-of-trade-negotiations-invites-interested-parties-to-join-the-brexit-the-series-great-opportunities-for-thai-exporters-to-know/
CATEGORIES:Member Event
ATTACH;FMTTYPE=image/jpeg:https://www.eabc-thailand.org/wp-content/uploads/2020/10/Brexit.jpg
END:VEVENT
BEGIN:VEVENT
DTSTART;TZID=Asia/Krasnoyarsk:20201028T100000
DTEND;TZID=Asia/Krasnoyarsk:20201029T110000
DTSTAMP:20260422T202125
CREATED:20201015T074948Z
LAST-MODIFIED:20201029T100055Z
UID:7690-1603879200-1603969200@www.eabc-thailand.org
SUMMARY:Telecoms World Asia 2020
DESCRIPTION:The question of Thailand’s role as a digital centre of the Greater Mekong Subregion (GMS) relies on being a Digital Economy leader. Thailand’s geo-centricity in S E Asia is often heralded as a natural advantage in regional trade and investment. \n  \nThat might apply to goods\, but the winner in the digital world will be the economy with a Digital Economy which is innovative\, attractive and trusted\, underpinned by soft and hard telecoms infra\, highly regarded for Ease of Doing Business and competitiveness. \n  \nWhat in Thailand’s Digital Economy including infrastructure and data prowess can be used to support its ability to act as a digital and data centre in the GMS? What needs to be developed further and enhanced? \n  \nOn 28th October 2020\,  “Data\, Investment and Technology: Establishing Thailand at the centre of the Greater Mekong Subregion” was held as part of the Telecoms World Asia 2020 conference. Speakers were Sean Bergin\, President of AP Telecom\, Dr Tiranee Achalakul\, director of the Government Big Data Institute GDBi – DEPA (Ministry of Digital Economy and Society)\, the intelligence service provider for government agencies in Thailand and Natasak Rodjanapiches\, Vice Chairman\, Creative Digital Economy Subcommittee\, Board of Trade Thailand. \n  \nMr. Bob Fox\, Chair of Digital Economy/ICT Group (JFCCT and EABC) and Vice President EABC\, was a moderator. \n  \nVideo of record including presentations : https://www.youtube.com/watch?v=sl6j_MT_RCM&feature=youtu.be \n 
URL:https://www.eabc-thailand.org/event/telecoms-world-asia-2020/
CATEGORIES:EABC Event
END:VEVENT
BEGIN:VEVENT
DTSTART;TZID=Asia/Krasnoyarsk:20201028T140000
DTEND;TZID=Asia/Krasnoyarsk:20201028T153000
DTSTAMP:20260422T202125
CREATED:20200902T035258Z
LAST-MODIFIED:20201029T034937Z
UID:7404-1603893600-1603899000@www.eabc-thailand.org
SUMMARY:Being Digital Webinar Series
DESCRIPTION:The first part of the webinar series BEING DIGITAL was held on 28 October 1400- 1515 by Zoom Webinar. The series is co-organised by EABC and JFCCT and supported by seven European bilateral chambers and three other foreign chambers. \nThe first Episode of ‘BEING DIGITAL’ series webinar was on  ‘DIGITAL TOOLS: Electronic Meetings\, Electronic Signatures’. \nMr. Kowit Somwaiya\, Managing Partner of Law Plus Ltd\, has a comprehensive view of Electronic Meetings regulation and operation\,. The Emergency Decree on Electronic Meetings B.E. 2563 (“EDEM”) made in April 2020 in response to the COVID-19 for E-meeting’s MDES was a major change in the law.  Minimum Information Security Standards and ETDA Information Security Standards were also included and practical advice on holding meetings was also provided. \nElectronic Signatures was addressed by Dr. Sumaporn (Srisoonthorn) Manasan\, Legal expert in the Legal Services Bureau\, Fiscal Policy Office of Ministry of Finance. Dr. Sumaporn has presented the efficient use of eSignatures\, secure electronic signatures  (digital signatures)\, and from a finance industry use perspective. \nMr. Bob Fox\, Chair\, Digital Economy/ICT Group (JFCCT and EABC)\, Vice President EABC\, was moderator. \nLook out for future webinars in the BEING DIGITAL series\, to include Digital Government\, Data and Data Privacy\, Cybersecurity and other topics.
URL:https://www.eabc-thailand.org/event/being-digital-webinar-series/
CATEGORIES:EABC Event
END:VEVENT
BEGIN:VEVENT
DTSTART;TZID=Asia/Krasnoyarsk:20201029T180000
DTEND;TZID=Asia/Krasnoyarsk:20201029T210000
DTSTAMP:20260422T202125
CREATED:20201016T071856Z
LAST-MODIFIED:20201020T082534Z
UID:7719-1603994400-1604005200@www.eabc-thailand.org
SUMMARY:BeLu Thai Invitation: Thriving in Business in the Covid 19 Era Event
DESCRIPTION:BeLu Thai would like to invite you to join Thriving in Business in the Covid 19 era Event on 29 October 2020 at at Kandhavas Place 4th Floor\, The Athenee Hotel\, a Luxury Collection Hotel\, Bangkok. \nThe topics: \n\n Consumer behavior change\n Assess the impact in different industries and business types\n How to approach clients\n How banking and lending has changed\n Structuring your Finance & Tax Functions\n\nRegister HERE\nMore Information Please Contact at 026979069 or info@beluthai.org
URL:https://www.eabc-thailand.org/event/beluthai-invitation-thriving-in-business-in-the-covid-19-era-event/
CATEGORIES:Member Event,Partner Event
ATTACH;FMTTYPE=image/jpeg:https://www.eabc-thailand.org/wp-content/uploads/2020/10/BeLuThai-Thriving-in-Business-in-the-Covid-19-Era-Resize.jpg
END:VEVENT
END:VCALENDAR