BEGIN:VCALENDAR
VERSION:2.0
PRODID:-//EABC Thailand - ECPv6.15.20//NONSGML v1.0//EN
CALSCALE:GREGORIAN
METHOD:PUBLISH
X-ORIGINAL-URL:https://www.eabc-thailand.org
X-WR-CALDESC:Events for EABC Thailand
REFRESH-INTERVAL;VALUE=DURATION:PT1H
X-Robots-Tag:noindex
X-PUBLISHED-TTL:PT1H
BEGIN:VTIMEZONE
TZID:Asia/Krasnoyarsk
BEGIN:STANDARD
TZOFFSETFROM:+0700
TZOFFSETTO:+0700
TZNAME:+07
DTSTART:20190101T000000
END:STANDARD
END:VTIMEZONE
BEGIN:VEVENT
DTSTART;TZID=Asia/Krasnoyarsk:20200903T080000
DTEND;TZID=Asia/Krasnoyarsk:20200903T170000
DTSTAMP:20260422T214743
CREATED:20200826T091046Z
LAST-MODIFIED:20200902T065148Z
UID:7365-1599120000-1599152400@www.eabc-thailand.org
SUMMARY:EABC Advisory Council
DESCRIPTION:The first Advisory Council meeting for 2020 will be held 3 September\, for Advisory Council members. The Advisory Council comprises European Chamber Presidents\, Embassy Commercial Counsellors (where there is no chamber)\, EU Delegation\, EABC Working Group Chairs and EABC board members. Opening remark by EU Ambassador H.E. Mr. Pirkka Tapiola. EABC Advisory Council is aimed to provide closer understanding among EABC\, Bilateral European Chambers and Embassies about EABC status\, development. It is about engagement.
URL:https://www.eabc-thailand.org/event/eabc-advisory-council/
CATEGORIES:EABC Event
END:VEVENT
BEGIN:VEVENT
DTSTART;TZID=Asia/Krasnoyarsk:20200908T150000
DTEND;TZID=Asia/Krasnoyarsk:20200908T170000
DTSTAMP:20260422T214743
CREATED:20200902T035808Z
LAST-MODIFIED:20200902T041556Z
UID:7407-1599577200-1599584400@www.eabc-thailand.org
SUMMARY:Free Webinar:Alternative State Quarantine(ASQ)
DESCRIPTION:BeluThai would like to invite to join Free Webinar on Alternative State Quarantine (ASQ). Khun Napasorn Bhuvaborirak\, Counsellor and Consul at the Royal Thai Embassy in Brussels will give a clear overview of how ASQ works\, Who can apply for ASQ and what procedures need to be followed. \nMr. Mark O’Sullivan\, Complex General Manager of the Anantara and Avani Riverside will guide you to what you can expect in your ASQ Hotel. \nDuring the ZOOM presentation you will have the possibility to ask your questions to speakers in the chat box. \nCost: Free of Charge & Please Register Here\nDate: Tuesday\, 8th September 2020\nTime:  15.00 Bangkok Time (10.00 Belgium Time)\nMore info at info@beluthai.org
URL:https://www.eabc-thailand.org/event/free-webinaralternative-state-quarantineasq/
CATEGORIES:Partner Event
END:VEVENT
BEGIN:VEVENT
DTSTART;TZID=Asia/Krasnoyarsk:20200916T180000
DTEND;TZID=Asia/Krasnoyarsk:20200916T203000
DTSTAMP:20260422T214743
CREATED:20200902T043229Z
LAST-MODIFIED:20200902T081836Z
UID:7409-1600279200-1600288200@www.eabc-thailand.org
SUMMARY:Canuck Connections Networking Featuring Women Entrepreneurs
DESCRIPTION:CanCham Thailand is organizing Canuck Connections Ft. Women Entrepreneur on Wednesday\, September 16\, 2020 at Spaces\, Empire Tower.  The event starts from 18:00 – 20:30. The event is FREE OF CHARGE for participating chambers.   For more information\, please see attached here.
URL:https://www.eabc-thailand.org/event/canuck-connections-networking-featuring-women-entrepreneurs/
CATEGORIES:Partner Event
END:VEVENT
BEGIN:VEVENT
DTSTART;TZID=Asia/Krasnoyarsk:20200916T183000
DTEND;TZID=Asia/Krasnoyarsk:20200916T210000
DTSTAMP:20260422T214743
CREATED:20200903T075647Z
LAST-MODIFIED:20200909T072430Z
UID:7436-1600281000-1600290000@www.eabc-thailand.org
SUMMARY:BeLuThai Welcome Back Networking night
DESCRIPTION:The BeLuThai would like to welcome back networking night. It will be the first public event of a series of activities planned between September and December.  The event will be taken place on Wednesday\, September 16 from 6:30 PM to 9:00 PM. \nBeLuThai is very concerned about your Health and Safety. Therefore\, pre-registration is required. It will be a nice opportunity for you to meet with: Mrs. Marie-Charlotte Annez\, new Consul for the Kingdom of Belgium to Thailand And Mr. Gabriel Baptista\, new Head of Mission at the Embassy of the Grand Duchy of Luxembourg. \nThey accept maximum of 100 guests who have completed registration and payment in order to facilitate proper space management and COVID -19 safety measures. \nRegistration and Payment is required by 5 PM Monday 14th September 2020 \nREGISTER HERE  \nMore Information Please Contact at 026979069 or info@beluthai.org
URL:https://www.eabc-thailand.org/event/beluthai-welcome-back-networking-night/
CATEGORIES:Partner Event
END:VEVENT
BEGIN:VEVENT
DTSTART;TZID=Asia/Krasnoyarsk:20200923T083000
DTEND;TZID=Asia/Krasnoyarsk:20200923T120000
DTSTAMP:20260422T214743
CREATED:20200903T083700Z
LAST-MODIFIED:20200921T074936Z
UID:7441-1600849800-1600862400@www.eabc-thailand.org
SUMMARY:TEBA Free Seminar at Intermach 2020
DESCRIPTION:TEBA would like to invite you to join their free seminar and panel discussion which will be about Readiness of Innovative components for Thai Automotive Industry which will be held on Wednesday 23rd September 2020 at 08.30 am – 12.00 pm. \nFor more detail please see official link HERE \n          
URL:https://www.eabc-thailand.org/event/teba-free-seminar-at-intermach-2020/
CATEGORIES:Partner Event
ORGANIZER;CN="Thai-European Business Association (TEBA)":MAILTO:pr@thaieuro.biz
END:VEVENT
BEGIN:VEVENT
DTSTART;TZID=Asia/Krasnoyarsk:20200923T183000
DTEND;TZID=Asia/Krasnoyarsk:20200923T210000
DTSTAMP:20260422T214743
CREATED:20200911T045552Z
LAST-MODIFIED:20200911T080221Z
UID:7492-1600885800-1600894800@www.eabc-thailand.org
SUMMARY:Multi Chambers Networking Night
DESCRIPTION:We cordially invite you to the “Multi Chambers Networking Night” organized by Singapore Thai Chamber of Commerce.  The event will be held on Wednesday 23th September at 6:30 PM – 9.00 PM\n\n\n\nRegistration Link: https://www.singaporethaicc.or.th/event/multi-chambers-networking-night-14/
URL:https://www.eabc-thailand.org/event/multi-chambers-networking-night-4/
CATEGORIES:Co-Chamber Event,Partner Event
ORGANIZER;CN="Singapore - Thai Chamber of Commerce":MAILTO:marketing@singaporethaicc.or.th
END:VEVENT
BEGIN:VEVENT
DTSTART;TZID=Asia/Krasnoyarsk:20200928T110000
DTEND;TZID=Asia/Krasnoyarsk:20201001T170000
DTSTAMP:20260422T214743
CREATED:20200902T033323Z
LAST-MODIFIED:20200917T061539Z
UID:7400-1601290800-1601571600@www.eabc-thailand.org
SUMMARY:EU Business Avenues in S E Asia (ICT)
DESCRIPTION:EU Business Avenues in South East Asia (along with EABC for the Thailand part) are organising an ICT Virtual Business Mission from 28 Sep to 1 Oct 2020\, alongside the ConnecTechAsia virtual tradeshow.  48 European ICT companies will be introducing their technologies to the S.E.Asia. region\, which include AI/AR\, big data\, cloud\, cybersecurity\, IoT\, fintech\, telehealth\, remote monitoring\, home-based learning and other specialised solutions such as fleet management solution targeting at maritime industry\, and solutions for satellite navigation and space situational awareness.  These companies are looking for collaboration opportunities with end-users\, distributors and partners. \nWe would like to invite you to schedule virtual meetings with these European companies\, anytime between 29 Sep to 1 Oct\, 11am – 5pm. \nPlease register on : https://www.eubusinessavenues.com/form/17/trade-visitor-registration-thai and indicate which companies you wish to meet\, and we will get back to you on the schedule/arrangements. \nFor list of companies and their solutions\, please visit: https://www.eubusinessavenues.com/business-missions/information-communication-technologies-2020/exhibitor-directory \nWe would also like to invite all members to join us for the following sessions\, to gain insights into the Thailand’s ICT market challenges and opportunities and get a chance to closely interact with the European companies during the workshop. \nMarket Insights by Industry Experts seminar\nTheme: Insights into Singapore’s and Thailand’s ICT industry trends\, offerings and regulations.\n28 Sep 1:45pm – 3.15pm \n\nWelcome Address by H.E. Barbara Plinkert\, Ambassador of the European Union to Singapore\nArtificial Intelligence (AI) Trends for Businesses in Singapore by Dr Sinuhe Arroyo\, Exco Member of AI & High Performance Computing Chapter\, SGTech\nICT and Cloud Computing Insights within the Singapore Market by Ms Lim May Ann\, Executive Director of Asia Cloud Computing Association (ACCA)\nWelcome Address by H.E. Pirkka Tapiola\, Ambassador of the European Union to Thailand\nEngaging in the Digital Economy in Thailand by Mr Bob Fox\, Chairman\, Digital Economy/ICT Working Group\, European Association for Business and Commerce (EABC) and JFCCT\nSharing by Thailand-based European SMEs on their Experiences in Developing their Businesses in Thailand by\n\nMr. Jostein Aksnes\, CEO\, 7 Peaks Software\nMr. Denis Cappi\, Managing Director\, Kiratech Asia Co. Ltd.\nMr. Svend Nelson\, Lecturer & Entrepreneur\, Former Partner & MD\, Webcontrol Limited\nMr. Peter Fischbach\, President\, ISM Technology Recruitment Ltd.\nMr. Allan Rasmussen\, Founder\, One Development (Thailand) Co.\, Ltd.\n\n\n\n  \nThailand-European ICT Virtual Workshop\n30 Sep 3.30pm – 4.30pm: \n– Understanding the challenges and opportunities in Thailand’s ICT market –  \n\nOpening by Dr. Andreas Weigend\, Former Chief Scientist of Amazon.com and the author of the book Data for the People\nInteractive Breakout Sessions:\n\n       Each breakout session will be facilitated by an experienced workshop leader \n”       Group 1 – Cybersecurity\, Transparency and Traceability \n”       Group 2 – Data Governance\, Smart Logistics / Warehouse Management \n”       Group 3 – Fintech \n”       Group 4 – News Media\, Video and Other Technology \n”       Group 5 – Simulation\, Gamification and Education \n”       Group 6 – Telecommunication \n\nClosing Remarks\n\nFor more information:  http://bit.ly/thEABC20
URL:https://www.eabc-thailand.org/event/eu-business-avenues-in-s-e-asia/
CATEGORIES:EABC Event
END:VEVENT
END:VCALENDAR