BEGIN:VCALENDAR
VERSION:2.0
PRODID:-//EABC Thailand - ECPv6.15.20//NONSGML v1.0//EN
CALSCALE:GREGORIAN
METHOD:PUBLISH
X-ORIGINAL-URL:https://www.eabc-thailand.org
X-WR-CALDESC:Events for EABC Thailand
REFRESH-INTERVAL;VALUE=DURATION:PT1H
X-Robots-Tag:noindex
X-PUBLISHED-TTL:PT1H
BEGIN:VTIMEZONE
TZID:Asia/Krasnoyarsk
BEGIN:STANDARD
TZOFFSETFROM:+0700
TZOFFSETTO:+0700
TZNAME:+07
DTSTART:20190101T000000
END:STANDARD
END:VTIMEZONE
BEGIN:VEVENT
DTSTART;TZID=Asia/Krasnoyarsk:20200709T140000
DTEND;TZID=Asia/Krasnoyarsk:20200709T171500
DTSTAMP:20260423T002657
CREATED:20200630T042226Z
LAST-MODIFIED:20200630T042226Z
UID:7129-1594303200-1594314900@www.eabc-thailand.org
SUMMARY:The IP Key South-East Asia (SEA) Project
DESCRIPTION:The IP Key South-East Asia (SEA) Project is organizing the Webinars on Geographical Indications(GIs) on 9 July 2020; 2.00 – 3.15  PM (Bangkok/Jakarta; GMT +7) \nThe webinars will focus on the GI sui generis system\, control of GIs\, and protection of GIs in the market.\nThe webinar is open to IP and other government officials\, producers of GIs\, small and business enterprises (SMEs)\, business associations\, and IP professionals/attorneys. \nKindly register using the links provided HERE  \nFor more information\, kindly contact the IP Key SEA Project Management Team by email at: IPKEY-SEA@euipo.europa.eu.
URL:https://www.eabc-thailand.org/event/the-ip-key-south-east-asia-sea-project/
CATEGORIES:Partner Event
ATTACH;FMTTYPE=image/jpeg:https://www.eabc-thailand.org/wp-content/uploads/2020/06/sea-act-3-9-july-v1.jpg
END:VEVENT
BEGIN:VEVENT
DTSTART;TZID=Asia/Krasnoyarsk:20200721T083000
DTEND;TZID=Asia/Krasnoyarsk:20200721T223000
DTSTAMP:20260423T002657
CREATED:20200601T130014Z
LAST-MODIFIED:20200602T074146Z
UID:6650-1595320200-1595370600@www.eabc-thailand.org
SUMMARY:A Seminar on Ease of Doing Business in Thailand
DESCRIPTION:The Mahanakorn Partners Group (MPG)’s is hosting a seminar on Ease of Doing Business in Thailand on Tuesday\, 21st July 2020from 8:30-10:30 AM  at Spaces’ Chamchuri Square Building Office. The seminar will provide insights on how to start a business in Thailand\, how to operate an existing business in Thailand while avoiding common challenges\, and how to effectively manage the business’ legal\, tax and other regulatory obligations. \nAgenda \n8:30 – 8:55 Registration \n8:55 – 9:00 MPG Opening Remarks and Introduction of Speakers (WBG\, EABC and MPG) \n9:00 – 9:15 WBG Methodology and Findings for the DB 2020 report \n9:15 – 9:20 EABC: Update on Thailand’s Regulatory Guillotine Project \n9:20 – 10:30 MPG Seminar: Ease of Doing Business in Thailand Presentation + Q&A Session \n  \nTo Register\, please click  HERE
URL:https://www.eabc-thailand.org/event/seminar-ease-of-doing-business-in-thailand/
LOCATION:Spaces Chamchuri Square 24th Floor\, Spaces Chamchuri Square 24th Floor\, Chamchuri Square Building\, Pathum Wan District\, Bangkok 10330
CATEGORIES:Co-Partner Event
END:VEVENT
BEGIN:VEVENT
DTSTART;TZID=Asia/Krasnoyarsk:20200721T140000
DTEND;TZID=Asia/Krasnoyarsk:20200721T160000
DTSTAMP:20260423T002657
CREATED:20200708T104158Z
LAST-MODIFIED:20200708T104158Z
UID:7156-1595340000-1595347200@www.eabc-thailand.org
SUMMARY:The IP Key South-East Asia (SEA) Project
DESCRIPTION:The IP Key South-East Asia (SEA) Project is organizing the Webinars on Geographical Indications(GIs) on 21 July 2020; 2.00 – 3.00  PM (Bangkok/Jakarta; GMT +7) \nThe webinars will focus on the GI sui generis system\, control of GIs\, and protection of GIs in the market.\nThe webinar is open to IP and other government officials\, producers of GIs\, small and business enterprises (SMEs)\, business associations\, and IP professionals/attorneys. \nKindly register using the links provided HERE  \nFor more information\, kindly contact the IP Key SEA Project Management Team by email at: IPKEY-SEA@euipo.europa.eu. \n\n 
URL:https://www.eabc-thailand.org/event/the-ip-key-south-east-asia-sea-project-2/
CATEGORIES:Partner Event
ATTACH;FMTTYPE=image/jpeg:https://www.eabc-thailand.org/wp-content/uploads/2020/07/0.jpg
END:VEVENT
END:VCALENDAR