BEGIN:VCALENDAR
VERSION:2.0
PRODID:-//EABC Thailand - ECPv6.15.20//NONSGML v1.0//EN
CALSCALE:GREGORIAN
METHOD:PUBLISH
X-ORIGINAL-URL:https://www.eabc-thailand.org
X-WR-CALDESC:Events for EABC Thailand
REFRESH-INTERVAL;VALUE=DURATION:PT1H
X-Robots-Tag:noindex
X-PUBLISHED-TTL:PT1H
BEGIN:VTIMEZONE
TZID:Asia/Krasnoyarsk
BEGIN:STANDARD
TZOFFSETFROM:+0700
TZOFFSETTO:+0700
TZNAME:+07
DTSTART:20190101T000000
END:STANDARD
END:VTIMEZONE
BEGIN:VEVENT
DTSTART;TZID=Asia/Krasnoyarsk:20200604T160000
DTEND;TZID=Asia/Krasnoyarsk:20200604T170000
DTSTAMP:20260423T014904
CREATED:20200525T070824Z
LAST-MODIFIED:20200525T070938Z
UID:6944-1591286400-1591290000@www.eabc-thailand.org
SUMMARY:COVID-19 Opportunities and Investment Support Measures for Medical Industry in Thailand
DESCRIPTION:The Board of Investment (BOI)\, European office is organizing the webinar on the topic of “COVID-19 Opportunities and Investment Support Measures for Medical Industry in Thailand” as detail following. \nDATE: Thursday 4th June 2020 \nTIME: 4pm-5pm (Thailand Time) \nRegister Link: https://attendee.gotowebinar.com/register/1673293276807382275?source=BOI+Paris
URL:https://www.eabc-thailand.org/event/covid-19-opportunities-and-investment-support-measures-for-medical-industry-in-thailand/
CATEGORIES:Member Event
ATTACH;FMTTYPE=image/jpeg:https://www.eabc-thailand.org/wp-content/uploads/2020/05/webinar-covid-20200515.jpg
END:VEVENT
BEGIN:VEVENT
DTSTART;VALUE=DATE:20200609
DTEND;VALUE=DATE:20200612
DTSTAMP:20260423T014904
CREATED:20200608T042140Z
LAST-MODIFIED:20200608T060130Z
UID:7017-1591660800-1591919999@www.eabc-thailand.org
SUMMARY:United Nations Virtual Forum on Responsible Business and Human Rights
DESCRIPTION:The United Nations Virtual Forum on Responsible Business and Human Rights from 9 to 11 June 2020\, and is co-organized by the United Nations Working Group on Business and Human Rights (UNWG)\, the United Nations Development Programme (UNDP)\, the International Labour Organisation (ILO)\, the United Nations Children’s Fund (UNICEF)\, the United Nations Entity for Gender Equality and the Empowerment of Women (UN Women)\, and the United Nations Economic and Social Commission for Asia and the Pacific (ESCAP). Information about the Forum including the concept note\, agenda and registration process can be found at: https://www.rbhrforum.com/. \n 
URL:https://www.eabc-thailand.org/event/united-nations-virtual-forum-on-responsible-business-and-human-rights/
CATEGORIES:Partner Event
ATTACH;FMTTYPE=image/png:https://www.eabc-thailand.org/wp-content/uploads/2020/06/un.png
END:VEVENT
BEGIN:VEVENT
DTSTART;TZID=Asia/Krasnoyarsk:20200611T140000
DTEND;TZID=Asia/Krasnoyarsk:20200611T153000
DTSTAMP:20260423T014904
CREATED:20200608T071203Z
LAST-MODIFIED:20200608T071545Z
UID:7026-1591884000-1591889400@www.eabc-thailand.org
SUMMARY:Webinar: Thailand’s Post COVID-19 Economic Outlook
DESCRIPTION:CanCham in collaboration with European Association for Business and Commerce\, Joint Foreign Chambers of Commerce\, Netherlands-Thai Chamber of Commerce and Singapore Thai Chamber of Commerce are organizing Thailand’s Post COVID-19 Economic Outlook on Thursday June 11\, 2020 at 14:00 – 15:30. This event will focus on analyzing the impact of COVID-19 on the Thai economy\, identifying key issues and how businesses should adapt to the current situation. \nTentative Program\n14:00 Introduction to “Thailand’s Post COVID-19 Economic Outlook”\n14:10 Insight from all speakers\n14:40 Panel discussion\n15:15 Q&A Session\n15:30 Session ends \nFor more information and registration\, please go to https://canchamthailand.org/event-3840757
URL:https://www.eabc-thailand.org/event/webinar-thailands-post-covid-19-economic-outlook/
CATEGORIES:Partner Event
ATTACH;FMTTYPE=image/jpeg:https://www.eabc-thailand.org/wp-content/uploads/2020/06/cancham.jpg
ORGANIZER;CN="Thai-Canadian Chamber of Commerce":MAILTO:eventsmgr@canchamthailand.org
END:VEVENT
BEGIN:VEVENT
DTSTART;TZID=Asia/Krasnoyarsk:20200611T150000
DTEND;TZID=Asia/Krasnoyarsk:20200611T160000
DTSTAMP:20260423T014904
CREATED:20200603T061055Z
LAST-MODIFIED:20200603T061234Z
UID:7008-1591887600-1591891200@www.eabc-thailand.org
SUMMARY:Inter-Chamber Webinar: ASEAN's Fight Against COVID-19: A European Perspective
DESCRIPTION:EU-ASEAN Business Council is hosting the first Inter-Chamber Webinar on 11th June 2020 from 15.00-16.00 (BKK time). The Executive Directors from the various European Chambers of Commerce in ASEAN will provide an update on the latest developments and provide insights on how to navigate the complexities of new economic trends which may surface\, post COVID-19.
URL:https://www.eabc-thailand.org/event/inter-chamber-webinar-aseans-fight-against-covid-19-a-european-perspective/
CATEGORIES:Co-Chamber Event,Partner Event
ATTACH;FMTTYPE=image/png:https://www.eabc-thailand.org/wp-content/uploads/2020/06/bb560ce1-0e44-4c93-9c3e-0db9846a4424.png
END:VEVENT
BEGIN:VEVENT
DTSTART;TZID=Asia/Krasnoyarsk:20200612T140000
DTEND;TZID=Asia/Krasnoyarsk:20200612T163000
DTSTAMP:20260423T014904
CREATED:20200527T113113Z
LAST-MODIFIED:20200527T113209Z
UID:6955-1591970400-1591979400@www.eabc-thailand.org
SUMMARY:IP Key SEA: Virtual Roundtable on Industry and Intermediary Cooperation Against Online IPR Infringements in Thailand
DESCRIPTION:IP Key South-East Asia organize IP Key organize Virtual Roundtable on Industry and Intermediary Cooperation Against Online IPR Infringements in Thailand on 12 June 2020 at 14.00-16.30. \nFor registration\, please go to https://euipo.blumm.it/event/ar/1/ipkey-sea-act8-online \n 
URL:https://www.eabc-thailand.org/event/ip-key-sea-virtual-roundtable-on-industry-and-intermediary-cooperation-against-online-ipr-infringements-in-thailand/
ATTACH;FMTTYPE=image/png:https://www.eabc-thailand.org/wp-content/uploads/2020/05/Screenshot-2020-05-27-18.18.59.png
END:VEVENT
BEGIN:VEVENT
DTSTART;TZID=Asia/Krasnoyarsk:20200616T130000
DTEND;TZID=Asia/Krasnoyarsk:20200616T153000
DTSTAMP:20260423T014904
CREATED:20200605T042637Z
LAST-MODIFIED:20200605T042637Z
UID:7012-1592312400-1592321400@www.eabc-thailand.org
SUMMARY:Webinar: Business in Thailand Made Easy
DESCRIPTION:MPG is co-hosting an informative webinar about doing business in Thailand with the Singapore Business Federation. The webinar\, entitled “Business in Thailand Made Easy\,” will take place on Tuesday\, June 16th at 14:00 SGT. MPG will share insights about tax treaties and regimes\, the available government support\, company set-up requirements\, and the impact of the government policies in response to COVID-19. Further information may be found HERE. \nMm
URL:https://www.eabc-thailand.org/event/webinar-business-in-thailand-made-easy/
CATEGORIES:Member Event
ATTACH;FMTTYPE=image/jpeg:https://www.eabc-thailand.org/wp-content/uploads/2020/06/Banner_TMW-on-16-Jun-2020-with-MPG_IMIS-1536x602.jpg
END:VEVENT
BEGIN:VEVENT
DTSTART;TZID=Asia/Krasnoyarsk:20200626T030000
DTEND;TZID=Asia/Krasnoyarsk:20200626T163000
DTSTAMP:20260423T014904
CREATED:20200623T071328Z
LAST-MODIFIED:20200623T071328Z
UID:7086-1593140400-1593189000@www.eabc-thailand.org
SUMMARY:Women SMEs’ Roles in Addressing Uncertainty in Times of COVID-19
DESCRIPTION:UN Women is organizing the  virtual roundtable  “Her Hands: Women SMEs’ Roles in Addressing Uncertainty in Times of COVID-19\, (Via Zoom) on  Friday\, 26 June 2020\, 15:00-16:30 PM Bangkok time (GMT+7) \nThe COVID-19 crisis is hitting women particularly hard\, as they make up the majority of those most vulnerable at work\, and they often bear the brunt of increased pressures at home. The crisis is also having a greater impact on small and medium enterprises (SMEs)\, as these have less capacity to absorb the shocks to supply chain and to customer revenue. The SME sector is hit hardest\, and women are facing compounded challenges and they are particularly vulnerable to the current crisis. \nThis event will explore opportunities for multi-stakeholder collaboration among governments\, large scale businesses\, intergovernmental and international organizations and civil society\, in order to promote gender-responsive SME support measures in Thailand. The session will focus on the role of women entrepreneurs and women-owned companies as a part of the solution. \nREGISTER HERE :https://unwomen.zoom.us/webinar/register/WN_DCZ_RCz6RLiyiRk6X27FMA \nPANELISTS: \n\nMs. Alice Napartivaumnuay – Co-Founder\, Socialgiver (Social Enterprise)\nMs. Acharamas Udomsiri\, Women Entrepreneur\, Mobileshop\, Chiang Mai (Telecommunications)\nMs. Srihatai Serina Praisankul\, Managing Director\, AKIYOSHI (F&B/Hospitality)\nMs. Papaporn Atsavasirilert\, CEO & Founder\, Lick BKK (F&B)\nProject Manager\, Kenan Foundation Asia (TBC)\n\n 
URL:https://www.eabc-thailand.org/event/women-smes-roles-in-addressing-uncertainty-in-times-of-covid-19/
CATEGORIES:Partner Event
ATTACH;FMTTYPE=image/jpeg:https://www.eabc-thailand.org/wp-content/uploads/2020/06/WhatsApp-Image-2020-06-22-at-16.03.20-1.jpeg
END:VEVENT
BEGIN:VEVENT
DTSTART;TZID=Asia/Krasnoyarsk:20200630T110000
DTEND;TZID=Asia/Krasnoyarsk:20200630T123000
DTSTAMP:20260423T014904
CREATED:20200629T033201Z
LAST-MODIFIED:20200629T043449Z
UID:7108-1593514800-1593520200@www.eabc-thailand.org
SUMMARY:Promoting Diversity & Inclusion in the Supply Chain
DESCRIPTION:UNDP  is organizing  the second regional webinar with private sector companies on ‘Promoting Diversity & Inclusion in the Supply Chain’ on 30th June 2020\, 11.00 AM  (Bangkok Time). \nWebinar Agenda \nWelcome Remarks Koh Miyaoi\, UNDP Regional Gender Advisor \nSpeakers \nMs. Victoria Veloso\, Procurement Transformation Leader\, Johnson & Johnson \nMs Anusuya Krishnan\, Executive Council\, National Association of Women’s Entrepreneur\, Malaysia \nClosing remarks: Dr Harpeet Kaur\, UNDP Business & Human Rights Specialist \nRegister here: https://lnkd.in/e__gw-R \n 
URL:https://www.eabc-thailand.org/event/promoting-diversity-inclusion-in-the-supply-chain/
CATEGORIES:Partner Event
ATTACH;FMTTYPE=image/png:https://www.eabc-thailand.org/wp-content/uploads/2020/06/Regional-Webinar.png
END:VEVENT
END:VCALENDAR