BEGIN:VCALENDAR
VERSION:2.0
PRODID:-//EABC Thailand - ECPv6.15.20//NONSGML v1.0//EN
CALSCALE:GREGORIAN
METHOD:PUBLISH
X-WR-CALNAME:EABC Thailand
X-ORIGINAL-URL:https://www.eabc-thailand.org
X-WR-CALDESC:Events for EABC Thailand
REFRESH-INTERVAL;VALUE=DURATION:PT1H
X-Robots-Tag:noindex
X-PUBLISHED-TTL:PT1H
BEGIN:VTIMEZONE
TZID:Asia/Krasnoyarsk
BEGIN:STANDARD
TZOFFSETFROM:+0700
TZOFFSETTO:+0700
TZNAME:+07
DTSTART:20190101T000000
END:STANDARD
END:VTIMEZONE
BEGIN:VEVENT
DTSTART;TZID=Asia/Krasnoyarsk:20200513T160000
DTEND;TZID=Asia/Krasnoyarsk:20200513T173000
DTSTAMP:20260423T031712
CREATED:20200428T035529Z
LAST-MODIFIED:20200428T052647Z
UID:6845-1589385600-1589391000@www.eabc-thailand.org
SUMMARY:Channel Sales In Asia: How to Develop Your Sales via Third Party Sales Channels?
DESCRIPTION:Thai-Finnish Chamber of Commerce together with EABC\, BeluThai\, Danish-Thai Chamber of Commerce\, Thai-Norwegian Chamber of Commerce and Thai-Swedish Chamber of Commerce organize a webinar on Channel Sales in Asia ” How to Develop Your Sales via Third Party Sales Channels?” The webinar will be facilitated by Mr. Jari Hietala\, Advisor and former president of TFCC as well as his partners and co-founding members of Asian Insiders Mr. Pietro Karjalainen and Mr. Volker Friedrich. \nAgenda \n\n\n3:45 PM – 4:00 PM:   Webinar Checkin\n\n\n\n\n\n4:00 PM – 4:45 PM:   Part 1: Prerequisites for Effective Channel Sales\n\n\n\n\n\n4:45 PM – 5:30 PM:   Part 2: Solutions for Channel Development & Management\n\n\n\n\n\n5:30 PM – 6:00 PM:   Q&A\n\n\n  \nEABC Members get 10% discount when the register and pay for the webinar.  \nPlease\, ask for the discount code from: office@eabc-thailand.org \n  \nFor more information\, please go to https://thaifin.org/events/channel-sales-in-asia/
URL:https://www.eabc-thailand.org/event/channel-sales-in-asia-how-to-develop-your-sales-via-third-party-sales-channels/
CATEGORIES:Partner Event
ATTACH;FMTTYPE=image/jpeg:https://www.eabc-thailand.org/wp-content/uploads/2020/04/94726315_2098943426918070_798563054596915200_n.jpg
END:VEVENT
BEGIN:VEVENT
DTSTART;TZID=Asia/Krasnoyarsk:20200527T160000
DTEND;TZID=Asia/Krasnoyarsk:20200527T170000
DTSTAMP:20260423T031712
CREATED:20200520T102304Z
LAST-MODIFIED:20200520T102304Z
UID:6934-1590595200-1590598800@www.eabc-thailand.org
SUMMARY:Webinar: All you need to know about starting a business in Singapore & Thailand
DESCRIPTION:MPG  organizes an informative webinar about doing business in Singapore and Thailand on the attractive tax treaties and regimes\, the available government support and the company set-up requirements. \nAGENDA \nSingapore as the Gateway to ASEAN\n✓ Why Singapore?\n✓ How to set up a company in Singapore\n✓ Licensing requirements for your business\n✓ Immigration and types of Work Visas\n✓ Corporate Tax and double tax agreement between Thailand & Singapore\n✓ Government support and agencies you need to know\n✓ Singapore Budget 2020 and how will it support Singapore companies \nBusiness in Thailand Made Easy\n✓ How to set up a Thai company\n✓ Laws\, rules & regulations made easy\n✓ Types of business structures\n✓ BOI tax & non-tax Incentives\n✓ Eligible activities for BOI Promotion\n✓ Financial & regulatory reporting\n✓ Transfer pricing in Thailand\n✓ Business continuity for legal services \n  \nRegister at http://www.123formbuilder.com/form-5321510/form \nFor more information\, please go to  https://mailchi.mp/ee3ad4ca4164/upcoming-webinars-covid-19-updates \n 
URL:https://www.eabc-thailand.org/event/webinar-all-you-need-to-know-about-starting-a-business-in-singapore-thailand/
CATEGORIES:Member Event
ATTACH;FMTTYPE=image/jpeg:https://www.eabc-thailand.org/wp-content/uploads/2020/05/61635186.jpg
END:VEVENT
END:VCALENDAR