BEGIN:VCALENDAR
VERSION:2.0
PRODID:-//EABC Thailand - ECPv6.15.20//NONSGML v1.0//EN
CALSCALE:GREGORIAN
METHOD:PUBLISH
X-WR-CALNAME:EABC Thailand
X-ORIGINAL-URL:https://www.eabc-thailand.org
X-WR-CALDESC:Events for EABC Thailand
REFRESH-INTERVAL;VALUE=DURATION:PT1H
X-Robots-Tag:noindex
X-PUBLISHED-TTL:PT1H
BEGIN:VTIMEZONE
TZID:Asia/Krasnoyarsk
BEGIN:STANDARD
TZOFFSETFROM:+0700
TZOFFSETTO:+0700
TZNAME:+07
DTSTART:20190101T000000
END:STANDARD
END:VTIMEZONE
BEGIN:VEVENT
DTSTART;TZID=Asia/Krasnoyarsk:20200108T113000
DTEND;TZID=Asia/Krasnoyarsk:20200108T140000
DTSTAMP:20260423T092150
CREATED:20191217T041353Z
LAST-MODIFIED:20191217T061748Z
UID:6208-1578483000-1578492000@www.eabc-thailand.org
SUMMARY:Multi-Chamber Crystal Ball Business Luncheon (THB1\,200 – THB11\,200)
DESCRIPTION:CanCham Thailand in collaboration with the Australian\, British\, EABC\, Netherland\, Norwegian\, South African\, Singapore\, Swedish Chamber of Commerce\, proudly presents “MULTI-CHAMBER CRYSTAL BALL ECONOMIC OUTLOOK AND BUSINESS LUNCHEON – THE YEAR AHEAD” on January 8\, 2020 at Landmark Bangkok Hotel. \nThis CanCham flagship event promises to be a lively\, interactive discussion during which business leaders will provide their perspective and outlook on the economic\, financial\, political\, digital transformation landscape\, work/labour landscape for the year ahead.  The key trends in various sectors of industry will be highlighted. \nThe event will provide ample opportunity for participants to share insights and ideas among peers in the business sector. The panel discussion will be followed by Q&A. \nDate: Wednesday\, January 8\, 2020 \nTime: 11:30 – 14:00 \nVenue: Landmark Bangkok Hotel \nDress code: Business Attire or Smart Casual \nEntry Fee: \nEARLY BIRD PRICE\, valid until December 31\, 2019 \n\nTHB 1\,200 for members of participating chambers\nTHB 1\,600 for non-members\nTHB 11\,200 for table of 8 business people\n\nRegular price after January 1\, 2020 \n\nTHB 1\,600 for members of participating chambers\nTHB 1\,900 for non-members\nTHB 11\,200 for table of 8 business people\n\n \n  \n 
URL:https://www.eabc-thailand.org/event/multi-chamber-crystal-ball-business-luncheon-8-jan-2020-1130am-200pm-thb1200-thb11200/
LOCATION:Landmark Bangkok Hotel
ATTACH;FMTTYPE=image/jpeg:https://www.eabc-thailand.org/wp-content/uploads/2019/12/CrystalBallLuncheon.jpg
ORGANIZER;CN="Thai-Canadian Chamber of Commerce":MAILTO:eventsmgr@canchamthailand.org
END:VEVENT
BEGIN:VEVENT
DTSTART;VALUE=DATE:20200115
DTEND;VALUE=DATE:20200118
DTSTAMP:20260423T092150
CREATED:20190625T072830Z
LAST-MODIFIED:20190625T072830Z
UID:4736-1579046400-1579305599@www.eabc-thailand.org
SUMMARY:APRAG CONFERENCE 2020
DESCRIPTION:You are invited to join one of the most important Arbitration conference in Thailand\, APRAG Conference 2020 “Innovations and Challenges Facing the Arbitration Industry” \nThis conference is jointly organized by the Thailand Arbitration Center (THAC) and Asia Pacific Regional Arbitration Group (APRAG). This conference will be held on 15th – 17th January 2020 at Bangkok\, Thailand. \nAPRAG is a regional federation of arbitration associations which aims to improve standards and knowledge of international arbitration and will make submissions on behalf of the region to national and international organizations. \nThis co-operation is unique and is a reflection of the growing importance of international arbitration in Asia and Australasia\, the fastest growing economic area in the world. \nIt also demonstrates the maturity and good will of the member organizations and their determination to further raise standards in\, and improve the profile of\, international arbitration in the region. \nThe Conference in January 2020 aims to identify new opportunities for legal convergence to produce a more robust and predictable cross – border regime for arbitration.
URL:https://www.eabc-thailand.org/event/aprag-conference-2020/
CATEGORIES:Member Event
ATTACH;FMTTYPE=image/jpeg:https://www.eabc-thailand.org/wp-content/uploads/2019/06/1400x900-RGB-e1561447646895.jpg
ORGANIZER;CN="Thailand Arbitration Center Ltd.":MAILTO:benyapa.r@thac.or.th
END:VEVENT
BEGIN:VEVENT
DTSTART;TZID=Asia/Krasnoyarsk:20200122T183000
DTEND;TZID=Asia/Krasnoyarsk:20200122T210000
DTSTAMP:20260423T092150
CREATED:20200114T105101Z
LAST-MODIFIED:20200114T105457Z
UID:6338-1579717800-1579726800@www.eabc-thailand.org
SUMMARY:Multi-Chambers Networking Night / 22 Jan 2020 / Pullman King Power
DESCRIPTION:EABC is co-branding with Singapore-Thai Chamber of Commerce for Multi-Chambers Networking Night on 22 Jan 2020\, at Pullman Bangkok King Power. \nFor more info\, please click here.
URL:https://www.eabc-thailand.org/event/multi-chambers-networking-night-22-jan-2020-pullman-bangkok-king-power/
LOCATION:Pullman Bangkok King Power\, 8/2 Rangnam\, Phayathai\, Ratchathewi\,\, Bangkok\, 10400\, Thailand
CATEGORIES:Co-Chamber Event,EABC Event
ORGANIZER;CN="Singapore - Thai Chamber of Commerce":MAILTO:marketing@singaporethaicc.or.th
END:VEVENT
BEGIN:VEVENT
DTSTART;TZID=Asia/Krasnoyarsk:20200123T183000
DTEND;TZID=Asia/Krasnoyarsk:20200123T210000
DTSTAMP:20260423T092150
CREATED:20200115T044559Z
LAST-MODIFIED:20200115T052615Z
UID:6346-1579804200-1579813200@www.eabc-thailand.org
SUMMARY:BCCT Welcome Back T3+1 Business Networking
DESCRIPTION:BCCT WELCOME BACK T3 BUSINESS NETWORKING\n\n\n \n\n\nThursday 23 Jan 2020 / 6:30pm – 9:00pm \n\n\n \n\n\n@ A Bar\, Bangkok Marriott Marquis Queen’s Park\n\n\n(Sukhumvit 22 / BTS Phrom Phong / Exit 6) \n\n\n \n\n\nTHB 400 pre-pay\n\n\nTHB 500 pay at the door for members\n\n\nTHB 1\,200 for non-members\n\n\n \n\n\nPrice includes food & free flow of soft drinks\, beer\, and wine\n\n\n \n\n\nFood & Drink Menu\n\n\n \n\n\nPass Around: AB Tuna Pizza\, AB Mushroom Croquette\, AB California Roll\, Sevillan Tomato Salsa and Rocket on Bread\, Ratatouille on Bread\, Barramundi Spring Rolls with Lemon Mayo\, Chicken and Smoked Cheese Quesadilla\n\n\n \n\n\nLive Station: Beef Pastrami Sandwich/BBQ Pork Spareribs\, Chinese Egg Noodle with Chili Oil and Roasted Duck\, Chocolate Cigar Single Origin Chocolate Treat Smoked with Cherry Wood\n\n\n \n\n\nBeverages: Soft Drinks; Heineken Lager Beer; Vineyards Wine\, South Eastern Australia Shiraz & Chardonnay and Charles de Fere Sparkling Wine\, Cuvee Jean-Louis Brut Blanc de Blancs\n\n\nFore more info\, please click here.
URL:https://www.eabc-thailand.org/event/bcct-welcome-back-t31-business-networking/
LOCATION:Marriott Marquis Queen’s Park\, Bangkok\, 10110\, Thailand
CATEGORIES:Co-Chamber Event,Partner Event
ATTACH;FMTTYPE=image/png:https://www.eabc-thailand.org/wp-content/uploads/2020/01/BCCT_Business_Networking_23Jan2020-e1579063324109.png
ORGANIZER;CN="British Chamber of Commerce Thailand":MAILTO:contact@bccthai.com
END:VEVENT
END:VCALENDAR