BEGIN:VCALENDAR
VERSION:2.0
PRODID:-//EABC Thailand - ECPv6.15.20//NONSGML v1.0//EN
CALSCALE:GREGORIAN
METHOD:PUBLISH
X-WR-CALNAME:EABC Thailand
X-ORIGINAL-URL:https://www.eabc-thailand.org
X-WR-CALDESC:Events for EABC Thailand
REFRESH-INTERVAL;VALUE=DURATION:PT1H
X-Robots-Tag:noindex
X-PUBLISHED-TTL:PT1H
BEGIN:VTIMEZONE
TZID:Asia/Krasnoyarsk
BEGIN:STANDARD
TZOFFSETFROM:+0700
TZOFFSETTO:+0700
TZNAME:+07
DTSTART:20180101T000000
END:STANDARD
END:VTIMEZONE
BEGIN:VEVENT
DTSTART;TZID=Asia/Krasnoyarsk:20191002T083000
DTEND;TZID=Asia/Krasnoyarsk:20191002T120000
DTSTAMP:20260423T135955
CREATED:20190927T073603Z
LAST-MODIFIED:20191015T093534Z
UID:5699-1570005000-1570017600@www.eabc-thailand.org
SUMMARY:FITCH THAILAND ANNUAL CONFERENCE 2019
DESCRIPTION:We wish to cordially invite you to Fitch Ratings’ 2019 Annual Conference on “Global Risks & Thailand’s Economic Outlook”. The conference will be held at 08.15-12:00\, 2 October 2019 at Grand Hall\, The Athénee Hotel. \nFitch is honoured to welcome Dr Uttama Savanayana\, Minister of Finance\, to give the keynote opening address. \nThe 2019 conference will include 3 speakers from Fitch: Mr James McCormack\, Global Head of Sovereign & Supranationals; Mr Parson Singha\, Head of Thai Financial Institutions; and Mr Mervyn Tang\, Head of Sustainable Finance\, Asia Pacific. They will speak on the global risks & outlook for Thailand and major economies\, Asia Pacific banking sector outlook\, and assessing ESG risks in corporate and financial institutions\, respectively. Please see below agenda for your reference. \n\n\n\n\nLocation: Grand Hall\, The Athenee Hotel\, Bangkok\nDate: Wednesday 2 October 2019\n\n\n\n\nAgenda\n\n\n\n8:15 – 8:50am\nRegistration & Coffee\n\n\n8:55 – 9:00am\nIntroduction \n\n\n9:00 – 9:20am\nKeynote Opening Address \nDr Uttama Savanayana \nMinister of Finance\n\n\n9:25 – 10:10am\nGlobal Risks & Outlook for Major Economies \nMr James McCormack\nGlobal Head\, Sovereign & Supranationals\, Fitch Ratings Hong Kong\n10 minute Q & A\n\n\n10:15 – 10:55am \nKey Risks for Emerging Asia Banking Sectors \nMr Parson Singha \nSenior Director\, Financial Institutions\, Fitch Ratings Thailand \n5-minute Q & A\n\n\n10:55 – 11:15am \nCoffee Break\n\n\n11:15 – 11:55am\nAssessing Sector & Regional ESG Risk Trends \nMr Mervyn Tang \nSenior Director\, Sustainable Finance\, Fitch Ratings Hong Kong \n5-minute Q & A\n\n\n12:00pm \n Closing\n\n\n\nPlease confirm your attendance early by reverting the participants’ names\, positions and contact details (company\, e-mail address and telephone number) via e-mail: lakkana.ngaodeengam@fitchratings.com by Friday 27 September 2019. Please note that all presentations will be in English.
URL:https://www.eabc-thailand.org/event/fitch-thailand-annual-conference-2019/
LOCATION:The Athenee Hotel\, a Luxury Collection
CATEGORIES:Co-Partner Event,Partner Event
ATTACH;FMTTYPE=image/jpeg:https://www.eabc-thailand.org/wp-content/uploads/2019/09/fitch.jpg
ORGANIZER;CN="Fitch Thailand":MAILTO:lakkana.ngaodeengam@fitchratings.com
END:VEVENT
BEGIN:VEVENT
DTSTART;TZID=Asia/Krasnoyarsk:20191004T090000
DTEND;TZID=Asia/Krasnoyarsk:20191004T160000
DTSTAMP:20260423T135955
CREATED:20190924T062239Z
LAST-MODIFIED:20190924T062512Z
UID:5662-1570179600-1570204800@www.eabc-thailand.org
SUMMARY:SNEAK PREVIEW FOR NEW SPACES OPENING AT PHAHON YOTHIN 19
DESCRIPTION:SPACES at PHAHON 19 IS ABOUT TO OPEN –  \nWe invite you for a Sneak Preview on 4th of October  \nLocation:  Phahon 19 @ BTS Ha Yaek Lat Phrao  \nRSVP to reception.phahon19@spacesworks.com \nSneak Preview Spaces Phahon 19
URL:https://www.eabc-thailand.org/event/sneak-preview-for-new-spaces-opening-at-phahon-yothin-19/
LOCATION:Phahon 19
CATEGORIES:Member Event
ATTACH;FMTTYPE=image/png:https://www.eabc-thailand.org/wp-content/uploads/2019/09/Open-House-Spaces-P19.png
END:VEVENT
BEGIN:VEVENT
DTSTART;TZID=Asia/Krasnoyarsk:20191007T113000
DTEND;TZID=Asia/Krasnoyarsk:20191007T133000
DTSTAMP:20260423T135955
CREATED:20190930T031314Z
LAST-MODIFIED:20191015T093440Z
UID:5714-1570447800-1570455000@www.eabc-thailand.org
SUMMARY:LUNCH TALK SERIES ON SUSTAINABLE AND RESPONSIBLE BUSINESS #1
DESCRIPTION:In collaboration with Employers’ Confederation of Thailand\, the ILO is pleased to invite you to attend to the first edition of the Lunch Talk Series on sustainable and responsible business. The first event will focus on Dialogue on good practices in improving social performance and job quality in Thailand’s automotive supply chains. The keynote speaker is Ms. Yukiko Arai\, the ILO senior specialist\, who was featured by Forbes Japan as one of the 55 most influential women in Japan\, leads an extensive portfolio in country-level activities engaging with businesses and governments supporting competitive enterprises through the promotion of responsible business conduct by means of social dialogue. The lunch talk will be held on 7 October 2019\, 11.30-13.30\, Courtyard by Marriott Hotel\, Bangkok. \nPlease kindly find below further detail of the event. The registration can be submitted online via this link http://bit.ly/RSCAregister For participation\, please kindly submit the registration by 2nd October and they will confirm your participation by 3rd October.
URL:https://www.eabc-thailand.org/event/lunch-talk-series-on-sustainable-and-responsible-business-1/
LOCATION:Courtyard by Marriott Hotel\, Bangkok\, Bangkok\, Thailand
CATEGORIES:Co-Partner Event,Partner Event
ATTACH;FMTTYPE=image/jpeg:https://www.eabc-thailand.org/wp-content/uploads/2019/09/Lunch-Talk-Series-Brochure-e1569813244566.jpg
ORGANIZER;CN="ILO":MAILTO:thamparipattra@ilo.org
END:VEVENT
BEGIN:VEVENT
DTSTART;TZID=Asia/Krasnoyarsk:20191010T170000
DTEND;TZID=Asia/Krasnoyarsk:20191010T210000
DTSTAMP:20260423T135955
CREATED:20190924T041026Z
LAST-MODIFIED:20191015T093458Z
UID:5644-1570726800-1570741200@www.eabc-thailand.org
SUMMARY:MULTI-CHAMBER PHUKET BRIEFING & NETWORKING
DESCRIPTION:BCCT in cooperation with  Australian\, Canadian\, EABC\, French\, German\, Netherlands and Singapore Chambers of Commerce invites you to \nMulti-Chamber Phuket Briefing & Networking \nThursday 10th October 2019 \nMom Tri’s Villa Royale on Kata Noi Road Beach (map) \nBriefing 5-6 pm. Free admission. \nNetworking 6.30 – 9 pm. THB 500/member & THB 900/non-member payable at the door.\nPrice includes food & free flow soft\, beer & wine.\n\n*** To book now please click here or email banthita@bccthai.com *** \nBriefing: \nUpdates & Changes on Thai Labour Law\, Visas & Work Permits in Thailand by John Casella\, Partner\, PKF Thailand \n“There has been a lot of news recently regarding updates and changes to the Thai Labour Law\, Visas and Work Permits in Thailand\, particularly the Immigration Department’s changes in their enforcement of TM-30 & TM-28 requirements. They all have a bit of “The Good\, The Bad and The Ugly.”  Some a bit more one than the other…. Featuring no cowboys at all\, our PKF specialists will provide a “Spaghetti Eastern” look at “Thai Labour Law\, Visas and Work Permits – The Good\, The Bad and The Ugly.”  We will give both general overview and updates as they pertains to all of Thailand\, and will also be looking more closely at the recent steps being taken by the Thai Government revise/resolve the problems being encountered with TM-30 / TM-28 enforcement.  Sporting a fetching poncho and an unlit cigarillo will be the Man With a Name\, Tax Partner – John Casella. Also\, Once Upon a Time in the East will feature the heroine whom always saves the day\, Khun Chutinun\, head of Corporate Legal Services.” \nNetworking:  \nJoin us for a wonderful evening of making new connections and catching up with familiar faces in the Phuket Business community while enjoying drinks and exquisite food Mom Tri’s Kitchen Award Winning Restaurant in Phuket.  \nA boutique hotel\, personal creation of the renowned artist and architect Mom Luang Tridosyuth Devakul (Mom Tri)\, in Phuket situated on a headland overlooking the Andaman Sea and the white sand beach of Kata Noi. Landscaped into rocks overlooking the sea is a lovely saltwater swimming pool\, while there are two freshwater pools. A private path from the hotel leads to the sugar-white sand beach and the turquoise water of Kata Noi. Mom Tri’s Villa Royale offers a rare and unforgettable opportunity to experience graceful live is one of Phuket’s last hideaways.
URL:https://www.eabc-thailand.org/event/multi-chamber-phuket-briefing-networking/
LOCATION:Mom Tri’s Villa Royale\, Phuket\, Phuket\, Thailand
CATEGORIES:Co-Chamber Event,Partner Event
END:VEVENT
BEGIN:VEVENT
DTSTART;VALUE=DATE:20191015
DTEND;VALUE=DATE:20191017
DTSTAMP:20260423T135955
CREATED:20191004T034734Z
LAST-MODIFIED:20191015T093423Z
UID:5803-1571097600-1571270399@www.eabc-thailand.org
SUMMARY:IP KEY SEA TRADEMARKS CONFERENCE
DESCRIPTION:IP Key will organize another conference on trademarks on 15-16 October 2019. The Conference aims to promote the improvement of trademark examination\, protection and enforcement\, including the quality and enforceability of trademark applications filed in IP Offices in Southeast Asia.  Some of the topics to be covered include the protection of well-known marks\, prevention of bad faith registrations\, examination of non-traditional trademarks\, improving the quality of examination\, and recent developments in the area of trademarks. Some of the topics cover issues raised in the EABC Position Paper on IPR\, and we hope that the conference will contribute to addressing these concerns. \nPlease find below attachments of information of the conference and draft agenda. \nIPKeySEA_Act.8_TM Conference-Information \nIPKeySEA_Act.8_TM Conference-Agenda_26.09.2019 \nIf you are interested\, please register via the link below.  \nhttps://euipo.blumm.it/event/ar/1/ipkey-sea-conference-on-trademarks \n 
URL:https://www.eabc-thailand.org/event/ip-key-sea-trademarks-conference/
LOCATION:So Sofitel Bangkok Hotel\, 2 North Sathorn Road\, Bangkok\, Bangkok\, 10500\, Thailand
CATEGORIES:Co-Partner Event,Partner Event
ATTACH;FMTTYPE=image/png:https://www.eabc-thailand.org/wp-content/uploads/2019/10/Picture1.png
END:VEVENT
BEGIN:VEVENT
DTSTART;TZID=Asia/Krasnoyarsk:20191024T183000
DTEND;TZID=Asia/Krasnoyarsk:20191024T210000
DTSTAMP:20260423T135955
CREATED:20191001T060632Z
LAST-MODIFIED:20191018T065343Z
UID:5742-1571941800-1571950800@www.eabc-thailand.org
SUMMARY:STCC's MULTI CHAMBERS NETWORKING NIGHT
DESCRIPTION:
URL:https://www.eabc-thailand.org/event/stccs-multi-chambers-networking-night-4/
LOCATION:The Westin Grande Sukhumvit\, Bangkok\, 259 Sukhumvit Rd\, Khwaeng Khlong Toei Nuea\, Watthana\, Bangkok\, Bangkok\, 10110\, Thailand
CATEGORIES:Co-Chamber Event,Partner Event
ATTACH;FMTTYPE=image/jpeg:https://www.eabc-thailand.org/wp-content/uploads/2019/10/Multi-Chambers-Networking-Night-Flyer_F1____-e1571381590988.jpg
END:VEVENT
BEGIN:VEVENT
DTSTART;TZID=Asia/Krasnoyarsk:20191028T180000
DTEND;TZID=Asia/Krasnoyarsk:20191028T210000
DTSTAMP:20260423T135955
CREATED:20191009T075625Z
LAST-MODIFIED:20191015T093320Z
UID:5823-1572285600-1572296400@www.eabc-thailand.org
SUMMARY:TRADING IN A VOLATILE BUSINESS ENVIRONMENT
DESCRIPTION:The NTCC is organizing a panel discussion on “Trading in a Volatile Business Environment” on Monday 28th October\, 18:00 – 21:00\, at the Westin Grande Sukhumvit. Confirmed panelists representing four different fields to share their points of view under the topic are; \n\nPhilipp Dupuis\, Head of the Economic and Trade Section\, Delegation of the European Union in Thailand\nNaris Sathapholdeja\, Head of TMB Analytics\nPrinn Panitchpakdi\, Deputy Leader and Head of the Economic Team\, Democrat Party\nStefan van der Sluys\, CEO of Best Global Logistics (Thailand) Ltd.\n\nFull event details: https://www.eventbank.com/event/trading-in-a-volatile-business-environment-panel-discussion-16248/
URL:https://www.eabc-thailand.org/event/trading-in-a-volatile-business-environment/
LOCATION:State Room III\, 8th Floor\, The Westin Grande Sukhumvit\, 259 Sukhumvit Road\, Bangkok\, Bangkok\, 10110\, Thailand
CATEGORIES:Co-Chamber Event,Partner Event
ATTACH;FMTTYPE=image/jpeg:https://www.eabc-thailand.org/wp-content/uploads/2019/10/20191028_new-draft.jpg
ORGANIZER;CN="Netherlands-Thai Chamber of Commerce":MAILTO:events@ntccthailand.org
END:VEVENT
BEGIN:VEVENT
DTSTART;VALUE=DATE:20191030
DTEND;VALUE=DATE:20191101
DTSTAMP:20260423T135955
CREATED:20190820T091026Z
LAST-MODIFIED:20190913T030633Z
UID:5125-1572393600-1572566399@www.eabc-thailand.org
SUMMARY:WOMEN CEO SUMMIT
DESCRIPTION:We would like to invite you to the upcoming Women CEO Summit in Bangkok\, The 1st Summit of Women CEOs in ASEAN on 30-31 October\, 2019 Bangkok\, organized by ASEAN Women Entrepreneurs Network (AWEN). \nThe Summit would provide a great opportunity for industry leaders and leading CEOs to share their views and thoughts as well as to interact with Summit participants in two focal areas: \n\nThe challenges posed by Globalization 4.0 to government and business\, including but not limited just to women entrepreneurs in ASEAN\nThe needed changes and adaptions to be put in place by government and business to transform disruptive challenges into advantageous opportunities.\n\n\nPlease click here to see the agenda of the event.\n 
URL:https://www.eabc-thailand.org/event/women-ceo-summit/
LOCATION:Grand Hyatt Erawan Bangkok Hotel\, 494 Ratchadamri Rd\, Khwaeng Lumphini\, Khet Pathumwan\, Bangkok\, Bangkok\, 10330\, Thailand
CATEGORIES:Co-Partner Event,Partner Event
ATTACH;FMTTYPE=image/png:https://www.eabc-thailand.org/wp-content/uploads/2019/08/women-ceo-e1567415523825.png
ORGANIZER;CN="AWEN":MAILTO:womenceossummit@gmail.com
END:VEVENT
END:VCALENDAR