BEGIN:VCALENDAR
VERSION:2.0
PRODID:-//EABC Thailand - ECPv6.15.20//NONSGML v1.0//EN
CALSCALE:GREGORIAN
METHOD:PUBLISH
X-ORIGINAL-URL:https://www.eabc-thailand.org
X-WR-CALDESC:Events for EABC Thailand
REFRESH-INTERVAL;VALUE=DURATION:PT1H
X-Robots-Tag:noindex
X-PUBLISHED-TTL:PT1H
BEGIN:VTIMEZONE
TZID:Asia/Krasnoyarsk
BEGIN:STANDARD
TZOFFSETFROM:+0700
TZOFFSETTO:+0700
TZNAME:+07
DTSTART:20180101T000000
END:STANDARD
END:VTIMEZONE
BEGIN:VEVENT
DTSTART;TZID=Asia/Krasnoyarsk:20190503T183000
DTEND;TZID=Asia/Krasnoyarsk:20190503T210000
DTSTAMP:20260423T203721
CREATED:20190405T043218Z
LAST-MODIFIED:20190701T072929Z
UID:4073-1556908200-1556917200@www.eabc-thailand.org
SUMMARY:BCCT MULTI-CHAMBER CHIANG MAI BUSINESS NETWORKING
DESCRIPTION:3/5 – BCCT MULTI-CHAMBER CHIANG MAI BUSINESS NETWORKING \n\n\n\n***ALL NATIONALITIES ARE WELCOME*** \nBritish Chamber of Commerce Thailand (BCCT)\, together with Australian\, Canadian\, Danish\, EABC\, Franco and Singapore Chambers of Commerce\, cordially invites you to the Multi-Chamber Chiang Mai Business Networking. Join us for a wonderful evening of making new connections and catching up with familiar faces in the Chiang Mai Business community. \nEvent details: \nDate: Friday 3 May 2019 \nTime: 6.30 – 9.00 pm \nVenue: Hard Rock Cafe Chiang Mai on Loi Kroh Road (right in the middle of the night Bazaar) \nCost: THB550 for BCCT and members of participating chambers and THB800 for non-members. Price includes buffet food and a free flow of beer\, wine and soft drinks\n\nBooking: please click HERE or email rungjit@bccthai.com or call 02 651 5350 \nBIG thanks to our generous sponsors    \nOur range of offerings is merely a symptom of our approach as financial planners and asset managers. The approach is simply to ask\, ask and ask again. As consultants we ask questions and recommend solutions\, whether that be in response to a retirement shortfall\, offshore pension planning\, estate planning\, online banking\, funding a child through university or even just a straight up investment for maximum returns\, it always starts the same way; a consultative meeting which is part of a larger ongoing process. Quite simply\, when you choose BlueStar AMG\, you opt for quality business practice. \nMovaci specializes in providing IT Solutions tailored to meet the needs of your business while insuring your complete security and privacy. Founded in 2009\, Movaci is now trusted by businesses and organizations in more than 30 countries for whom we provide IT solutions\, support\, and security. Our services and solutions enable our clients to operate more efficiently\, securely\, and to more readily achieve their goals. Our services enable our clients to be more productive and empowers their leadership to make more effective and strategic decisions. Movaci’s cutting-edge\, high-quality service delivery and industry-leading technology provides everything your business needs to meet the challenges of our ever-changing IT world. \nLanna International School Thailand is a British international school founded in 1993. We are the only international school in northern Thailand to offer a British based curriculum from Pre-Nursery to Year 13. We believe that the diversity of our student body and academic excellence are our greatest strengths\, enabling our students to move on to the best universities in the world.\nLocated in the middle of the Chiang Mai Night Bazaar\, our Hard Rock cafe is the perfect break from the hustle and bustle of the city. Sit indoors or out and enjoy one of our fresh\, handcrafted menu options\, including the Legendary® Burger or a frozen Hurricane cocktail served in one of our signature glasses. \nWe are a full service\, event planning facility with state of the art audiovisual available for all events (free of charge). Private parties\, corporate meeting & events\, cocktail reception\, catering\, entertainment\, live bands (from acoustic to hard rock)\, free parking and event merchandise can be customized to complement every event.
URL:https://www.eabc-thailand.org/event/bcct-multi-chamber-chiang-mai-business-networking/
LOCATION:Hard Rock Cafe Chiang Mai\, Thailand
CATEGORIES:Co-Chamber Event,Partner Event
ATTACH;FMTTYPE=image/png:https://www.eabc-thailand.org/wp-content/uploads/2019/04/0305-Chiang-Mai-Networking-e1554439403168.png
END:VEVENT
BEGIN:VEVENT
DTSTART;TZID=Asia/Krasnoyarsk:20190508T183000
DTEND;TZID=Asia/Krasnoyarsk:20190508T203000
DTSTAMP:20260423T203721
CREATED:20190410T101112Z
LAST-MODIFIED:20190701T100608Z
UID:4129-1557340200-1557347400@www.eabc-thailand.org
SUMMARY:BCCT MULTI-CHAMBERS HR EVENING PRESENTATION: Gender Equality - Lessons from the frontline
DESCRIPTION:BCCT in collaboration with EABC\, Franco and Swedish Chambers of Commerce invites you to attend the HR Evening Presentation on Gender Equality – Lessons From the Frontline. \nEvent detail: \nDate: Wednesday 8 May 2019 \nTime: 6.30 – 8.30 pm \nVenue: Bangkok Marriott Hotel The Surawongse \nAgenda:  \n6.30 Registration and Networking \n7.00 Presentation \n8.00 Questions & Answers \n8.30 Networking & Close \nCost: THB1\,000 for members. THB1\,500 for non-members. Price includes cocktail food\, soft drinks\, beer and wine. Pre-registration is required. No walk-ins.\nPayment: The fee is payable at the door. If you would like to make a pre-payment\, please click for pre-payment options here. \nCancellation policy: Reservations not cancelled within 2 business days of the event will be charged and invoiced as no-shows. \nSpeakers:  \nCindy Sirinya Bishop is a Super Model\, Actress\, TV Host and Activist who is possibly best known for her role as the host of Asia’s Next Top Model. Cindy is involved in many social causes\, widely reported in local and international media. \nSexual assault and gender-based violence is a reality that 1 in 3 women in the world have to deal with\, yet it remains a topic shrouded in shame\, kept secret or talked about in hushed voices for fear of further discrimination and punishment. Cindy will talk about her journey as the founder of Dont Tell Me How To Dress\, a social movement aimed to create awareness and change social norms around the issue of sexual assault and to reduce gender-based violence in Southeast Asia. \nHelen Suwannawongse is a Chartered Fellow of CIPD\, an NLP Master Practitioner\, Cultural Awareness Speaker\, and a passionate people person in every sense of the word.  Helen works with the Oxfam team in Asia as Regional HR & OD Manager\, and Global Head of Learning and Organization Development Shared Service. \nHelen is an advocate for Gender Justice and strives to propel organizational results through strategic human resources and culture building initiatives and will be speaking about gender equality\, diversity and inclusion in Oxfam\, and initiatives to promote a culture\, free from exploitation\, harm and abuse. \n \n  \nBIG thanks to our generous sponsors \n  \n \n  \nAllied Pickfords has been synonymous with high quality home moving experience for almost – 400 Years. Allied Pickfords move to over 600 locations in more than 40 countries\, our brand has grown to become one of the largest and most respected providers of moving services all over the world\, handling over 50\,000 domestic and international moves every year. \nAllied Pickfords offers a complete range of moving services to ensure that whether you need a local moving company in Bangkok\, relocating to or from Thailand\, or moving overseas\, our movers have you covered from planning your move to helping you settle comfortably into your new location. We also offer short and long term storage facilities. \nAllied Pickfords services include:\n●Local Moving Services\n●International Moving Services\n●Relocation Services\n●Household Goods Moving\n●Office Moving\n●Short and Long-Term Storage \nFacebook:  https://www.facebook.com/AlliedPickfordsThailand/\nYouTube: https://www.youtube.com/user/sirvaworldwide\nLinkedIn: https://www.linkedin.com/ \n  \n \nParent Company: Page Group\nDate of establishment: 1976\nNo of staff: 7311\nWebsite:  www.michaelpage.co.th \nActivities: \n\nGlobal professional recruitment specialists operating in more than 140 offices across 36 offices\nPublicly listed company on the London stock exchange\nRecruitment of temporary\, contract and permanent roles from mid to senior level upwards\nBringing job seekers and employers together for over 40 years\n\n  \nMichael Page Thailand is based in Bangkok and is currently covering hiring for 7 disciplines\, including Engineering & Manufacturing\, Finance & Accounting\, Digital\, Human Resources\, Marketing\, Procurement & Supply Chain and Sales. \n \nWellington College is renowned as a progressive school with a strong international perspective. Our family of schools currently compromise four schools in the UK and four in China. In 2018\, Wellington College International School Bangkok opened its Early Years and Junior School to children age 2-11 and the upcoming Senior School will take students through to Year 13. Our students\, parents and staff enjoy numerous benefits as part of the Wellington Community\, including opportunities for exchanges\, cultural trips and extraordinary collaborative learning\, as well as membership in the Wellington Connect global network.
URL:https://www.eabc-thailand.org/event/bcct-multi-chambers-hr-evening-presentation-gender-equality-lessons-from-the-frontline/
LOCATION:Bangkok Marriott Hotel The Surawongse\, Thailand
CATEGORIES:Co-Chamber Event,Partner Event
ATTACH;FMTTYPE=image/jpeg:https://www.eabc-thailand.org/wp-content/uploads/2019/04/8.5.19.jpg
END:VEVENT
BEGIN:VEVENT
DTSTART;TZID=Asia/Krasnoyarsk:20190513T080000
DTEND;TZID=Asia/Krasnoyarsk:20190516T170000
DTSTAMP:20260423T203721
CREATED:20190418T071244Z
LAST-MODIFIED:20190418T073730Z
UID:4161-1557734400-1558026000@www.eabc-thailand.org
SUMMARY:The 2nd International ADR Conference 2019\, ICC – THAC Arbitration Conference 2019
DESCRIPTION:  \n  \n  \n  \n  \n  \n  \n  \n  \nIt is our pleasure to invite you to join one of the most important Arbitration conference in Thailand\, The 2nd International ADR Conference 2019\, ICC – THAC Arbitration Conference 2019 and Global Mediation Forum 2019 \nThis conference is jointly organized by the THAC Thailand Arbitration Center\, our member\, The International Court of Arbitration (ICC) and  International Dispute Resolutions & Risk Management Institute (IDRRMI). \n  \nThe annual flagship conference is designed to attract legal practitioners\, judges\, in – house counsel\, policymakers\, academics and business persons for a comprehensive discussion on promoting the use of arbitration and other forms of alternative dispute resolution.  \n  \nThe Conference in May aims to identify new opportunities for legal convergence to produce a more robust and predictable cross – border regime for arbitration\, mediation and online dispute resolution. The Conference this year will emphasize developments in the field of ADR and future trends in this area. It is expected that the discussion will touch on the impact and opportunities for the wider use and adoption of ADR. This conference will be held on 13th – 16th May 2019 at Infinity Ballroom\, Pullman Bangkok King Power\, Bangkok.
URL:https://www.eabc-thailand.org/event/the-2nd-international-adr-conference-2019/
LOCATION:Pullman Bangkok King Power\, Bangkok\, Thailand
CATEGORIES:Member Event
ATTACH;FMTTYPE=image/jpeg:https://www.eabc-thailand.org/wp-content/uploads/2019/04/Flyer-ADR-WEEK-09.04.19-01.jpg
ORGANIZER;CN="Thailand Arbitration Center Ltd.":MAILTO:benyapa.r@thac.or.th
END:VEVENT
BEGIN:VEVENT
DTSTART;TZID=Asia/Krasnoyarsk:20190515T170000
DTEND;TZID=Asia/Krasnoyarsk:20190515T203000
DTSTAMP:20260423T203721
CREATED:20190405T095147Z
LAST-MODIFIED:20190517T034555Z
UID:4097-1557939600-1557952200@www.eabc-thailand.org
SUMMARY:EABC ANNUAL GENERAL MEETING 2019
DESCRIPTION:Event: “EABC AGM 2019”\nDate: 15 May 2019\nTime: 17.00 – 20.30 hrs (tentatively)\nVenue: Ballroom II\, Sheraton Grande Sukhumvit\, a Luxury Collection Hotel \nAs a valuable member of our community\, we would like to invite our dear members to be a part of our Annual General Meeting 2019 on 15th May. \nWe are looking for local businesses and organizations to help us make this event truly special for our community.  As a trusted organization in the community\, your involvement would help highlight the importance of recognizing European businesses in Thailand for all that they do and supporting their work from the community level all the way to the national level. \nSuch special events like this can provide the encouragement to continue to keep our community healthy\, and can show our national leaders how important the contributions of our businesses are. \nFor your kind consideration\, download AGM Contribution Reply Form \n  \n  \n  \nPlease follow our link below to see pictures taken at the event\nhttps://www.eabc-thailand.org/news/eabc/agm-2019-followed-by-networking-event/ \n 
URL:https://www.eabc-thailand.org/event/eabc-annual-general-meeting-2019/
LOCATION:Sheraton Grande Sukhumvit\, a Luxury Collection Hotel\, Bangkok\, Thailand
CATEGORIES:EABC Event
ATTACH;FMTTYPE=image/png:https://www.eabc-thailand.org/wp-content/uploads/2019/04/agm19-e1554809211660.png
ORGANIZER;CN="EABC":MAILTO:office@eabc-thailand.org
END:VEVENT
BEGIN:VEVENT
DTSTART;TZID=Asia/Krasnoyarsk:20190515T183000
DTEND;TZID=Asia/Krasnoyarsk:20190515T203000
DTSTAMP:20260423T203721
CREATED:20190510T060403Z
LAST-MODIFIED:20190701T100551Z
UID:4264-1557945000-1557952200@www.eabc-thailand.org
SUMMARY:AFTER AGM 2019 NETWORKING
DESCRIPTION:Follow our link below to see photos taken at the event\nhttps://www.eabc-thailand.org/news/eabc/agm-2019-followed-by-networking-event/ \n 
URL:https://www.eabc-thailand.org/event/after-agm-2019-networking/
LOCATION:Sheraton Grande Sukhumvit\, a Luxury Collection Hotel\, Bangkok\, Thailand
CATEGORIES:EABC Event
ATTACH;FMTTYPE=image/gif:https://www.eabc-thailand.org/wp-content/uploads/2019/05/Copy-of-Pink-and-Purple-Upcoming-Events-Digital-Displ-Made-with-PosterMyWall-_3__1.gif
ORGANIZER;CN="EABC":MAILTO:office@eabc-thailand.org
END:VEVENT
BEGIN:VEVENT
DTSTART;TZID=Asia/Krasnoyarsk:20190522T183000
DTEND;TZID=Asia/Krasnoyarsk:20190522T210000
DTSTAMP:20260423T203721
CREATED:20190508T074844Z
LAST-MODIFIED:20190701T072928Z
UID:4250-1558549800-1558558800@www.eabc-thailand.org
SUMMARY:STCC's MULTI CHAMBERS NETWORKING NIGHT
DESCRIPTION:
URL:https://www.eabc-thailand.org/event/stccs-multi-chambers-networking-night-2/
LOCATION:The Lancaster Bar\, 1777 New Phetchaburi Road\, Bangkok\, Bangkok\, 10310\, Thailand
CATEGORIES:Co-Chamber Event,Partner Event
ATTACH;FMTTYPE=image/jpeg:https://www.eabc-thailand.org/wp-content/uploads/2019/05/Multi-Chambers-Networking-Night_May-19_Lancaster_Footnote_.jpg
END:VEVENT
BEGIN:VEVENT
DTSTART;VALUE=DATE:20190529
DTEND;VALUE=DATE:20190601
DTSTAMP:20260423T203721
CREATED:20190516T092226Z
LAST-MODIFIED:20190701T100517Z
UID:4334-1559088000-1559347199@www.eabc-thailand.org
SUMMARY:FUTURE OF FINANCE SUMMIT 2019
DESCRIPTION:Last chance to get your tickets to The Asian Banker Future of Finance Summit 2019 on May 29-31 at Shangri-La Hotel\, Bangkok\, Thailand. \nNow in its 20th year\, the Summit is the largest annual meeting of leaders in traditional financial institutions from across 30 countries around the world. It is where the real industry players – regulators\, traditional banks\, internet finance companies\, asset managers\, insurance companies\, investors and customers – come together to discuss hard business level execution issues that actually create the future of finance. \n\nUse code EABCFOFSUMMIT19 for your discounted ticket. Register today http://www.theasianbanker.com/future-of-finance-summit-2019/registration-details/. #FOFSummit19
URL:https://www.eabc-thailand.org/event/future-of-finance-summit-2019/
LOCATION:Shangri-La Hotel\, Bangkok- VOLTI RESTAURANT & BAR\, 89 Soi Wat Suan Plu\, New Road\, Bangrak\, Bangkok 10500 Thailand\, BANGKOK\, Thailand
CATEGORIES:Partner Event
ATTACH;FMTTYPE=image/jpeg:https://www.eabc-thailand.org/wp-content/uploads/2019/05/FOFSummit19-Social-Media-Banner-for-EABC-e1557998377750.jpg
END:VEVENT
BEGIN:VEVENT
DTSTART;TZID=Asia/Krasnoyarsk:20190530T130000
DTEND;TZID=Asia/Krasnoyarsk:20190530T200000
DTSTAMP:20260423T203721
CREATED:20190315T111358Z
LAST-MODIFIED:20190701T072928Z
UID:3760-1559221200-1559246400@www.eabc-thailand.org
SUMMARY:THE 2019’S EDITION OF THE SUSTAINABILITY FOR BUSINESS FORUM (SBF19)
DESCRIPTION:SAVE THE DATE! \n\n\nFollowing up on two previous successful editions\, we are excited to announce  \n 2019’s edition of the Sustainability for Business Forum (SBF19)  \nThursday\, 30 May 2019 @13h00 – 20h00 \n@ Mövenpick BDMS Wellness Resort Bangkok. (MAP) \nAddress : 2 Witthayu Rd\, Khwaeng Lumphini\, Khet Pathum Wan\, Krung Thep Maha Nakhon 10330 \nOur inspiring corporate executives\, business practitioners and service providers will bring up-to-date insights\, bold ideas\, innovations\, business solutions and applications of the latest sustainable trends. Our speakers and moderators will be connecting big ideas to engage your employees\, improve your company’s reputation and increase the profitability of your business. Come and join us to see how you can CREATE and GROW your business with sustainability. The sessions/tracks are as the following areas: \n\nGreen Energy\nPollution& Waste\nEducation at the Workplace\nHealth & Well being\nSustainable Business : Your new marketing perspective by TCEB\n\nTentative Programme:\n13h00  Registration\n14h00 Opening Ceremony by French and Dutch Ambassadors & The President of Thailand Convention & Exhibition Bureau (TCEB)\n14h30      5 Track Sessions\n15h45      Networking Break\n16h15      5 Track Sessions\n17h30      Executive Panel – Sustainability as a Corporate Strategy\n18h30      Networking Cocktail \nRegistration fees:\nPre-paids: 1\,300 THB for Members/ 1\,600 THB for Non-Members\nWalk-ins : 1\,600 THB  for Members/ 1\,900 THB for Non-Members \nBecoming an active part of SBF19:\nCLICK HERE to learn more about Sponsorship Packages : \n1. Boosters\n2. Supporters\n3. Sponsors \nKey contacts:\n\nFTCC: Nutjaree Judpoon (Fresh)\,\nEmail :nutjaree(@)francothaicc.com \, Tel : +66 (0) 2 650 9613 #180\nNTCC: Papatsorn Krunggratoke (Ploy)\nEmail :events(@)ntccthailand.org\, Tel : +66 (0) 2 254 64 34\n\n  \n\n\n\n\nProgramme\n\n30/05/2019\n\n\n13:00 – 14:00\nRegistration\n\n\n14:00 – 14:30\nOpening Ceremony by French and Dutch Ambassadors & The President of Thailand Convention & Exhibition Bureau (TCEB)\n\n\n14:30 – 15:45\n5 Track Sessions\n\n\n15:45 – 16:15\nNetworking Break\n\n\n16:15 – 17:30\n5 Track Sessions\n\n\n17:30 – 18:30\nExecutive Panel – Sustainability as a Corporate Strategy\n\n\n18:30 – 20:00\nNetworking Cocktail
URL:https://www.eabc-thailand.org/event/the-2019s-edition-of-the-sustainability-for-business-forum-sbf19/
LOCATION:Mövenpick BDMS Wellness Resort Bangkok\, Bangkok\, Bangkok\, Thailand
CATEGORIES:Co-Chamber Event,Partner Event
ATTACH;FMTTYPE=image/png:https://www.eabc-thailand.org/wp-content/uploads/2019/03/20190530-Call-for-speakers-2.png
ORGANIZER;CN="Franco-Thai Chamber of Commerce":MAILTO:events@francothaicc.com
END:VEVENT
BEGIN:VEVENT
DTSTART;TZID=Asia/Krasnoyarsk:20190530T180000
DTEND;TZID=Asia/Krasnoyarsk:20190530T210000
DTSTAMP:20260423T203721
CREATED:20190508T060237Z
LAST-MODIFIED:20190701T072928Z
UID:4236-1559239200-1559250000@www.eabc-thailand.org
SUMMARY:BCCT MULTI-CHAMBERS HOSPITALITY PRESENTATION
DESCRIPTION:British Chamber of Commerce Thailand (BCCT)\, in collaboration with AustCham\, BeLuThai\, EABC and HTCC\, invites you to the BCCT Multi-Chambers Hospitality Presentation. A presentation of how to survive selling in today’s world by Tareq Bagaeen\, the CEO of aQedina. \nTareq states he is driven by ” Passion and Energy”\, and thus will show how he strives to develop hungry and effective sales people in today’s markets for today’s consumers. From showing how to be the persuasive negotiator with outstanding technical and interpersonal skills through to constant research\, learning\, dedication\, teamwork and energy\, he will explain how it all works! \nEvent detail:  \nDate: Thursday 30th May \nTime: 6.00 – 9.00 pm \nVenue: Oriental Residence Bangkok (Nearest BTS Ploenchit\, exit 5) map  \nTopic: Sales Professionals in Today’s World \nSpeakers: Tareq Bagaeen – CEO\, aQedina \nCost: THB900 for members of BCCT and participating chambers. THB1\,100 for non-members. Price includes drinks and finger food. Pre-registration is required. No walk-ins accepted. \nCancellation policy: Reservations not cancelled within 2 business days of the event will be charged and invoiced as will no-shows. \n \n\nAbout our speakers: \nTareq Bagaeen – CEO\, aQedina \nTareq is a passionate commercially oriented hotelier with just under 2 decades of extensive experience in international sales\, marketing and revenue with a key in-depth knowledge of the key global source markets. This\, coupled with outstanding teaching and motivational skills have allowed him to embrace and adapt to the fluid demands of today’s multinational teams and the ever changing Tourism industry.
URL:https://www.eabc-thailand.org/event/bcct-multi-chambers-hospitality-presentation/
LOCATION:Oriental Residence Bangkok\, 110 Witthayu Rd\, Lumphini\, Pathumwan\, Bangkok\, 10330\, Thailand
CATEGORIES:Co-Chamber Event,Partner Event
ATTACH;FMTTYPE=image/png:https://www.eabc-thailand.org/wp-content/uploads/2019/05/300519-Sales-Skills-in-Tourism-e1557295330783.png
END:VEVENT
END:VCALENDAR