BEGIN:VCALENDAR
VERSION:2.0
PRODID:-//EABC Thailand - ECPv6.15.20//NONSGML v1.0//EN
CALSCALE:GREGORIAN
METHOD:PUBLISH
X-WR-CALNAME:EABC Thailand
X-ORIGINAL-URL:https://www.eabc-thailand.org
X-WR-CALDESC:Events for EABC Thailand
REFRESH-INTERVAL;VALUE=DURATION:PT1H
X-Robots-Tag:noindex
X-PUBLISHED-TTL:PT1H
BEGIN:VTIMEZONE
TZID:Asia/Krasnoyarsk
BEGIN:STANDARD
TZOFFSETFROM:+0700
TZOFFSETTO:+0700
TZNAME:+07
DTSTART:20180101T000000
END:STANDARD
END:VTIMEZONE
BEGIN:VEVENT
DTSTART;TZID=Asia/Krasnoyarsk:20190123T183000
DTEND;TZID=Asia/Krasnoyarsk:20190123T210000
DTSTAMP:20260424T015621
CREATED:20190114T025905Z
LAST-MODIFIED:20190701T110508Z
UID:306-1548268200-1548277200@www.eabc-thailand.org
SUMMARY:Multi Chambers Networking Night
DESCRIPTION:The STCC wants to welcome you to 2019! a new year with opportunities. We look forward building more business relations and friendships throughout the year. Te celebrate this occasion we want to welcome you to our Multi chambers Rooftop celebration event on 23 January 2019.
URL:https://www.eabc-thailand.org/event/multi-chambers-networking-night/
LOCATION:Hotel Clover Asoke\, Sukhumvit Soi 16\, Asoke BTS Station\, Bangkok\, Thailand
CATEGORIES:Co-Chamber Event,Partner Event
ATTACH;FMTTYPE=image/jpeg:https://www.eabc-thailand.org/wp-content/uploads/Flyer_Multi-Chambers-Networking-Night_Hotel-Clover-Asoke.jpg
END:VEVENT
END:VCALENDAR