BEGIN:VCALENDAR
VERSION:2.0
PRODID:-//EABC Thailand - ECPv6.15.20//NONSGML v1.0//EN
CALSCALE:GREGORIAN
METHOD:PUBLISH
X-WR-CALNAME:EABC Thailand
X-ORIGINAL-URL:https://www.eabc-thailand.org
X-WR-CALDESC:Events for EABC Thailand
REFRESH-INTERVAL;VALUE=DURATION:PT1H
X-Robots-Tag:noindex
X-PUBLISHED-TTL:PT1H
BEGIN:VTIMEZONE
TZID:Asia/Krasnoyarsk
BEGIN:STANDARD
TZOFFSETFROM:+0700
TZOFFSETTO:+0700
TZNAME:+07
DTSTART:20170101T000000
END:STANDARD
END:VTIMEZONE
BEGIN:VEVENT
DTSTART;VALUE=DATE:20181204
DTEND;VALUE=DATE:20181207
DTSTAMP:20260424T033740
CREATED:20190213T044252Z
LAST-MODIFIED:20190213T044252Z
UID:3600-1543881600-1544140799@www.eabc-thailand.org
SUMMARY:INDONESIA MISSION TRIP 2018
DESCRIPTION:The EU-ASEAN Business Council will be organising a business mission to Indonesia from 4-6 December to meet with Indonesia government officials and relevant stakeholders. As a founding partner of the EU-ASEAN\, EABC members are encouraged to attend these meetings as part of the EU-ABC delegation to raise issues and challenges faced in Indonesia. \nThese meetings are open to EU-ABC Members free-of-charge. Non-Members of the EU-ABC can join this mission trip for a charge of S$2\,000 per delegate. Delegates will need to book their own flights and accommodation for the Mission. Please indicate your interest to be part of the Mission at info@eu-asean.eu
URL:https://www.eabc-thailand.org/event/indonesia-mission-trip-2018/
ATTACH;FMTTYPE=image/jpeg:https://www.eabc-thailand.org/wp-content/uploads/2019/02/92b85115-915d-4952-b74f-9bcd55d86e0c1.jpg
END:VEVENT
BEGIN:VEVENT
DTSTART;TZID=Asia/Krasnoyarsk:20181212T143000
DTEND;TZID=Asia/Krasnoyarsk:20181212T160000
DTSTAMP:20260424T033740
CREATED:20190110T084948Z
LAST-MODIFIED:20190110T085207Z
UID:218-1544625000-1544630400@www.eabc-thailand.org
SUMMARY:Thailand Public Procurement Briefing for International Communities
DESCRIPTION:The British Embassy Bangkok and the European Association for Business and Commerce (EABC) are pleased to announce a co-host briefing event on the changes to Thailand’s public procurement processes and their implications for international bidders at the Athenee Hotel on the 12th of December 2018\, from 14.30 hrs to 16.00 hrs. \nIn 2016\, Thailand launched the first Public Procurement Act\, which aims to improve transparency\, efficiency and value for money in public procurement. One of the key features of the law is to promote alignment with international standards. The revised public procurement approach allows international firms to compete to deliver high value public procurement projects\, aiming to ensuring high quality procurement outcomes for Thailand. Participants will hear directly from experts from the Comptroller General’s Department about the new public procurement procedures and their implications for your business. \nAgenda for the Event download here \nIf you or a representative from your organisation would like to attend\, please reply to this invitation by registering using this link https://goo.gl/forms/7IOzE6DCBHYKQ6Mq2 or scan QR code below or contact us at office@eabc-thailand.org by Friday 7 December 2018. \n \n\nRe: News regarding the Venue (The Athenee Hotel\, 29F) \nPlease be informed that the DRIVE WAY in front of the building will be closed for repairing on the day. The drive way will be a little changed as below; \n\nExit drive way in front of the building will be closed. (Cannot use the existing exit driveway\, please use other lane for exit to Wireless Road)\nThe temporary entrance drive way will be the drive way behind the building.\n\n \n**For International Guests Abroad\nKindly note you may attend the event via Webinar. Please register “GoToWebinar” with your full name and email address at https://attendee.gotowebinar.com/register/2571548085645439245\nAfter the registration\, you will receive a confirmation email with an instruction on how to join our event via the webinar.
URL:https://www.eabc-thailand.org/event/thailand-public-procurement-briefing-for-international-communities/
LOCATION:Athenee Hotel\, Thailand
ATTACH;FMTTYPE=image/png:https://www.eabc-thailand.org/wp-content/uploads/Ev.png
END:VEVENT
BEGIN:VEVENT
DTSTART;VALUE=DATE:20181224
DTEND;VALUE=DATE:20181225
DTSTAMP:20260424T033740
CREATED:20190213T044218Z
LAST-MODIFIED:20190213T045843Z
UID:3601-1545609600-1545695999@www.eabc-thailand.org
SUMMARY:ANNOUNCEMENT OFFICE CLOSURE
DESCRIPTION:(Christmas and New Year) \nNotice to the public\, please be informed that EABC office will be closed during Christmas and New Year\, 24 December 2018 to 2 January 2019. \nRegular office hours will resume on 3 January 2019 (Thursday).\nAs of Jan 2019\, kindly note that our telephone number will change to +66 (0) 2 252 8751-2 ext. 109
URL:https://www.eabc-thailand.org/event/announcement-office-closure/
ATTACH;FMTTYPE=image/jpeg:https://www.eabc-thailand.org/wp-content/uploads/2019/02/10535d6146a6f8c4feaeee4f3de7efae.jpg
END:VEVENT
END:VCALENDAR