BEGIN:VCALENDAR
VERSION:2.0
PRODID:-//EABC Thailand - ECPv6.15.20//NONSGML v1.0//EN
CALSCALE:GREGORIAN
METHOD:PUBLISH
X-ORIGINAL-URL:https://www.eabc-thailand.org
X-WR-CALDESC:Events for EABC Thailand
REFRESH-INTERVAL;VALUE=DURATION:PT1H
X-Robots-Tag:noindex
X-PUBLISHED-TTL:PT1H
BEGIN:VTIMEZONE
TZID:Asia/Krasnoyarsk
BEGIN:STANDARD
TZOFFSETFROM:+0700
TZOFFSETTO:+0700
TZNAME:+07
DTSTART:20170101T000000
END:STANDARD
END:VTIMEZONE
BEGIN:VEVENT
DTSTART;VALUE=DATE:20180810
DTEND;VALUE=DATE:20180811
DTSTAMP:20260424T101140
CREATED:20190131T111132Z
LAST-MODIFIED:20190131T111236Z
UID:2588-1533859200-1533945599@www.eabc-thailand.org
SUMMARY:6/7 - EABC POSITION PAPER LAUNCH 2018
DESCRIPTION:On 6 July 2016\, the European Association for Business and Commerce hosted a launch seminar of its successful series – European Business Position Paper. This seminar aimed to strengthening Thai-European economic relations towards a more competitive Thai economy in 2018. The event was presided by H.E. Mr. Sontirat Sontijirawong\, Minister of Commerce and H.E. Mr Pirkka Tapiola\, Ambassador.  Mr. Christian Weidmann\, Vice President of EABC appreciated participants from broad number of industrial sectors as well as participants from the Royal Thai Government. \nMore pictures\, please click here
URL:https://www.eabc-thailand.org/event/6-7-eabc-position-paper-launch-2018/
ATTACH;FMTTYPE=image/jpeg:https://www.eabc-thailand.org/wp-content/uploads/2019/01/12.jpg
END:VEVENT
END:VCALENDAR