BEGIN:VCALENDAR
VERSION:2.0
PRODID:-//EABC Thailand - ECPv6.15.20//NONSGML v1.0//EN
CALSCALE:GREGORIAN
METHOD:PUBLISH
X-WR-CALNAME:EABC Thailand
X-ORIGINAL-URL:https://www.eabc-thailand.org
X-WR-CALDESC:Events for EABC Thailand
REFRESH-INTERVAL;VALUE=DURATION:PT1H
X-Robots-Tag:noindex
X-PUBLISHED-TTL:PT1H
BEGIN:VTIMEZONE
TZID:Asia/Krasnoyarsk
BEGIN:STANDARD
TZOFFSETFROM:+0700
TZOFFSETTO:+0700
TZNAME:+07
DTSTART:20170101T000000
END:STANDARD
END:VTIMEZONE
BEGIN:VEVENT
DTSTART;VALUE=DATE:20180302
DTEND;VALUE=DATE:20180303
DTSTAMP:20260424T172319
CREATED:20190201T000507Z
LAST-MODIFIED:20190201T000507Z
UID:2660-1519948800-1520035199@www.eabc-thailand.org
SUMMARY:2018 ASEAN-EU BUSINESS SUMMIT: 2ND MARCH\, SINGAPORE
DESCRIPTION:The ASEAN-EU Business Summit was founded in 2011 in Indonesia and has since developed to an established meeting point in Phnom Penh\, Cambodia in April 2012; Hanoi\, Vietnam in March 2013; Kuala Lumpur in August 2015; and\, most recently in Manila\, Philippines with several hundred delegates attending each event. The Summit is designed to be a platform for business leaders\, thought-leaders and policy makers to interact and debate the key business and trade issues of the day. \nThis year\, the 6th ASEAN-EU Business Summit will be held in Singapore to take place in parallel to the ASEAN Economic Ministers Meeting and the EUASEAN dialogue session between EU Trade Commissioner Malmström and her ASEAN counterparts. Over 400 delegates are expected to attend\, representing political and business interests from Europe and Southeast Asia. \nThe Summit will consist of presentations from high ranking government representatives and from prominent businessmen. Additionally\, there will be a series of panel discussions covering various sectors of industry. \nFull Tentative Outline Programme
URL:https://www.eabc-thailand.org/event/2018-asean-eu-business-summit-2nd-march-singapore/
ATTACH;FMTTYPE=image/png:https://www.eabc-thailand.org/wp-content/uploads/2019/02/as.png
END:VEVENT
BEGIN:VEVENT
DTSTART;TZID=Asia/Krasnoyarsk:20180308T110000
DTEND;TZID=Asia/Krasnoyarsk:20180308T140000
DTSTAMP:20260424T172319
CREATED:20190201T002916Z
LAST-MODIFIED:20190201T002941Z
UID:2682-1520506800-1520517600@www.eabc-thailand.org
SUMMARY:8/3 - BCCT MULTI-CHAMBERS LUNCH: MINISTER OF COMMERCE
DESCRIPTION:BCCT\, in collaboration with AustCham\, EABC\, STCC\, NTCC\, BeLuThai\, GTCC and FTCC\, would like to invite you to BCCT Multi-Chambers Lunch with Minister of Commerce on Thursday 8th March. \nEvent detail: \nDate: Thursday 8 March\nTime: 12.00 – 2.00 PM\nVenue: Royal Orchid Sheraton Hotel & Towers\, 2 Charoen Krung Road Soi 30\, Captain Bush Lane (map)\nTopic: Thailand’s Economy Amidst Global Uncertainties\nSpeaker: Minister of Commerce\, Mr Sontirat Sontijirawong (profile) \nCost: THB 900 for members and THB 1\,400 for non-members. This price includes a 3-course Western set lunch. Please inform us if you have a special dietary requirement or food allergy.  \nPayment: Pre-registration and payment are required by 5 pm of 6th March 2018. Please find payment method here. E-vouchers are accepted (please state “e-voucher” in the comment box when making reservation) \nCancellation policy: BCCT is not able to refund any cancellation made after 5 pm of 6th March 2018. \nAgenda:  \n11.30 am Registration and networking\n12.00 pm Speaker arrives\, lunch commences\n1.00 pm   Talk begins\n1.45 pm   Questions and answers\n2.00 pm   Vote of thanks and close \nHotel Shuttle Boat Service: At Saphan Taksin BTS station\, follow the signs to exit 1 or 2 leading to the pier. The hotel’s complimentary shuttle boat leaves every 30 minutes from 10:00 a.m. – 10:00 p.m.
URL:https://www.eabc-thailand.org/event/8-3-bcct-multi-chambers-lunch-minister-of-commerce/
LOCATION:Royal Orchid Sheraton Hotel & Towers\, 2 Charoen Krung Road Soi 30\, Captain Bush Lane
ATTACH;FMTTYPE=image/png:https://www.eabc-thailand.org/wp-content/uploads/2019/02/bbc.png
END:VEVENT
BEGIN:VEVENT
DTSTART;TZID=Asia/Krasnoyarsk:20180315T183000
DTEND;TZID=Asia/Krasnoyarsk:20180315T220000
DTSTAMP:20260424T172319
CREATED:20190201T001911Z
LAST-MODIFIED:20190201T001911Z
UID:2674-1521138600-1521151200@www.eabc-thailand.org
SUMMARY:"ST. PATRICK'S DAY SHINDIG"
DESCRIPTION:The Irish Thai Chamber of Commerce\, in collaboration with Embassy of Ireland\, ThaiGAA\, Irish Women’s Group\, St. Patrick’s Society Bangkok\, BCCT\, AustCham\, CanCham and EABC brings you its annual “ST. PATRICK’S DAY SHINDIG“ \n \nDate: Thursday\, 15 March 2018\nTime: 6.30 pm – 10.00 pm \nVenue: Grand Ballroom\, Pullman Bangkok Grande Sukhumvit (Asoke)\nPrice: Members of participating organisations THB 1\,400 (Pre-registration required) / Non-members and walk-ins on the day THB 1\,600 \nFeaturing:\n• Free flow of alcoholic and non-alcoholic beverages till 9.00 pm\n• Guinness\, Irish whiskey and Irish coffee \n• Irish food \n• Live Irish music \n• Raffle prizes \n \nPayment: Payment at the door direct to ITCC\n \nRegister now! at events@irishthaicc.com or Here \n*Please indicate your chamber name upon registration.
URL:https://www.eabc-thailand.org/event/st-patricks-day-shindig/
LOCATION:Grand Ballroom\, Pullman Bangkok Grande Sukhumvit (Asoke)
ATTACH;FMTTYPE=image/png:https://www.eabc-thailand.org/wp-content/uploads/2019/02/st.png
END:VEVENT
BEGIN:VEVENT
DTSTART;TZID=Asia/Krasnoyarsk:20180327T123000
DTEND;TZID=Asia/Krasnoyarsk:20180327T140000
DTSTAMP:20260424T172319
CREATED:20190110T091115Z
LAST-MODIFIED:20190110T091115Z
UID:239-1522153800-1522159200@www.eabc-thailand.org
SUMMARY:An EABC Multi-Chamber Event
DESCRIPTION:Tuesday 27 March 2018\, 12.30 – 2.00 pm (registration from 11.30 am)\nThe Ballroom\, InterContinental Hotel Bangkok (BTS Station: Chit Lom) \n11.30 am Registration and networking\n12.30 pm Introduction and Lunch\n1.00 pm Presentation\n1.30 pm Questions and Answers\n1.45 pm   Vote of thanks and close \nTickets: \n\nTHB 1\,200 for members and participated chambers\nTHB 1\,900 for non-members\nTable of 8: THB 8\,000\n\nThis price includes 3-course western set lunch with soft drinks. \nRegistration: https://members.bccthai.com \nPayment: Pre-payment is required to BCCT by5pm of Thursday 22 March. \nBCCT is not able to refund on any cancellation made after 5pm of March 22nd
URL:https://www.eabc-thailand.org/event/an-eabc-multi-chamber-event/
LOCATION:Inter Continental Hotel Bangkok\, Thailand
ATTACH;FMTTYPE=image/jpeg:https://www.eabc-thailand.org/wp-content/uploads/Multi-chamber1.jpg
END:VEVENT
BEGIN:VEVENT
DTSTART;TZID=Asia/Krasnoyarsk:20180327T123000
DTEND;TZID=Asia/Krasnoyarsk:20180327T140000
DTSTAMP:20260424T172319
CREATED:20190201T003822Z
LAST-MODIFIED:20190201T003822Z
UID:2690-1522153800-1522159200@www.eabc-thailand.org
SUMMARY:An EABC Multi-Chamber Event
DESCRIPTION:Tuesday 27 March 2018\, 12.30 – 2.00 pm (registration from 11.30 am)\nThe Ballroom\, InterContinental Hotel Bangkok (BTS Station: Chit Lom)\n11.30 am Registration and networking\n12.30 pm Introduction and Lunch\n1.00 pm Presentation\n1.30 pm Questions and Answers\n1.45 pm   Vote of thanks and close\nTickets: THB 1\,200 for members and participated chambers\,\nTHB 1\,900 for non-members\, Table of 8: THB 8\,000.\nThis price includes 3-course western set lunch with soft drinks.\nPayment: Pre-payment is required to BCCT by5pm of Thursday 22 March.\nBCCT is not able to refund on any cancellation made after 5pm of March 22nd
URL:https://www.eabc-thailand.org/event/an-eabc-multi-chamber-event-2/
ATTACH;FMTTYPE=image/jpeg:https://www.eabc-thailand.org/wp-content/uploads/2019/02/eav.jpg
END:VEVENT
BEGIN:VEVENT
DTSTART;VALUE=DATE:20180328
DTEND;VALUE=DATE:20180330
DTSTAMP:20260424T172319
CREATED:20190201T003454Z
LAST-MODIFIED:20190201T003454Z
UID:2687-1522195200-1522367999@www.eabc-thailand.org
SUMMARY:RAIL Asia + RISE Symposium
DESCRIPTION:RAIL Asia + RISE Symposium\nRail Asia 2018\, which EABC sponsored event\, will be located at the dedicated rail and metro venue in the new Expo Halls at Makkasan Airport Rail Link from 28-29 March 2018.
URL:https://www.eabc-thailand.org/event/rail-asia-rise-symposium/
LOCATION:Makkasan Airport Rail Link
END:VEVENT
END:VCALENDAR