BEGIN:VCALENDAR
VERSION:2.0
PRODID:-//EABC Thailand - ECPv6.15.20//NONSGML v1.0//EN
CALSCALE:GREGORIAN
METHOD:PUBLISH
X-ORIGINAL-URL:https://www.eabc-thailand.org
X-WR-CALDESC:Events for EABC Thailand
REFRESH-INTERVAL;VALUE=DURATION:PT1H
X-Robots-Tag:noindex
X-PUBLISHED-TTL:PT1H
BEGIN:VTIMEZONE
TZID:Asia/Krasnoyarsk
BEGIN:STANDARD
TZOFFSETFROM:+0700
TZOFFSETTO:+0700
TZNAME:+07
DTSTART:20170101T000000
END:STANDARD
END:VTIMEZONE
BEGIN:VEVENT
DTSTART;VALUE=DATE:20180202
DTEND;VALUE=DATE:20180203
DTSTAMP:20260424T184238
CREATED:20190201T002419Z
LAST-MODIFIED:20190201T002419Z
UID:2679-1517529600-1517615999@www.eabc-thailand.org
SUMMARY:MIT GIW 2018 First time in Thailand
DESCRIPTION:MIT GSW 2018 First time in Thailand\nHere firsthand from global tech experts\, and the Asian business leaderswho are driving the future.
URL:https://www.eabc-thailand.org/event/mit-giw-2018-first-time-in-thailand-2/
ATTACH;FMTTYPE=image/jpeg:https://www.eabc-thailand.org/wp-content/uploads/2019/02/mit.jpg
END:VEVENT
BEGIN:VEVENT
DTSTART;VALUE=DATE:20180208
DTEND;VALUE=DATE:20180209
DTSTAMP:20260424T184238
CREATED:20190201T001547Z
LAST-MODIFIED:20190201T001547Z
UID:2671-1518048000-1518134399@www.eabc-thailand.org
SUMMARY:Chiang Mai Connect
DESCRIPTION:
URL:https://www.eabc-thailand.org/event/chiang-mai-connect/
LOCATION:Starwork\, Tunghotel Road
ATTACH;FMTTYPE=image/jpeg:https://www.eabc-thailand.org/wp-content/uploads/2019/02/cmc.jpg
END:VEVENT
BEGIN:VEVENT
DTSTART;VALUE=DATE:20180216
DTEND;VALUE=DATE:20180217
DTSTAMP:20260424T184238
CREATED:20190121T032344Z
LAST-MODIFIED:20190121T032344Z
UID:1010-1518739200-1518825599@www.eabc-thailand.org
SUMMARY:MIT GIW 2018 First time in Thailand
DESCRIPTION:MIT GSW 2018 First time in Thailand\nHere firsthand from global tech experts\, and the Asian business leaderswho are driving the future.
URL:https://www.eabc-thailand.org/event/mit-giw-2018-first-time-in-thailand/
ATTACH;FMTTYPE=image/jpeg:https://www.eabc-thailand.org/wp-content/uploads/2019/01/8f3e7fae675e78601feb4fc3adc0fe75.jpg
END:VEVENT
BEGIN:VEVENT
DTSTART;TZID=Asia/Krasnoyarsk:20180226T120000
DTEND;TZID=Asia/Krasnoyarsk:20180226T140000
DTSTAMP:20260424T184238
CREATED:20190201T001336Z
LAST-MODIFIED:20190213T024430Z
UID:2668-1519646400-1519653600@www.eabc-thailand.org
SUMMARY:BCCT Multi-Chambers Lunch
DESCRIPTION:
URL:https://www.eabc-thailand.org/event/bcct-multi-chambers-lunch/
LOCATION:Conrad Hotel
ATTACH;FMTTYPE=image/png:https://www.eabc-thailand.org/wp-content/uploads/2019/02/mul.png
END:VEVENT
BEGIN:VEVENT
DTSTART;VALUE=DATE:20180227
DTEND;VALUE=DATE:20180228
DTSTAMP:20260424T184238
CREATED:20190201T004209Z
LAST-MODIFIED:20190201T004209Z
UID:2693-1519689600-1519775999@www.eabc-thailand.org
SUMMARY:Digital Economy / ICT CONFERENCE:  ‘THE INTERNET 2018-2021’
DESCRIPTION:Digital Economy / ICT CONFERENCE: \n‘THE INTERNET 2018-2021’ \nAchieving a Trusted Internet for enhancing Doing Business\, investor confidence\,\nsupporting an intelligent society and the Thailand 4.0 vision \n\nTHE INTERNET 2018-2021 is rescheduled for second half February 2018 (date to be advised shortly).  \nThe Internet is an essential business tool and a key ingredient for an intelligent and inclusive society. A well-functioning\, trusted internet underpins a successful digital economy. The way it works technically and by policy is currently sub optimal in Thailand. Policy and law tends to over-reach but without providing the necessary underpinnings for the most important objectives. This half day conference will cover the points that Business and Civil Society need. \nTicket Price (including VAT 7%): \n\n\n\nGeneral ticket price / Non Members\nTHB 1\,200\n\n\nJFCCT/EABC members; Supporters if in addition to limited complimentary places\nTHB 600\n\n\nStudents\, Media\nTHB 300\n\n\nGovernment\n FOC\n\n\n\nFor updates\, please see our event page here. \nSponsorship opportunity available – please get in touch  office@jfcct.org or info@jfcct.org  \nRegistration by replying to members@eabc-thailand.eu. Please include phone number\, number of tickets\, by category.
URL:https://www.eabc-thailand.org/event/digital-economy-ict-conference-the-internet-2018-2021/
ATTACH;FMTTYPE=image/jpeg:https://www.eabc-thailand.org/wp-content/uploads/2019/02/it.jpg
END:VEVENT
BEGIN:VEVENT
DTSTART;TZID=Asia/Krasnoyarsk:20180227T090000
DTEND;TZID=Asia/Krasnoyarsk:20180227T110000
DTSTAMP:20260424T184238
CREATED:20190201T001024Z
LAST-MODIFIED:20190201T001024Z
UID:2663-1519722000-1519729200@www.eabc-thailand.org
SUMMARY:2018 Breakfast Talk: Thai Permanent Residency & Thai Last Will
DESCRIPTION:
URL:https://www.eabc-thailand.org/event/2018-breakfast-talk-thai-permanent-residency-thai-last-will/
LOCATION:MPG office – Khone kaen
ATTACH;FMTTYPE=image/jpeg:https://www.eabc-thailand.org/wp-content/uploads/2019/02/tl.jpg
END:VEVENT
END:VCALENDAR