BEGIN:VCALENDAR
VERSION:2.0
PRODID:-//EABC Thailand - ECPv6.15.20//NONSGML v1.0//EN
CALSCALE:GREGORIAN
METHOD:PUBLISH
X-ORIGINAL-URL:https://www.eabc-thailand.org
X-WR-CALDESC:Events for EABC Thailand
REFRESH-INTERVAL;VALUE=DURATION:PT1H
X-Robots-Tag:noindex
X-PUBLISHED-TTL:PT1H
BEGIN:VTIMEZONE
TZID:Asia/Krasnoyarsk
BEGIN:STANDARD
TZOFFSETFROM:+0700
TZOFFSETTO:+0700
TZNAME:+07
DTSTART:20160101T000000
END:STANDARD
END:VTIMEZONE
BEGIN:VEVENT
DTSTART;TZID=Asia/Krasnoyarsk:20171107T173000
DTEND;TZID=Asia/Krasnoyarsk:20171107T200000
DTSTAMP:20260424T224845
CREATED:20190131T171545Z
LAST-MODIFIED:20190131T171545Z
UID:2609-1510075800-1510084800@www.eabc-thailand.org
SUMMARY:Multi-Chambers Boardroom Briefing on IP Changes in the Thai Computer Crime Act
DESCRIPTION:**BCCT\, together with AMCHAM\, AustCham\, CanCham\, NTCC\, EABC\, FTCC and ITCC\, would like to invite you to BCCT Multi-Chambers Boardroom Briefing on IP Changes in the Thai Computer Crime Act on Tuesday 7 November 2017.** \nEvent: Multi-Chambers Boardroom Briefing on IP Changes in the Thai Computer Crime Act\nDate: Tuesday 7th November 2017\nTime: 5.30 – 8.00 pm\nVenue: British Business Centre\, BCCT Office\, 7th Floor\, 208 Wireless Road (nearest BTS station: BTS Ploenchit exit 5)\nTopic: Understanding the IP section of the Computer Crimes Act- How do these critical changes in The Thai Computer Crime Act positively protect your business and property?\nGuest speakers:\n\nPanisa Suwanmatajarn- Partner\, RWT International Law Firm (profile)\nPolice Lt. Col. Naughtakid Phomchan– Cybercrime Specialist\, Technology Crime Suppression Division (profile)\n\nAgenda:\n5.30 Registration and networking\n6.00 Briefing starts\n7.30 Q&A\nCost: THB 400 per person for BCCT members and participated chambers & THB 600 for non-members including cocktail food\, soft drinks\, beer and wine. Payment at the door. BCCT vouchers are accepted.\nCancellation policy:  Reservations not cancelled within 2 business days of the event will be charged and invoiced as will no-shows.
URL:https://www.eabc-thailand.org/event/multi-chambers-boardroom-briefing-on-ip-changes-in-the-thai-computer-crime-act/
ATTACH;FMTTYPE=image/png:https://www.eabc-thailand.org/wp-content/uploads/2019/02/cx.png
END:VEVENT
BEGIN:VEVENT
DTSTART;TZID=Asia/Krasnoyarsk:20171107T183000
DTEND;TZID=Asia/Krasnoyarsk:20171107T213000
DTSTAMP:20260424T224845
CREATED:20190131T171900Z
LAST-MODIFIED:20190131T171900Z
UID:2613-1510079400-1510090200@www.eabc-thailand.org
SUMMARY:Joint Chambers Chiang Mai Connect by NTCC x Northern Thailand Food Valley: Food Innovators Meet-up
DESCRIPTION:Joint Chambers Chiang Mai Connect by NTCC x Northern Thailand Food Valley:\nFood Innovators Meet-up \n\nChiang Mai Connect by NTCC is back with a special edition! Together with the Northern Thailand Food Valley\, we invite you to a fruitful networking evening under the theme ‘Food Innovation’.\nStay updated on hot topics from the agriculture-food scene\nBe inspired by business pitches from foodtech companies\nNetwork with 100+ professionals from wide-ranging industries\nAnd most importantly\, walk around booths serving Khao Soi ice cream\, curry meatballs\, and more! \nMark your calendars for 7th November\, 18.30 hrs onwards at Starwork\, Tunghotel Road. \nEarly-bird tickets are on sale now until 20th October – the cheapest rates you can get if you book now.\nWhat is the Northern Thailand Food Valley? \n\nNTFV is a consulting and coordinating organisation\, part of the Federation of Thai Industries that supports food industry businesses. Access to innovation is key to develop Thailand’s food products and exports in-line with the endeavour to become ‘Kitchen of the World’. NTFV does so by connecting food entrepreneurs with resources from the public and private sector including collaboration for research with universities in the North. At the event\, you will witness success stories of these entrepreneurs and the extensive networks of research institutes working closely to develop amazing food products that goes out to the global market. – All based around the North! \nEvent Details\nDate: Tuesday 7 November\nTime: 18.30 – 21.30 hrs\nVenue: Starwork\, Tunghotel Road (map)\nParking: 2minutes form Starwork\, Next to TOT\nPrice:  400 Bath- early Bird rate (Before 20 October) \n600 Bath – Normal rate (After 20 October)\n700 Bath – Door price\n*Price are inclusive of sumptuous food and drinks\n*Early-Bird fees are limited to 30 seats
URL:https://www.eabc-thailand.org/event/joint-chambers-chiang-mai-connect-by-ntcc-x-northern-thailand-food-valley-food-innovators-meet-up/
LOCATION:Starwork\, Tunghotel Road
ATTACH;FMTTYPE=image/jpeg:https://www.eabc-thailand.org/wp-content/uploads/2019/02/111.jpg
END:VEVENT
BEGIN:VEVENT
DTSTART;TZID=Asia/Krasnoyarsk:20171115T180000
DTEND;TZID=Asia/Krasnoyarsk:20171115T210000
DTSTAMP:20260424T224845
CREATED:20190131T172238Z
LAST-MODIFIED:20190131T172238Z
UID:2618-1510768800-1510779600@www.eabc-thailand.org
SUMMARY:MULTI-CHAMBER FIESTA NETWORKING NIGHT
DESCRIPTION:Dear Colleagues\, \nIn November 2015\, the Multi-Chambers\, “Transatlantic Chambers Networking” was a great success with over 200 participants from AmCham\, BCCT\, BeLuThai\, Danish\, Franco\, Irish\, NTCC and Norway.  And we would like to bring it back this year on November 15 at one of the best Spanish restaurant in Thailand\, Islero Restaurant\, Athenee Tower\, Wireless Road. \nOn behalf of CanCham Thailand\, I would like to invite you and you chamber to co-branding the Multi-Chamber Fiesta Networking Night at one of the best Spanish restaurant in Thailand\, ISLERO RESTAURANT\, Athenee Tower\, Wireless Road.  This event will feature stylish Spanish food (live cooking & food preparation by chef Emiliano) with free flow sangria and local brew beer from Polar Beer. \nEvent Details\nDate: Wednesday\, November 15\, 2017\nTime: 18:30 – 21:00\nVenue: Islero Restaurant\, Athenee Tower\nAttire: Smart Casual\nEntry Fee:\n\n                    THB 700 for member of participating chambers\n                    THB 1\,000 for non-members\n\nEvent Description: CanCham Thailand in partnership with Islero Restaurant proudly present “MULTI-CHAMBERS FIESTA NETWORKING NIGHT on Wednesday\, November 15\, 2017.  The networking starts from 18:30 to 21:00 at Islero Restaurant\, Athenee Tower\, Wireless Road.  Entry fee includes variety of Spanish signature food\, free flow Spanish sangria and refreshing local craft Polar beer. \nEvent Program\n18:00             Registration Opens\n18:30             Food & Drinks Start Serving.  Chef performs a live food preparation show.\n19:45             Opening Remark by President of CanCham Thailand\nLucky Draw\n20:30             Last Call for Drinks & Food\n21:00             Ends
URL:https://www.eabc-thailand.org/event/multi-chamber-fiesta-networking-night/
LOCATION:Islero Restaurant\, Athenee Tower
ATTACH;FMTTYPE=image/jpeg:https://www.eabc-thailand.org/wp-content/uploads/2019/02/13.jpg
END:VEVENT
BEGIN:VEVENT
DTSTART;TZID=Asia/Krasnoyarsk:20171118T180000
DTEND;TZID=Asia/Krasnoyarsk:20171118T220000
DTSTAMP:20260424T224845
CREATED:20190131T233249Z
LAST-MODIFIED:20190131T233249Z
UID:2623-1511028000-1511042400@www.eabc-thailand.org
SUMMARY:Oktoberfest in Pattaya  2017
DESCRIPTION:Event details\nDate: November 18\nTime: 6:00 pm – 10:00 pm\nVenue: Amary Orchid Pattaya 
URL:https://www.eabc-thailand.org/event/oktoberfest-in-pattaya-2017/
LOCATION:Amary Orchid Pattaya
ATTACH;FMTTYPE=image/jpeg:https://www.eabc-thailand.org/wp-content/uploads/2019/02/ok.jpg
END:VEVENT
BEGIN:VEVENT
DTSTART;TZID=Asia/Krasnoyarsk:20171120T120000
DTEND;TZID=Asia/Krasnoyarsk:20171121T140000
DTSTAMP:20260424T224845
CREATED:20190131T233758Z
LAST-MODIFIED:20190131T233758Z
UID:2628-1511179200-1511272800@www.eabc-thailand.org
SUMMARY:MULTI-CHAMBERS LUNCH: THAILAND MICE\, WHERE ARE WE TODAY AND MOVING FORWARD
DESCRIPTION:BCCT\, in collaboration with AustCham\, NTCC\, FTCC\, GTCC\, EABC\, CanCham and STCC will organize BCCT Multi-Chambers Lunch on Thailand MICE\, Where Are We Today and Moving Forward on Monday 20 November 2017 at Banyan Tree Bangkok.\n\n\n\nMICE in 2017 has been difficult for the Industry here in Thailand as a whole\, thus what does 2018 hold for Thailand and what initiatives are TCEB (Thailand Convention and Exhibition Bureau) planning to help drive the MICE business. The newly elected president of TCEB Khun Chiruit Isarangkun Na Ayuthaya will address the luncheon sharing his thoughts on the issues we have faced\, the competition of the MICE industry from other Asian countries and what Thailand is doing to develop and drive this most important segment of business for the Tourist industry forward.\nEvent detail: \nDate: Monday 20 November 2017 (date changed from Tuesday 21 to Monday 20 November 2017)\nTime: 12.00-2.00pm\nVenue: Banyan Room\, 10th floor\, Banyan Tree Bangkok (map). Nearest MRT station: Lumphini.\nSpeaker: Mr.Chiruit Isarangkun Na Ayuthaya\, President\, Thailand Convention and Exhibition Bureau (TCEB)\nTopic: Thailand MICE: Where Are We Today and Moving Forward \nAgenda: \n11.30 am  – Arrival of guests and registration\n12.00 pm  – Arrival of guest speaker and luncheon commences\n1.00 pm    – Presentation commences following introduction \n1.40 pm    – Questions and answers session\n2.00 pm    – Vote of thanks and close  \nEntry fee: THB900 for members and participated chambers. THB1\,400 for non-members. This price includes 3-course western set lunch. (Please inform us if you have a food allergy or would like to request vegetarian menu.)\nPayment: Pre-payment direct to BCCT by Wednesday 15 November 2017. Click here for payment method. BCCT vouchers are accepted. \nCancellation policy: BCCT is not able to refund on any cancellation made after 5 pm of Friday 17 November. 
URL:https://www.eabc-thailand.org/event/multi-chambers-lunch-thailand-mice-where-are-we-today-and-moving-forward/
LOCATION:Banyan Room\, 10th floor\, Banyan Tree Bangkok
ATTACH;FMTTYPE=image/png:https://www.eabc-thailand.org/wp-content/uploads/2019/02/m.png
END:VEVENT
BEGIN:VEVENT
DTSTART;TZID=Asia/Krasnoyarsk:20171128T180000
DTEND;TZID=Asia/Krasnoyarsk:20171128T200000
DTSTAMP:20260424T224845
CREATED:20190131T234137Z
LAST-MODIFIED:20190131T234137Z
UID:2633-1511892000-1511899200@www.eabc-thailand.org
SUMMARY:MULTI-CHAMBERS BRIEFING (THAI CLASS ACTION REGIME)
DESCRIPTION:BCCT\, in collaboration with AMCHAM\, AustCham and EABC\, cordially invites you to BCCT/AMCHAM Multi-Chambers Briefing on Thai Class Action Regime on Tuesday 28 November at British Business Centre\, BCCT Office\, Wireless Road.  \nA panel of Thai\, UK and US lawyers will lead a stimulating discussion on the evolving Thai class action regime. Our panel will provide a primer on the relevant legislation\, examine risks to business operators in Thailand\, offer unique insight into existing Thai class action lawsuits\, and take a comparative look at some noteworthy facets of class action practice\, including discovery\, lawyer fees and key components of class certification criteria.\nTypes of cases likely to be filed as class action lawsuits include: labor cases\, breach of contract & warranties\, product liability\, environmental litigation and consumer protection. Consequently\, this seminar will be of interest to anyone conducting business in Thailand and individual lawyers specializing in any area of Thai commercial law. There will also be the opportunity to network with fellow attendees after the panel discussion \nEvent detail: \nDate: Tuesday 28th November 2017\nTime: 6.00 – 8.00 pm\nVenue: British Business Centre\, BCCT Office\, 7th Floor\, 208 Wireless Road (nearest BTS station: BTS Ploenchit exit 5) map\nTopic: Keeping Up with the Emerging Thai Class Action Regime\nGuest speakers:\n\nPeter Shelford\, Country Managing Partner\, DLA Piper Thailand. Co-Chair Insurance Sector\, EMEA and Asia Pacific (profile)\nChaiporn Supvoranid\, Partner\, Baker & McKenzie (profile)\nTimothy Breier\, Partner\, Baker & McKenzie (profile)\n\nModerator: Douglas Mancill\,  Senior Counsel\, Price Sanond\nCost: THB 400 per person for BCCT members and participated chambers & THB 600 for non-members including finger food\, soft drinks\, beer and wine. Payment at the door. BCCT vouchers are accepted. \nCancellation policy:  Reservations not cancelled within 2 business days of the event will be charged and invoiced as will no-shows. \nBooking: here
URL:https://www.eabc-thailand.org/event/multi-chambers-briefing-thai-class-action-regime/
LOCATION:British Business Centre\, BCCT Office\, 7th Floor\, 208 Wireless Road
ATTACH;FMTTYPE=image/jpeg:https://www.eabc-thailand.org/wp-content/uploads/2019/02/n.jpg
END:VEVENT
END:VCALENDAR