BEGIN:VCALENDAR
VERSION:2.0
PRODID:-//EABC Thailand - ECPv6.15.20//NONSGML v1.0//EN
CALSCALE:GREGORIAN
METHOD:PUBLISH
X-ORIGINAL-URL:https://www.eabc-thailand.org
X-WR-CALDESC:Events for EABC Thailand
REFRESH-INTERVAL;VALUE=DURATION:PT1H
X-Robots-Tag:noindex
X-PUBLISHED-TTL:PT1H
BEGIN:VTIMEZONE
TZID:Asia/Krasnoyarsk
BEGIN:STANDARD
TZOFFSETFROM:+0700
TZOFFSETTO:+0700
TZNAME:+07
DTSTART:20160101T000000
END:STANDARD
END:VTIMEZONE
BEGIN:VEVENT
DTSTART;TZID=Asia/Krasnoyarsk:20170901T083000
DTEND;TZID=Asia/Krasnoyarsk:20170901T093000
DTSTAMP:20260425T012830
CREATED:20190131T092125Z
LAST-MODIFIED:20190131T092125Z
UID:2521-1504254600-1504258200@www.eabc-thailand.org
SUMMARY:GTCC Joint Chamber Executive Breakfast Talk: “Relocating Headquarter Services to Thailand: Legal and Tax Implications”
DESCRIPTION:GTCC Joint Chamber Executive Breakfast Talk\nThe German-Thai Chamber of Commerce (GTCC)\, in collaboration with Lorenz & Partners Co.\, Ltd. (L&P)\, the British Chamber of Commerce Thailand (BCCT)\, the European Association for Business and Commerce (EABC)\, the Franco-Thai Chamber of Commerce (FTCC)\, the Netherlands-Thai Chamber of Commerce (NTCC) and the Thai-Finnish Chamber of Commerce (TFCC)\, is delighted to invite you and your friends to join the following event: \n\n\nGTCC Joint Chamber Executive Breakfast Talk \n“Relocating Headquarter Services to Thailand: Legal and Tax Implications”\nwith Experts from the Leading German Law Firm Lorenz & Partners Co.\, Ltd. \nMr. Till Morstadt\nMrs. Athitaya Chanthasirichot\nDr. Constantin Frank-Fahle\, LL.M. \nVenue: Gallery 1 (36th Fl.)\, Pullman Bangkok Hotel G\nDate: Friday\, 1 September 2017\nTime: 8.30 – 09.45 hrs \nMeet the business consultants from L&P to discuss the key tax and legal implications of relocating headquarter services to Thailand\, unforeseen legal and tax risks as well as unnecessary or unexpected costs. \nThis seminar is particularly interesting for investors intending to relocate headquarter and back office services within the region to Thailand. This seminar will cover the following points: \n• Reasons for relocating back office services to Thailand\n• International Headquarters Promotion (IHQ) granted by the Board of Investment\n• Lease law related issues when relocating\n• Employment law related issues when relocating\n• Transfer pricing issues \nSchedule \n8.30 – 8.45 a.m. : Registration\n8.45 – 9.30 a.m. : Executive Breakfast Briefing\n9.30 – 9.45 a.m. : Q&A \nAdmission Fee (including American Breakfast) \nMembers / Non-Members: 1\,000 THB \nInterested? Click here to register. \nIMPORTANT: In case you cannot attend the event\, please make your cancellation BEFORE 30 August 2017. Otherwise\, you will receive the invoice. Thank you.
URL:https://www.eabc-thailand.org/event/gtcc-joint-chamber-executive-breakfast-talk-relocating-headquarter-services-to-thailand-legal-and-tax-implications/
LOCATION:Gallery 1 (36th Fl.)\, Pullman Bangkok Hotel G
ATTACH;FMTTYPE=image/jpeg:https://www.eabc-thailand.org/wp-content/uploads/2019/01/zz.jpg
END:VEVENT
BEGIN:VEVENT
DTSTART;TZID=Asia/Krasnoyarsk:20170902T120000
DTEND;TZID=Asia/Krasnoyarsk:20170902T123000
DTSTAMP:20260425T012830
CREATED:20190131T234720Z
LAST-MODIFIED:20190131T234720Z
UID:2638-1504353600-1504355400@www.eabc-thailand.org
SUMMARY:MULTI-CHAMBERS LUNCH MINISTER OF INDUSTRY
DESCRIPTION:BCCT\, in collaboration with AMCHAM\, AustCham\, EABC\, NTCC\, BeLuThai\, HTCC and STCC\, cordially invites you to BCCT Multi-Chambers Lunch: Minister of Industry on Wednesday 6th December 2017 at The Sukhothai Bangkok. HE. Dr. Uttama Savanayana\, Minister of Industry will discuss the developments and future plans for Thailand 4.0 and the Eastern Economic Corridor.  \nEvent details:- \nDate: Wednesday 6th December 2017\nTime: 12.00 – 2.00 PM (registration from 11.30 AM) \nVenue: The Ballroom\, The Sukhothai Bangkok (nearest MRT station: Lumpini) map \nTopic: Developments and Future Plans for Thailand 4.0 and the Eastern Economic Corridor \nSpeaker: Dr. Uttama Savanayana\, Minister of Industry (profile) \nAgenda: \n11.30 am  – Arrival of guests and registration\n12.00 pm  – Arrival of guest speaker and luncheon commences\n01.00 pm  – Presentation commences following introduction\n01.40 pm  – Questions and answers session\n02.00 pm  – Vote of thanks and close \nEntry fee: THB 900 for EABC members. THB 1\,400 for non-members. This price includes 3-course western set lunch. (Please inform if you have food allergy or would like to request vegetarian menu.) \nPayment: Pre-payment to BCCT by Friday 1st December 2017. Click here for payment method. BCCT vouchers are accepted.  \nCancellation policy: BCCT is not able to refund on any cancellation made after 5pm of Friday 1st December 2017. \nBooking: here 
URL:https://www.eabc-thailand.org/event/multi-chambers-lunch-minister-of-industry/
LOCATION:The Ballroom\, The Sukhothai Bangkok
ATTACH;FMTTYPE=image/png:https://www.eabc-thailand.org/wp-content/uploads/2019/02/mn.png
END:VEVENT
BEGIN:VEVENT
DTSTART;TZID=Asia/Krasnoyarsk:20170904T080000
DTEND;TZID=Asia/Krasnoyarsk:20170908T170000
DTSTAMP:20260425T012830
CREATED:20190131T092516Z
LAST-MODIFIED:20190131T092516Z
UID:2526-1504512000-1504890000@www.eabc-thailand.org
SUMMARY:EU Business Avenues in South East Asia: Healthcare and Medical Technologies Business Mission Networking Reception
DESCRIPTION:                       \n\n\n                                                                              \n \n\nThe EU Business Avenues in South East Asia Programme is leading a delegation of 49 healthcare companies from 14 European countries to Singapore and Thailand from 4 – 8 September 2017 for a week of business meetings\, product showcases and presentations as well as networking sessions with potential local business partners.\n  \nGet priority access in reaching out to European companies in the healthcare and medical technologies sector to discuss possible opportunities for collaboration. Register to participate in one-to-one business meetings and attend “Meet-the-Exhibitors” sessions where participating European companies present and share their latest products and innovations.\n                                 
URL:https://www.eabc-thailand.org/event/eu-business-avenues-in-south-east-asia-healthcare-and-medical-technologies-business-mission-networking-reception/
ATTACH;FMTTYPE=image/jpeg:https://www.eabc-thailand.org/wp-content/uploads/2019/01/sa.jpg
END:VEVENT
BEGIN:VEVENT
DTSTART;TZID=Asia/Krasnoyarsk:20170911T080000
DTEND;TZID=Asia/Krasnoyarsk:20170911T170000
DTSTAMP:20260425T012830
CREATED:20190131T091103Z
LAST-MODIFIED:20190201T040545Z
UID:2508-1505116800-1505149200@www.eabc-thailand.org
SUMMARY:Press Conference: International Conference on Technology for Sustainable paths to Thailand's future\,
DESCRIPTION:            \n\n(In photo from left– Prof. Dr. Suchatvee Suwansawat; President of King Mongkut Institute of Technology Ladkrabang\, Gen. Saiyud Kerdphol; former Supreme Commander\, Mr.Pakdee Tanapura; Vice Presedent of Economic Board Thai Chinese Culture and Economy Association\, Gen. Pongthep Thesprateep;Chairman of the Thai Canal Association for Study and Development (TCA) and Mr. Georg M. Wolff; Chairman of EABC Advocacy Group Raild&Road Infrastructure\, European Association for Business and Commerce) \nOn 28 August 2017\, the press conference of “International Conference on Technology for Sustainable Paths to Thailand’s Future\, THAI CANAL – COMPREHENSIVE STUDY OF ALTERNATIVE LOGISTICS SYSTEMS FOR THE MARITIME SILK ROAD” by King Mongkut’s Institute of Technology Ladkrabang (KMITL) and Thai Canal Association for Study and Development (TCA)\, in support of European Association for Business and Commerce (EABC) was held to highlight the importance of Thai canal feasibilities from both academic and visionary perspectives. The event took place at Grand Hyatt Erawan Bangkok Hotel. \nMr.Georg M. Wolff\, EABC member of the Board of Directors and EABC Chair Advocacy Group – Rail&Road infrastructure\, on behalf of EABC insisted “We are sure that the construction of the canal will bring a lot of new industrial investments in the region.” \nHe added\, “For feeding the south and also our southern neighbors\, a deep-sea port connected with the canal would certainly offer a huge development potential.” \nThe full speech by Mr. Georg Wolff can be downloaded here. \nThe conference will be held on September 11\, 2017\, at Grand Hyatt Erawan Bangkok Hotel. A special discount is available for EABC and consortium members who register before September 1\, 2017.​​ For more information about the conference agenda\, please click here. \n\n\n                                                     \n\n\n\n\n\n                             \n                          
URL:https://www.eabc-thailand.org/event/press-conference-international-conference-on-technology-for-sustainable-paths-to-thailands-future/
LOCATION:Grand Hyatt Erawan Bangkok Hotel
ATTACH;FMTTYPE=image/jpeg:https://www.eabc-thailand.org/wp-content/uploads/2019/01/z.jpg
END:VEVENT
BEGIN:VEVENT
DTSTART;VALUE=DATE:20170914
DTEND;VALUE=DATE:20170915
DTSTAMP:20260425T012830
CREATED:20190131T093539Z
LAST-MODIFIED:20190131T093635Z
UID:2535-1505347200-1505433599@www.eabc-thailand.org
SUMMARY:Thailand Innovation and Design Expo (TIDE) 2017
DESCRIPTION:  \nThailand Innovation and Design Expo (TIDE) 2017 \n\n\nThe Department of International Trade Promotion (DITP) is hosting Thailand Innovation and Design Expo 2017 (TIDE 2017) that will comprise many exciting events showcasing Thailand’s potential as a source of innovation and as a regional start-up hub within design and creativity. \n\n\nEABC  is pleased to announce the EABC participation in the upcoming European Pavilion during 14-17 September 2017 at Queen Sirikit National Convention Center (QSNCC).\n\nWith this regards\, we would like to invite you to be part of this exclusive event\, and exhibit in our pavilion. The space of 48 sqm. Divide it into 4 parts of 12 sqm each.\nIf you would like to exhibit with us at the TIDE\, please contact: members@eabc-thailand.eu\n  \n\n\n\n\nExhibitor Reply Form \n\n\n\n\nOpening ceremony program (click here)\n     \nEABC success story at TIDE 2015 – 2016 \nEABC @ TIDE 2016\nEABC @ TIDE 2015 \n \n \n \n \n   \n 
URL:https://www.eabc-thailand.org/event/thailand-innovation-and-design-expo-tide-2017/
LOCATION:Queen Sirikit National Convention Center (QSNCC).
ATTACH;FMTTYPE=image/jpeg:https://www.eabc-thailand.org/wp-content/uploads/2019/01/fa.jpg
END:VEVENT
BEGIN:VEVENT
DTSTART;VALUE=DATE:20170920
DTEND;VALUE=DATE:20170921
DTSTAMP:20260425T012830
CREATED:20190131T094111Z
LAST-MODIFIED:20190131T094154Z
UID:2541-1505865600-1505951999@www.eabc-thailand.org
SUMMARY:BIG19 One Belt One Road
DESCRIPTION:             \n                      \n                       \nAs the second largest global economy\, China maintains a population of 1.38 billion people with $9 trillion GDP that is expected to double in growth within the next few years. With an expanding and increasingly affluent middle class\, China has emerged as a market which is impossible to ignore for any business looking to establish a true global footprint. \nThis increase in economic reach has affected neighbouring countries\, including Thailand through tourism and economic investment. In 2017\, China has become Thailand’s number 1 provider of tourism revenue\, and has spurred a number of local initiatives aiming to capture the Chinese tourism yuan. Additionally\, Chinese investment in Thailand is expected to increase within the coming years in areas such as real estate\, resorts\, and a recently announced railroad link that will form a key part of the “One Belt One Road”. This project was launched to provide increased connectivity between ASEAN and Europe\, aligning with the Thailand 4.0 and the Eastern Economic Corridor strategic initiatives. \nThe linkages and impacts between the two countries are clear. With it’s purchasing power and reach\, China’s economic impact will bring forth significant change to Thailand\, and provide opportunities for local based business to capitalise on. \nOur special panel at #BIG 19 will discuss the “One Belt One Road” initiative\, and share their expertise on how to market to Chinese customers in the latter part of 2017 and beyond. In particular\, the panel discussion will cover the following topics: \n\nHow can Thailand and ASEAN based businesses understand Chinese purchasing trends\nHow to market products effectively to Chinese consumers\nWhat the initiative would mean for the local economy in the near term\n\nApart from participating in the actual panel discussion itself\, you will have the opportunity to meet with the speakers individually and build professional connections with the others in attendance. \n \n 
URL:https://www.eabc-thailand.org/event/big19-one-belt-one-road/
LOCATION:Grand Hyatt Erawan Bangkok
ATTACH;FMTTYPE=image/jpeg:https://www.eabc-thailand.org/wp-content/uploads/2019/01/bigbelt.jpg
END:VEVENT
BEGIN:VEVENT
DTSTART;VALUE=DATE:20170926
DTEND;VALUE=DATE:20170927
DTSTAMP:20260425T012830
CREATED:20190131T094600Z
LAST-MODIFIED:20190131T094818Z
UID:2546-1506384000-1506470399@www.eabc-thailand.org
SUMMARY:September Breakfast Talk : Thai Permanent Residency and Thai Last Will
DESCRIPTION:          \n\nOn 26 September 2017\, Mahanakorn Partners Group (MPG)\, in collaboration with European Association for Business and Commerce (EABC) and Thai-Italian Chamber of Commerce (TICC)\, organized the September Breakfast Talk on Thai Permanent Residency and Thai Last Will.  Mr. Luca Bernardinetti and Ms. Vilasinee Thephasadin na Ayuthaya\, MPG Managing Partner gave an informative speech – how to make a valid last will in Thailand. The talk was also joined by Mr. Supat Skonchai\, Former Immigration Officer\, with a presentation of Thai permanent residency and its benefit. The event also offered a networking opportunity where EABC members\, TICC members and guests gathered to enjoy the light breakfast. \n\n The full presentation can be explored here : (click)\n  \n       \n     
URL:https://www.eabc-thailand.org/event/september-breakfast-talk-thai-permanent-residency-and-thai-last-will/
ATTACH;FMTTYPE=image/jpeg:https://www.eabc-thailand.org/wp-content/uploads/2019/01/thai.jpg
END:VEVENT
BEGIN:VEVENT
DTSTART;VALUE=DATE:20170928
DTEND;VALUE=DATE:20170929
DTSTAMP:20260425T012830
CREATED:20190131T095609Z
LAST-MODIFIED:20190131T095609Z
UID:2557-1506556800-1506643199@www.eabc-thailand.org
SUMMARY:CALL FOR EABC ADVOCACY GROUP TOURISM (AGT) MEETING
DESCRIPTION:CALL FOR EABC ADVOCACY GROUP TOURISM (AGT) MEETING​\nDate:  28 September 2017\nTime: 16.00 hrs.\nVenue: Ascott Sathorn\, Board Room; 3rd floor. (map)
URL:https://www.eabc-thailand.org/event/call-for-eabc-advocacy-group-tourism-agt-meeting/
LOCATION:Ascott Sathorn\, Board Room; 3rd floor
ATTACH;FMTTYPE=image/jpeg:https://www.eabc-thailand.org/wp-content/uploads/2019/01/zx.jpg
END:VEVENT
END:VCALENDAR