BEGIN:VCALENDAR
VERSION:2.0
PRODID:-//EABC Thailand - ECPv6.15.20//NONSGML v1.0//EN
CALSCALE:GREGORIAN
METHOD:PUBLISH
X-ORIGINAL-URL:https://www.eabc-thailand.org
X-WR-CALDESC:Events for EABC Thailand
REFRESH-INTERVAL;VALUE=DURATION:PT1H
X-Robots-Tag:noindex
X-PUBLISHED-TTL:PT1H
BEGIN:VTIMEZONE
TZID:Asia/Krasnoyarsk
BEGIN:STANDARD
TZOFFSETFROM:+0700
TZOFFSETTO:+0700
TZNAME:+07
DTSTART:20160101T000000
END:STANDARD
END:VTIMEZONE
BEGIN:VEVENT
DTSTART;VALUE=DATE:20170516
DTEND;VALUE=DATE:20170517
DTSTAMP:20260425T071803
CREATED:20190131T071522Z
LAST-MODIFIED:20190131T071522Z
UID:2432-1494892800-1494979199@www.eabc-thailand.org
SUMMARY:Chiang Mai Connect by NTCC: Launch & Networking
DESCRIPTION:Prices: 500 baht for members (& non-members) who book & pay online via Eventpop | 600 baht member rate at the door | 700 baht non-member rate at the door \nLocation: Coffee Smith at Star Avenue 5\, Chiang Mai – Hangdong road (map)
URL:https://www.eabc-thailand.org/event/chiang-mai-connect-by-ntcc-launch-networking/
LOCATION:Coffee Smith at Star Avenue 5\, Chiang Mai – Hangdong road
ATTACH;FMTTYPE=image/jpeg:https://www.eabc-thailand.org/wp-content/uploads/2019/01/b941a1e516d082abf99e04775bace7b2.jpg
END:VEVENT
BEGIN:VEVENT
DTSTART;TZID=Asia/Krasnoyarsk:20170524T193000
DTEND;TZID=Asia/Krasnoyarsk:20170524T210000
DTSTAMP:20260425T071803
CREATED:20190131T072333Z
LAST-MODIFIED:20190131T072333Z
UID:2437-1495654200-1495659600@www.eabc-thailand.org
SUMMARY:BIG15: Fitness in Business
DESCRIPTION:                  \nWednesday 24 May 2017 \n6:00pm Registration \n6:30pm Welcome \n6:40pm Panel Discussion and Q&A \n7:30pm – 9:00pm Networking & Drinks\n@Rembrandt Hotel (map) \nAIP Global is organizing panel discussion and networking event “BIG15: Fitness in Business”. \nWe all agree that being physically fit is good for business.  Maintaining an active lifestyle will keep you energetic and productive for your working day\, increasing your confidence and ability to solve problems creatively. But above all else\, physical fitness allows us to manage our stress.  But how many of us can effectively live a work / life balance. \nDuring BIG15\, you will learn from our special guest panelists how to live a healthy\, active lifestyle whilst holding down a full time job. How are fitness companies encouraging businesses to incorporate a healthy lifestyle into daily business operations. \nSpecial offer for EABC members !!!  500 THB. walk in rate         \n                  
URL:https://www.eabc-thailand.org/event/big15-fitness-in-business/
LOCATION:Rembrandt Hotel
ATTACH;FMTTYPE=image/jpeg:https://www.eabc-thailand.org/wp-content/uploads/2019/01/6ea1ab2bd60b87f9b80a11d1c6b988cd.jpg
END:VEVENT
BEGIN:VEVENT
DTSTART;VALUE=DATE:20170526
DTEND;VALUE=DATE:20170528
DTSTAMP:20260425T071803
CREATED:20190131T073720Z
LAST-MODIFIED:20190131T073720Z
UID:2442-1495756800-1495929599@www.eabc-thailand.org
SUMMARY:Information & Communication Technologies EU companies Business Mission to Thailand
DESCRIPTION:Information & Communication Technologies EU companies Business Mission to Thailand\n\nDates: Friday 26 & Saturday morning 27 May 2017\nVenue: InterContinental Bangkok\, Level 4\, Pinnacle Hall\n \nIf you are interested in Information and Communication Technology and would like to meet some 50 visiting European SMEs please register and come to this event. \n\nBusiness matching\, networking\, business collaboration.\n\nVisiting company list as at 1 May is here \nAgenda is here \nList of Local ‘European’ ICT SMEs is here\n \nSee here for more information and registration.\n\nEABC is a proud supporter of this event.
URL:https://www.eabc-thailand.org/event/information-communication-technologies-eu-companies-business-mission-to-thailand/
LOCATION:InterContinental Bangkok\, Level 4\, Pinnacle Hall
ATTACH;FMTTYPE=image/png:https://www.eabc-thailand.org/wp-content/uploads/2019/01/3f3085b1065666be9a16e724dd7e48a1.png
END:VEVENT
END:VCALENDAR