BEGIN:VCALENDAR
VERSION:2.0
PRODID:-//EABC Thailand - ECPv6.15.20//NONSGML v1.0//EN
CALSCALE:GREGORIAN
METHOD:PUBLISH
X-ORIGINAL-URL:https://www.eabc-thailand.org
X-WR-CALDESC:Events for EABC Thailand
REFRESH-INTERVAL;VALUE=DURATION:PT1H
X-Robots-Tag:noindex
X-PUBLISHED-TTL:PT1H
BEGIN:VTIMEZONE
TZID:Asia/Krasnoyarsk
BEGIN:STANDARD
TZOFFSETFROM:+0700
TZOFFSETTO:+0700
TZNAME:+07
DTSTART:20160101T000000
END:STANDARD
END:VTIMEZONE
BEGIN:VEVENT
DTSTART;VALUE=DATE:20170302
DTEND;VALUE=DATE:20170303
DTSTAMP:20260425T095442
CREATED:20190129T084934Z
LAST-MODIFIED:20190129T093054Z
UID:2221-1488412800-1488499199@www.eabc-thailand.org
SUMMARY:Matchmaking & Networking Event for EU-Thai SMEs
DESCRIPTION:On 2 march EABC and OSMEP – Office of Small and Medium Enterprises Promotion – co-organised a Matchmaking & Networking Event for EU and Thai SMEs at the BCCT. More than 60 participants from Thai and European companies joined the event and the venue was filled up 100 % and a BIG SUCCESS according to feedback from the participating SMEs and organisors! \nMr. Rolf-Dieter Daniel\, President of EABC welcomed the participants and Dr. Wimonkan Kosumas\, Deputy Director General of OSMEP made a presentation of OSMEP and how they can support SMEs in different ways. \nA presentation on “Updated BOI Investment Promotion Policy” was made by Dr. Bonggot Anuroj\, Senior Executive Investment Advisor \nThailand Board of Investment and  “Private Equity Trust for SMEs -Alternative way to grow your business” by Ms.Pattamaporn Chaiyakool\, Trust Manager\, SMEs Private Equity Trust Fund 2\, SME Bank. \nAll participating companies also made a brief  introduction of their business representing various sectors of the economy. Many of the Thai SMEs are interested to find new markets in Europe and EABC can play a supporting role in this process. \nConclusion and closing remarks were made by EABC President Rolf-Dieter Daniel where he thanked all participating organizations and distinguished speakers and not the least the participating SMEs. \nFinally a Networking among all participants and exchanging contacts and sharing experiences was carried out. EABC and OSMEP will plan for the next step in this successful collaboration.\nClick here for press release \n \n \n \n \n \n \nFor more information\, please find the presentations: Download
URL:https://www.eabc-thailand.org/event/matchmaking-networking-event-for-eu-thai-smes/
ATTACH;FMTTYPE=image/jpeg:https://www.eabc-thailand.org/wp-content/uploads/2019/01/984d3a6b587dfe06019e90cef7f64ea8.jpg
END:VEVENT
BEGIN:VEVENT
DTSTART;VALUE=DATE:20170308
DTEND;VALUE=DATE:20170311
DTSTAMP:20260425T095442
CREATED:20190129T095605Z
LAST-MODIFIED:20190129T100323Z
UID:2234-1488931200-1489190399@www.eabc-thailand.org
SUMMARY:SETA 2017 on 8-10 March 2017
DESCRIPTION:On 8 to 10 March 2017 EABC joined the SETA 2017 – Sustainable Energy & Technology Asia “Towards a low-Carbone future”. \nEABC organised a European Pavilion  with the following member companies participating Retech Energy\, Rittal\, Poyry and BMW. \nSETA 2017 was organised by Ministry of Energy and Chulalongkorn University\, in collaboration with Ministry of Science and Technology\, Ministry of Transport and Bangkok Metropolitan Administration\, at Bangkok International Trade & Exhibition Centre (BITEC). The second edition of this event covered four significant topics\, including energy policy making and planning\, low-carbon power generation technology\, energy for low-carbon transportation and smart city and green industry\, which are destined to promote and develop sources of knowledge concerning energy and related technology. This year’s highlights included hybrid technology and electric cars. \nThe opening ceremony was held on 8 March and EABC was represented by our President Rolf-Dieter Daniel\, Vice President Jan Eriksson\, Executive Director Peter Bjork\, Policy Manager Chaladbhum Temkasem and Chair of Automotive Working Group Stefan Teuchert. \nAccording to Deputy Prime Minister Air Chief Marshal Prajin Juntong\, the Thai government is gearing towards energy security with a continuous attempt to maintain the availability of the country’s energy resources in all forms. He said\, “Our focus on energy development covers everything from manufacturing process\, transportation to distribution and selling. It is essential to make things more practical and reasonable especially in terms of price structure of energy\, which should reflect actual costs and does not place an extra financial burden on the public sector. It should also encourage the country’s long-term development\, reduce impacts on the environment and help promote energy efficiency that allows for sustainable development”. \nGeneral Anantaporn Kanchanarat\, Energy Minister\, said\, “The Energy 4.0 policy is in line with the government’s Thailand 4.0 initiative\, which is set to improve the quality of life\, competitiveness and the average income of Thai people. As part of this\, the Smart Cities Project involves transforming communities into smart cities by promoting energy efficiency with the use of smart grid in order to provide community dwellers with greater convenience and allows for less energy consumption. In addition to the use of clean and environmentally friendly energy\, this sustainable approach also includes the construction of smart buildings and the installation of smart meters to facilitate the most effective management of electricity\, the supply of electricity to people using electric vehicles\, the expansion of charging service to key locations such as shopping centers\, parking lots\, government offices and the production of electric tuk tuk. This high-performance power grid is also expected to help promote tourism and reduce noise and air pollutions. Now researchers are working on high-capacity batteries called energy storage\, which is smaller in size with cheaper price\, but higher in quality. As the effective management of the country’s energy sector relies on various factors\, the Energy Ministry strives to achieve a better balance between energy security\, fairness and environmental protection in order to lead to sustainable success.” \nTransport Minister Lieutenant General Arkhom Termpittayapaisith said\, “Ministry of Transport has developed a draft 20-year strategy for the overall development of Thailand’s transport sector\, starting from 2017 and continues until 2036. This will be used as a framework for Thailand’s future development of transportation network by focusing on development approaches that address changing lifestyles\, transport behaviors and needs of commuters. These can be performed under three main concepts comprising Green Transport\, which concentrates on reducing the use of fossil energy sources and shifting to cleaner or alternative energy as well as promoting environmentally friendly transportation technology. Secondly\, Transport Efficiency is destined to increase transport and logistics efficiency by reducing logistics costs and using rail network and water as main transport modes\, with road transport as supporting channel. Lastly\, Inclusive Transport involves improvements in the transportation network that enable all users\, including aging people\, persons with disability and children\, to get easy access to public transportation services at reasonable prices and with strategic development pathways for the country’s entire transport system.” \nDr. Achaka Sriboonruang\, Science and Technology Minister\, pointed out that the Science and Technology Ministry continues to support research projects that allow for increasing competitiveness and is relevant to the country’s 20-year development framework (2017-2036) which aims to raise the country’s economic competitiveness as it is moving towards a developed country. This can be achieved through the use of science\, technology and innovation as part of key drivers. Knowledge is fundamental to the improvement of capabilities in industrial development in diverse fields\, especially agro-industry\, food and alternative energy. To achieve the goal\, it is important that science and technology are effectively applied and transferred to schools and communities nationwide.”
URL:https://www.eabc-thailand.org/event/seta-2017-on-8-10-march-2017/
ATTACH;FMTTYPE=image/jpeg:https://www.eabc-thailand.org/wp-content/uploads/2019/01/8c6af403233391ee8d9c9f2ce780c104.jpg
END:VEVENT
BEGIN:VEVENT
DTSTART;VALUE=DATE:20170314
DTEND;VALUE=DATE:20170315
DTSTAMP:20260425T095442
CREATED:20190129T101515Z
LAST-MODIFIED:20190129T101515Z
UID:2246-1489449600-1489535999@www.eabc-thailand.org
SUMMARY:CAMBODIA FOCUS 14 March 2017
DESCRIPTION:SAVE THE DATE! – 14 March 2017 \nEUROCHAM Cambodia is holding a “Cambodia Focus” conference tailored specifically for European businesses/companies in Thailand seeking new partners or considering expansion into Cambodia. \nThis daylong event is  Free of Charge conference will begin with panel sessions including Cambodia’s Minister of Commerce\, while the second half of the day will consist of B2B meetings with specialists to answer your questions and discuss expansion possibilities in detail in Bangkok\, Thailand. \nThe largest European chambers in Thailand are promoting this event; we aim for at least 80 companies to attend. \n\n\n\nIf you are looking to expand your operations\, improve your supply chain\, or find new partners\, we strongly recommend planning to attend the Cambodia Focus conference on March 14. Our partner EuroCham Cambodia is organizing the event tailored specifically for European businesses in Thailand.\nThe daylong conference will begin with panel sessions including Cambodia’s Minister of Commerce\, while the second half of the day will consist of B2B meetings with specialists to answer your questions and discuss expansion possibilities in detail.\nWe will send the program shortly\, looking forward to seeing you there!\n\n\n\n\n\n\n\nCAMBODIA FOCUS\nMarch 14th\, 2017 – Bangkok\n\n\n\n 
URL:https://www.eabc-thailand.org/event/cambodia-focus-14-march-2017/
ATTACH;FMTTYPE=image/jpeg:https://www.eabc-thailand.org/wp-content/uploads/2019/01/7919a43e14cc2392478ae6c3946b59ab.jpg
END:VEVENT
BEGIN:VEVENT
DTSTART;TZID=Asia/Krasnoyarsk:20170316T180000
DTEND;TZID=Asia/Krasnoyarsk:20170316T220000
DTSTAMP:20260425T095442
CREATED:20190129T101924Z
LAST-MODIFIED:20190129T101924Z
UID:2249-1489687200-1489701600@www.eabc-thailand.org
SUMMARY:St. Patrick's Day Shindig  16 March 2017
DESCRIPTION:The Irish Thai Chamber of Commerce\, in collaboration with Embassy of Ireland\, ThaiGAA\, Irish Women’s Group\, St. Patrick’s Society Bangkok\, BCCT\, AMCHAM\, AustCham\, NZTCC\, TFCC\, CanCham\, STCC\, MTCC and EABC brings you its annual “ST. PATRICK’S DAY SHINDIG” \n \nWhen: Thursday\, 16 March 2017 | 18.30-22.00 \nWhere: Ballroom\, Compass SkyView Hotel Sukhumvit 24 \nPrice: Members of participating organizations THB 1\,400 (Pre-registration required) / Non-members and walk-ins on the day THB 1\,600 \n \nFeaturing:\n• Free flow of alcoholic and non-alcoholic beverages till 21.00\n• Guinness and Irish coffee \n• Irish food \n• Live Irish music \n• Raffle prizes \n \nRegister now! at events@irishthaicc.com \n​\n*Please indicate your chamber name upon registration. \n \nPayment: Cash at door or bank transfer \nAccount name: IRISH THAI CHAMBER OF COMMERCE \nAccount number: 155-216367-7 \nBank name: Siam Commercial Bank\, All Seasons Place Branch.  \n*Please send pay-in slip to events@irishthaicc.com
URL:https://www.eabc-thailand.org/event/st-patricks-day-shindig-16-march-2017/
ATTACH;FMTTYPE=image/jpeg:https://www.eabc-thailand.org/wp-content/uploads/2019/01/4c6bece870bc2217e2fce4eebfdd60b3.jpg
END:VEVENT
BEGIN:VEVENT
DTSTART;TZID=Asia/Krasnoyarsk:20170320T100000
DTEND;TZID=Asia/Krasnoyarsk:20170320T120000
DTSTAMP:20260425T095442
CREATED:20190129T102249Z
LAST-MODIFIED:20190201T040022Z
UID:2254-1490004000-1490011200@www.eabc-thailand.org
SUMMARY:POSTPONEMENT: Lecture for European Investors on Prompt Pay 20 March 2017
DESCRIPTION:Date: Monday 20 March 2017\nTime: 10:00 – 12:00 AM\nVenue: Plaza Athénée Bangkok\nPrice: 850 THB per person (EABC-Members)\n1000 THB for Non-Members\nPre-payment is required to confirm your seat. Registration is binding\, no-shows will be charged.\nGet to know the important aspects of Prompt Pay: \n\nWhat is it? Benefits for businesses. How good is the security system?\nHow can European investors help the ministry implementing National E-Payment Policy?\nWhat it means for you and your company\nIncentives/promotions for attracting foreign investors to help implementing the E-Payment Policy considered by the Ministry of Finance\nNew policy measures the Ministry of Finance will intoduce in the near future and the Economic outlook for the remain of 2017​\n\n\nFor registration please click here \n\n\nVIP Lunch after the session with H.E. Kiatchai Sophastienphong\n*****VIP LUNCH REPLY FORM*****
URL:https://www.eabc-thailand.org/event/postponement-lecture-for-european-investors-on-prompt-pay-20-march-2017/
LOCATION:Plaza Athénée Bangkok
END:VEVENT
BEGIN:VEVENT
DTSTART;TZID=Asia/Krasnoyarsk:20170320T100000
DTEND;TZID=Asia/Krasnoyarsk:20170320T120000
DTSTAMP:20260425T095442
CREATED:20190129T103219Z
LAST-MODIFIED:20190129T103219Z
UID:2256-1490004000-1490011200@www.eabc-thailand.org
SUMMARY:POSTPONEMENT: Lecture for European Investors on Prompt Pay 20 March 2017
DESCRIPTION:POSTPONEMENT of the Lecture for European Investors on Prompt Pay 20 March 2017 \nTHE EVENT IS POSTPONED UNTIL FURTHER NOTICE.\nPLEASE KEEP IN TOUCH FOR THE RESCHEDULED DATE.\n\nDate: Monday 20 March 2017\nTime: 10:00 – 12:00 AM\nVenue: Plaza Athénée Bangkok\nPrice: 850 THB per person (EABC-Members)\n1000 THB for Non-Members\nPre-payment is required to confirm your seat. Registration is binding\, no-shows will be charged.\nGet to know the important aspects of Prompt Pay: \n\nWhat is it? Benefits for businesses. How good is the security system?\nHow can European investors help the ministry implementing National E-Payment Policy?\nWhat it means for you and your company\nIncentives/promotions for attracting foreign investors to help implementing the E-Payment Policy considered by the Ministry of Finance\nNew policy measures the Ministry of Finance will intoduce in the near future and the Economic outlook for the remain of 2017​\n\nFor registration please click here \n\n\nVIP Lunch after the session with H.E. Kiatchai Sophastienphong\n*****VIP LUNCH REPLY FORM*****
URL:https://www.eabc-thailand.org/event/postponement-lecture-for-european-investors-on-prompt-pay-20-march-2017-2/
LOCATION:Plaza Athénée Bangkok
ATTACH;FMTTYPE=image/jpeg:https://www.eabc-thailand.org/wp-content/uploads/2019/01/fadad4e2a47f551eeb971e6a69d26784.jpg
END:VEVENT
BEGIN:VEVENT
DTSTART;VALUE=DATE:20170328
DTEND;VALUE=DATE:20170329
DTSTAMP:20260425T095442
CREATED:20190129T104453Z
LAST-MODIFIED:20190129T104453Z
UID:2267-1490659200-1490745599@www.eabc-thailand.org
SUMMARY:Disaster Preparedness Forum: Build Better Now on 28 March 2017
DESCRIPTION:Disaster Preparedness Forum: Build Better Now\nNow in its fourth year\, the Disaster Preparedness Forum will address the need for disaster resilient settlements throughout Asia. Forum discussions will focus on policy and regulatory frameworks\, finance and investment incentives\, as well as on building design and construction. \nThis year’s theme “Build Better Now” reflects the significant economic losses and damages in the region due to disasters. Year after year\, this region sees casualties and long-term impacts on livelihoods caused by poorly constructed buildings. People are buried in collapsed structures or forced to live in temporary shelters for months or years after a disaster. To combat this\, buildings\, especially homes\, schools and other vital community facilities must be able to withstand typhoons\, earthquakes and floods. \nA paradigm shift is required; one that emphasises multi-sectoral collaboration and pre-disaster funding to lessen significantly the effects of disaster induced losses – covering physical damages\, economic losses and most importantly\, lives lost. Our objective is to build the case for greater business engagement and cross-sector partnerships in disaster preparedness and resilience. \nWho should attend: \n\n\n\n\nCompanies interested in helping reduce disaster risks\, damages and loss by raising their disaster-related CSR efforts to a more strategic\, impactful level and aligning them with the Sustainable Development Goals\n\n\n\nCompanies looking for opportunities to engage in disaster preparedness through inclusive business\, shared value or community investment approaches\n\n\n\nOrganisations seeking more strategic and effective business sector engagement that creates value for all stakeholders\n\n\n\nGovernments looking to build cross-sector partnerships that drive greater investment in community preparedness and resilience\n\n\n\nThe Forum will be conducted in English. All speeches and panel discussions will be simultaneously translated into Thai. \n\n\n\n\n\n\n\n\n\n\n\n\n\n\n\n\nClick here for more details
URL:https://www.eabc-thailand.org/event/disaster-preparedness-forum-build-better-now-on-28-march-2017/
ATTACH;FMTTYPE=image/jpeg:https://www.eabc-thailand.org/wp-content/uploads/2019/01/6c2530369346b78a7b551cf6d657d37e.jpg
END:VEVENT
BEGIN:VEVENT
DTSTART;VALUE=DATE:20170330
DTEND;VALUE=DATE:20170331
DTSTAMP:20260425T095442
CREATED:20190129T101051Z
LAST-MODIFIED:20190129T101223Z
UID:2240-1490832000-1490918399@www.eabc-thailand.org
SUMMARY:European Chambers Luncheon: BOI Policy Update
DESCRIPTION:Join us for a luncheon talk with Khun Duangjai Asawachintachit \, Deputy Secretary General of the Thailand Board of Investment (BOI) for the latest BOI policy updates and insights on your investments in the land of smiles. With more than 30 years of experience anchoring investments into Thailand on behalf of the BOI\, working hand-in-hand with especially European investors\, her expertise is definitely something you should not miss. \nExpect to learn more about cluster industry development in Rayong/Map Tha Put\, how your business could drive Thailand 4.0\, and how BOI policy updates will benefit your businesses. \nAlready have specific questions/topics in mind? \nPlease share them we will make sure Khun Duangjai receive them before the event. \n  \nEvent details \nDATE: Thursday 30 March \nTIME: 11.30 – 14.00 hrs \nSPEAKER: Khun Duangjai Asawachintachit\, Deputy Secretary General\, Thailand Board of Investment (BOI) \nPRICE: 1\,200 baht for members \n2\,000 baht for non-members \n*3-course lunch inclusive \n*Advance payment and booking at least 3 days before the event \nLOCATION: 4th Flr.\, Ballroom\, Conrad Bangkok (map) \nCANCELLATION POLICY: Cancellations\, if any\, must be done at least 3 days before the event.
URL:https://www.eabc-thailand.org/event/european-chambers-luncheon-boi-policy-update/
LOCATION:4th Flr.\, Ballroom\, Conrad Bangkok
ATTACH;FMTTYPE=image/jpeg:https://www.eabc-thailand.org/wp-content/uploads/2019/01/274f9321da9d06a2c76b741eb148dc76.jpg
END:VEVENT
END:VCALENDAR