BEGIN:VCALENDAR
VERSION:2.0
PRODID:-//EABC Thailand - ECPv6.15.20//NONSGML v1.0//EN
CALSCALE:GREGORIAN
METHOD:PUBLISH
X-WR-CALNAME:EABC Thailand
X-ORIGINAL-URL:https://www.eabc-thailand.org
X-WR-CALDESC:Events for EABC Thailand
REFRESH-INTERVAL;VALUE=DURATION:PT1H
X-Robots-Tag:noindex
X-PUBLISHED-TTL:PT1H
BEGIN:VTIMEZONE
TZID:Asia/Krasnoyarsk
BEGIN:STANDARD
TZOFFSETFROM:+0700
TZOFFSETTO:+0700
TZNAME:+07
DTSTART:20150101T000000
END:STANDARD
END:VTIMEZONE
BEGIN:VEVENT
DTSTART;VALUE=DATE:20160803
DTEND;VALUE=DATE:20160804
DTSTAMP:20260425T203909
CREATED:20190125T073906Z
LAST-MODIFIED:20190125T073959Z
UID:2041-1470182400-1470268799@www.eabc-thailand.org
SUMMARY:EABC President interviewed on Money Channel Thailand
DESCRIPTION:EABC President interviewed on Money Channel Thailand \n \n\nOn 3 August 2016\, The Money channel interviewed European Association for Business and Commerce (EABC) president Mr. Rolf-Dieter Daniel. The highlight of the interview concerns the consequences of ‘Brexit’ to the  European Union and the impact on business and trade between EU\, Britain and Thailand.\nplease view the video clip  PART1   PART2
URL:https://www.eabc-thailand.org/event/eabc-president-interviewed-on-money-channel-thailand/
ATTACH;FMTTYPE=image/jpeg:https://www.eabc-thailand.org/wp-content/uploads/2019/01/2eca9d939f35dd4e5935ea500aae5727.jpg
END:VEVENT
BEGIN:VEVENT
DTSTART;VALUE=DATE:20160811
DTEND;VALUE=DATE:20160815
DTSTAMP:20260425T203909
CREATED:20190125T072911Z
LAST-MODIFIED:20190128T065450Z
UID:2039-1470873600-1471219199@www.eabc-thailand.org
SUMMARY:IP Fair 11-14 August 2016
DESCRIPTION: EABC President Mr. Rolf-Dieter Daniel joined the opening ceremony at the Intellectual Property(IP) Fair  2016 \, on 11 August 2016\, at Queen Sirikit National Convention Center (QSNCC). Mr. Winichai Chaemchaeng Vice Minister for Commerce was the guest of honor.\n\n\n                         \n\n\nINTELLECTUAL PROPERTY (IP) FAIR 2016 \nOn 11th – 14th August 2016\, EABC participated with the European pavilion at Thailand Intellectual Property Fair 2016 along with our member company: INTEGRITY ASIA. This event provided a value and promoted business opportunities for European business\, showing innovations at the exhibition under the theme “Innovation for Life and Living” at Queen Sirikit National Convention Center (QSNCC)
URL:https://www.eabc-thailand.org/event/ip-fair-11-14-august-2016/
END:VEVENT
BEGIN:VEVENT
DTSTART;VALUE=DATE:20160818
DTEND;VALUE=DATE:20160819
DTSTAMP:20260425T203909
CREATED:20190125T074611Z
LAST-MODIFIED:20190125T075910Z
UID:2046-1471478400-1471564799@www.eabc-thailand.org
SUMMARY:EABC President at Department of Foreign Trade
DESCRIPTION:On 18 August 2016\, at the Department of Foreign Trade\, the EABC President\, Mr. Rolf-Dieter Daniel\, participated in a trade discussion on the new Trade Control Act. Other participants in the picture also included representatives from JFCCT and Mr. Abhimontejchbud Dhadchyarnbhon\, Director Agreement Merchandise Administration and Trade Measures Division.
URL:https://www.eabc-thailand.org/event/eabc-president-at-department-of-foreign-trade/
ATTACH;FMTTYPE=image/jpeg:https://www.eabc-thailand.org/wp-content/uploads/2019/01/20d253acb5ced89636f446f47f762779.jpg
END:VEVENT
BEGIN:VEVENT
DTSTART;VALUE=DATE:20160818
DTEND;VALUE=DATE:20160819
DTSTAMP:20260425T203909
CREATED:20190128T031258Z
LAST-MODIFIED:20190128T031636Z
UID:2053-1471478400-1471564799@www.eabc-thailand.org
SUMMARY:
DESCRIPTION:EABC President participated at 96th anniversary of Ministry of Commerce \n\nOn 18 August 2016\, EABC President Mr.Rolf- Dieter Daniel participated at 96th anniversary of Ministry of Commerce and congratulated to Mrs.Apiradi Tantraporn\, Minister of Commerce.
URL:https://www.eabc-thailand.org/event/2053/
ATTACH;FMTTYPE=image/jpeg:https://www.eabc-thailand.org/wp-content/uploads/2019/01/bf12190357141b522395918cd089e64e.jpg
END:VEVENT
BEGIN:VEVENT
DTSTART;VALUE=DATE:20160824
DTEND;VALUE=DATE:20160825
DTSTAMP:20260425T203909
CREATED:20190128T032527Z
LAST-MODIFIED:20190128T033440Z
UID:2059-1471996800-1472083199@www.eabc-thailand.org
SUMMARY:Joint Chamber Ice Breaker Networking - SME Special
DESCRIPTION:On Wednesday 24 August 2016\, EABC with GTCC (host)\, FTCC\,TICC and BCCT organised a Ice Breaker networking at the Saim Kempinski Hotel.\nDuring the event\, Mrs. Kaewkoaw Phaoenchocke\, Chairman of Thai Small and Medium Enterprises Council and President of Thai Association of Small and Medium Entrepreneurs (TASME)\, gave a speech on SMEs.\n\n\n\n\n\n   \nMore EABC Events are in the planning\, please click here for Upcoming Events. For more information on this please contact communication@eabc-thailand or 02 670 0624 Ext.102
URL:https://www.eabc-thailand.org/event/joint-chamber-ice-breaker-networking-sme-special/
LOCATION:the Saim Kempinski Hotel
ATTACH;FMTTYPE=image/jpeg:https://www.eabc-thailand.org/wp-content/uploads/2019/01/31d6ec4bba0aa32e72b768c29970a5da.jpg
END:VEVENT
END:VCALENDAR