BEGIN:VCALENDAR
VERSION:2.0
PRODID:-//EABC Thailand - ECPv6.15.20//NONSGML v1.0//EN
CALSCALE:GREGORIAN
METHOD:PUBLISH
X-WR-CALNAME:EABC Thailand
X-ORIGINAL-URL:https://www.eabc-thailand.org
X-WR-CALDESC:Events for EABC Thailand
REFRESH-INTERVAL;VALUE=DURATION:PT1H
X-Robots-Tag:noindex
X-PUBLISHED-TTL:PT1H
BEGIN:VTIMEZONE
TZID:Asia/Krasnoyarsk
BEGIN:STANDARD
TZOFFSETFROM:+0700
TZOFFSETTO:+0700
TZNAME:+07
DTSTART:20150101T000000
END:STANDARD
END:VTIMEZONE
BEGIN:VEVENT
DTSTART;VALUE=DATE:20160707
DTEND;VALUE=DATE:20160708
DTSTAMP:20260425T222510
CREATED:20190125T063401Z
LAST-MODIFIED:20190125T063401Z
UID:2024-1467849600-1467935999@www.eabc-thailand.org
SUMMARY:EABC at Erasmus+ scholarship awardees 2016
DESCRIPTION:EABC at Erasmus+ scholarship awardees ceremony 2016 \n      \n  \nEABC was invited by the Delegation of European Union to Thailand to participate at the ERASMUS+ Scholarship 2016 Awardees Ceremony on 11th July 2016 at The Westin Grande Sukhumvit Bangkok. \nThe EU Delegation hosted a reception to congratulate the awardees and to offer a networking opportunity among the awardees\, alumni\, representatives of EU Embassies\, as well as EABC. \nThe event began with welcoming remarks from Ambassador Jesús Miguel Sanz\, Head of the EU Delegation to Thailand followed by a welcome speech by Erasmus alumni representative and the inspirational speech by Mr. Georg Wolff\, a representative of the EABC board members.
URL:https://www.eabc-thailand.org/event/eabc-at-erasmus-scholarship-awardees-2016/
ATTACH;FMTTYPE=image/jpeg:https://www.eabc-thailand.org/wp-content/uploads/2019/01/9e4e7c35382257601ccbb009ca01734c.jpg
END:VEVENT
BEGIN:VEVENT
DTSTART;VALUE=DATE:20160711
DTEND;VALUE=DATE:20160712
DTSTAMP:20260425T222510
CREATED:20190125T062904Z
LAST-MODIFIED:20190125T062904Z
UID:2022-1468195200-1468281599@www.eabc-thailand.org
SUMMARY:Rail and Road Infrastructure WG Meeting on 11 July 2016
DESCRIPTION:Rail and Road Infrastructure WG Meeting on 11 July 2016
URL:https://www.eabc-thailand.org/event/rail-and-road-infrastructure-wg-meeting-on-11-july-2016/
END:VEVENT
BEGIN:VEVENT
DTSTART;VALUE=DATE:20160712
DTEND;VALUE=DATE:20160713
DTSTAMP:20260425T222510
CREATED:20190125T070127Z
LAST-MODIFIED:20190125T070127Z
UID:2028-1468281600-1468367999@www.eabc-thailand.org
SUMMARY:IPR WG Meeting on 12 July 2016
DESCRIPTION:IPR WG Meeting on 12 July 2016
URL:https://www.eabc-thailand.org/event/ipr-wg-meeting-on-12-july-2016/
END:VEVENT
BEGIN:VEVENT
DTSTART;TZID=Asia/Krasnoyarsk:20160725T043000
DTEND;TZID=Asia/Krasnoyarsk:20160725T180000
DTSTAMP:20260425T222510
CREATED:20190125T070837Z
LAST-MODIFIED:20190125T070837Z
UID:2030-1469421000-1469469600@www.eabc-thailand.org
SUMMARY:TRADE COMPETITION DISCUSSION JULY 25
DESCRIPTION:EABC is organizing a seminar on  the newly drafted Trade Competition Act. \nTrade Competition Discussion \nBy:       EABC (European Association for Business and Commerce) \nDate:    Monday 25 July 2016\nTime:    16.30 – 18.00 hrs (Registration starts 16.00 hrs)\nVenue: EABC Office\, 25th Floor\, Empire Tower 3\, Sathorn \nCost: THB 250 for EABC Members and Consortium Partners (THB 400 for Non-Members) \nBackground: Thailand’s main legislation regulating anticompetitive practices is the Trade Competition Act B.E. 2542 (1999). Since our first launch of EABC Position Paper in 2012\, transparency and predictability in policymaking and application of rules and regulations is regarded as essential for a stable business environment. Competition on fair terms fosters efficiency and innovation. It supports open markets allowing businesses to provide better value for Thai consumers. It supports the evolution away from rent-seeking\, concession-type approaches. Despite its existence for more than a decade\, the impact of this act is yet to be proven but recently it has been overhauled to improve Thailand’s competitiveness. \nThis event will give you an overview of the newly drafted Trade Competition Act and show you the best examples from Thailand and abroad. If you have doubts whether your current business is competing unfairly or thinking of stepping into a business that is run similarly by the government this seminar will give you important information. “Trade Competition Discussion” in this unique setting with our excellent guest speaker will answer all your questions so you can take advantage of the business opportunities in Thailand. \nParticipants: EABC Board and Members such as European businesses in Thailand\, relevant stakeholders such as EU Member States Embassies\, Chambers and Consortium Partner’s members\, national and regional press and media. \nDress Code: Business Casual. \nTentative Agenda\n16.00 – 16.30 hrs           Registration\n16.30 – 17.30 hrs           Talk on “Trade Competition Discussion” \n\nDr. Robert Ian McEwin\, Head of Competition Consulting\, Australian National University\nMs. Wipanan Prasompluem\, Senior Associate on Litigation of Allen & Overy (Thailand) Co.\, Ltd.\n\n17.30 – 17.50 hrs           Q&A\n17.50 – 18.00 hrs           Closing Remarks by Mr. Peter Bjork\, EABC Executive Director \nEABC members and Consortium members     THB250 net \nNon-members                                                   THB400 net \nRegistration deadline: Thursday 21 July 2016 \nPayment cash only at the entrance \nFor more information and registration\, please contact: policy@eabc-thailand.eu or (66) 2 670 0624 ext 104\, www.eabc-thailand.eu \n****BOOK NOW\, seats are limited and will be provided on a first come first served basis. \n(Registration is binding. No-shows will be charged)
URL:https://www.eabc-thailand.org/event/trade-competition-discussion-july-25/
LOCATION:EABC Office\, 25th Floor\, Empire Tower 3\, Sathorn
ATTACH;FMTTYPE=image/jpeg:https://www.eabc-thailand.org/wp-content/uploads/2019/01/efc7e83a0d09bc0cc74e0c2330d61f20.jpg
END:VEVENT
BEGIN:VEVENT
DTSTART;VALUE=DATE:20160728
DTEND;VALUE=DATE:20160729
DTSTAMP:20260425T222510
CREATED:20190125T071237Z
LAST-MODIFIED:20190125T071237Z
UID:2034-1469664000-1469750399@www.eabc-thailand.org
SUMMARY:The development of Global Business Management amidst Globalization
DESCRIPTION:The development of Global Business Management amidst Globalization          \nOn 28 July 2016 EABC executive director Mr.Peter Bjork participated as panelist at “The development of Global Business Management amidst Globalization” at Burapa University.\n  \n 
URL:https://www.eabc-thailand.org/event/the-development-of-global-business-management-amidst-globalization/
LOCATION:Burapa University.
ATTACH;FMTTYPE=image/jpeg:https://www.eabc-thailand.org/wp-content/uploads/2019/01/2f748eaa04a88013ecacc242b07ac329.jpg
END:VEVENT
END:VCALENDAR