BEGIN:VCALENDAR
VERSION:2.0
PRODID:-//EABC Thailand - ECPv6.15.20//NONSGML v1.0//EN
CALSCALE:GREGORIAN
METHOD:PUBLISH
X-WR-CALNAME:EABC Thailand
X-ORIGINAL-URL:https://www.eabc-thailand.org
X-WR-CALDESC:Events for EABC Thailand
REFRESH-INTERVAL;VALUE=DURATION:PT1H
X-Robots-Tag:noindex
X-PUBLISHED-TTL:PT1H
BEGIN:VTIMEZONE
TZID:Asia/Krasnoyarsk
BEGIN:STANDARD
TZOFFSETFROM:+0700
TZOFFSETTO:+0700
TZNAME:+07
DTSTART:20150101T000000
END:STANDARD
END:VTIMEZONE
BEGIN:VEVENT
DTSTART;TZID=Asia/Krasnoyarsk:20160301T120000
DTEND;TZID=Asia/Krasnoyarsk:20160301T140000
DTSTAMP:20260426T041312
CREATED:20190124T042114Z
LAST-MODIFIED:20190124T042114Z
UID:1896-1456833600-1456840800@www.eabc-thailand.org
SUMMARY:The Latest Incentives of the BOI on 1 March\, 2016
DESCRIPTION:The Latest Incentives of the BOI on 1 March\, 2016\nby Ms. Duangjai Asawachintachit\, BOI Deputy Secretary General\n\nTime:        12:00 – 14:00 hrs\nLocation:   Grand Hyatt Erawan Bangkok\n\n\nTo download BOI presentation\, please click here \n\n  \n  \n  \n  \n  \n  \n 
URL:https://www.eabc-thailand.org/event/the-latest-incentives-of-the-boi-on-1-march-2016/
LOCATION:Grand Hyatt Erawan Bangkok
END:VEVENT
BEGIN:VEVENT
DTSTART;TZID=Asia/Krasnoyarsk:20160302T150000
DTEND;TZID=Asia/Krasnoyarsk:20160302T180000
DTSTAMP:20260426T041312
CREATED:20190129T094559Z
LAST-MODIFIED:20190129T095044Z
UID:2226-1456930800-1456941600@www.eabc-thailand.org
SUMMARY:SME Matchmaking & Networking Event
DESCRIPTION:EABC is organizing SME Matchmaking & Networking Event on 2 March 2017 at BCCT. You will get the most updated information about NEW Incentives for SMEs in Thailand from OSMEP\, BOI and SME Bank representatives. Follow up by Matchmaking/Networking session between Thai and European SMEs.\n\nDate:  2 March 2017\nTime: 15.00 – 18.00 hrs.\nVenue: BCCT – 7th Floor\, 208 Wireless Road\, Lumphini\, Pathumwan\, Bangkok\nPrice: 500 THB per personThe registration starts at 2:30 PM and ends at 6 PM but if you are not ready to leave\, you are welcome to stay a bit longer! \n\n\nSign up here to get useful tips and meet new people who might be your long lost partners!\nFor more information\, please do not hesitate to contact Ms. Friedrich at communication@eabc-thailand.eu or call 02 670 0624 Ext. 102
URL:https://www.eabc-thailand.org/event/sme-matchmaking-networking-event/
LOCATION:BCCT – 7th Floor\, 208 Wireless Road\, Lumphini\, Pathumwan\, Bangkok
ATTACH;FMTTYPE=image/png:https://www.eabc-thailand.org/wp-content/uploads/2019/01/525b7f11bfb3b69b96268f6c0e8079c1.png
END:VEVENT
BEGIN:VEVENT
DTSTART;VALUE=DATE:20160308
DTEND;VALUE=DATE:20160309
DTSTAMP:20260426T041312
CREATED:20190124T043027Z
LAST-MODIFIED:20190124T043027Z
UID:1911-1457395200-1457481599@www.eabc-thailand.org
SUMMARY:IPR WG Meeting on 8 March 2016
DESCRIPTION:IPR WG Meeting on 8 March 2016
URL:https://www.eabc-thailand.org/event/ipr-wg-meeting-on-8-march-2016/
END:VEVENT
BEGIN:VEVENT
DTSTART;VALUE=DATE:20160316
DTEND;VALUE=DATE:20160317
DTSTAMP:20260426T041312
CREATED:20190124T043204Z
LAST-MODIFIED:20190124T043204Z
UID:1924-1458086400-1458172799@www.eabc-thailand.org
SUMMARY:ICT WG Meeting on 16 March 2016
DESCRIPTION:ICT WG Meeting on 16 March 2016
URL:https://www.eabc-thailand.org/event/ict-wg-meeting-on-16-march-2016/
END:VEVENT
BEGIN:VEVENT
DTSTART;TZID=Asia/Krasnoyarsk:20160316T080000
DTEND;TZID=Asia/Krasnoyarsk:20160316T170000
DTSTAMP:20260426T041312
CREATED:20190124T043311Z
LAST-MODIFIED:20190124T043311Z
UID:1927-1458115200-1458147600@www.eabc-thailand.org
SUMMARY:Energy and Energy Efficiency WG meeting on 16 March 2016
DESCRIPTION:
URL:https://www.eabc-thailand.org/event/energy-and-energy-efficiency-wg-meeting-on-16-march-2016/
END:VEVENT
BEGIN:VEVENT
DTSTART;VALUE=DATE:20160323
DTEND;VALUE=DATE:20160326
DTSTAMP:20260426T041312
CREATED:20190124T044248Z
LAST-MODIFIED:20190124T044248Z
UID:1930-1458691200-1458950399@www.eabc-thailand.org
SUMMARY:EABC at SETA 2016 from 23 - 25 March 2016
DESCRIPTION:The opening ceremony of the Sustainable Energy & Technology Asia (SETA 2016)\, on 23 March 2016\, at the BITEC Bangna\, Bangkok. is chaired by Deputy Prime Minister H.E. Air Chief Marshal Prajin Juntong\, with H.E. General Anantaporn Kanjanarat\, Energy Minister of Thailand\, H.E. Mr. Ormsin Chivapruck\, Deputy Minister of Transport of Thailand and H.E. Yang Berhormat Datuk Seri Panglima Dr. Maximus Johnity Ongkili\, Minister of Energy\, Green Technology and Water (KETTHA)\, Malaysia have made the opening addresses. \n \n \nIn photo from left: Permanent Secretary of Ministry of                                      In photo from left\, the Energy Minister of Thailand\nEnergy – Mr. Areepong Bhoocha-Oom\, Mr. Rolf-Dieter                                     General Anantaporn Kanjanarat visited European\nDaniel – EABC president and Khun Choochai Eiamrungroj                               Pavilion\, greeted by Mr. Ath Hemvijitraphan –\n– Chairperson of Energy and Energy Efficiency Working                                  Executive Commercial Director-Fuels Business Group                                                                                                         The Shell Company of Thailand Ltd\, Mr. Rolf-Dieter\n                                                                                                                  Daniel\, and Mr. Choochai  Eiamrungroj \n \n \nEABC new member\, CNX Construction Co.\, Ltd.\, has successfully presented its “Phi Suea House Project” at the SETA 2016\, a sustainable set of residences fully powered by solar panels using an innovative hydrogen fuel cell system to store its power. Mr. Nattapong Lekchaichan has also welcomed the Energy Minister of Thailand with an opportunity to present project’s information and detail. \n \nIn Photo from left\, Mr. Choochai Eiamrungroj- Chairperson of Energy and Energy Efficiency Working Group\, Mr. Rolf-Dieter Daniel – EABC President\, and from CNX Construction\, Mr. Jan-Justus Schmidt – Project Lead Engineer and Mr. Nattapong Lekchaichan – Managing Director.
URL:https://www.eabc-thailand.org/event/eabc-at-seta-2016-from-23-25-march-2016/
LOCATION:BITEC Bangna
END:VEVENT
BEGIN:VEVENT
DTSTART;VALUE=DATE:20160329
DTEND;VALUE=DATE:20160330
DTSTAMP:20260426T041312
CREATED:20190124T044425Z
LAST-MODIFIED:20190124T044425Z
UID:1933-1459209600-1459295999@www.eabc-thailand.org
SUMMARY:Rail and Road Infrastructure WG Meeting on 29 March 2016
DESCRIPTION:Rail and Road Infrastructure WG Meeting on 29 March 2016
URL:https://www.eabc-thailand.org/event/rail-and-road-infrastructure-wg-meeting-on-29-march-2016/
END:VEVENT
END:VCALENDAR