BEGIN:VCALENDAR
VERSION:2.0
PRODID:-//EABC Thailand - ECPv6.15.20//NONSGML v1.0//EN
CALSCALE:GREGORIAN
METHOD:PUBLISH
X-ORIGINAL-URL:https://www.eabc-thailand.org
X-WR-CALDESC:Events for EABC Thailand
REFRESH-INTERVAL;VALUE=DURATION:PT1H
X-Robots-Tag:noindex
X-PUBLISHED-TTL:PT1H
BEGIN:VTIMEZONE
TZID:Asia/Krasnoyarsk
BEGIN:STANDARD
TZOFFSETFROM:+0800
TZOFFSETTO:+0700
TZNAME:+07
DTSTART:20141025T180000
END:STANDARD
END:VTIMEZONE
BEGIN:VEVENT
DTSTART;VALUE=DATE:20151104
DTEND;VALUE=DATE:20151105
DTSTAMP:20260426T092926
CREATED:20190123T103054Z
LAST-MODIFIED:20190123T103054Z
UID:1834-1446595200-1446681599@www.eabc-thailand.org
SUMMARY:EABC at Thai-Belgian Economic Forum on 4 November
DESCRIPTION:EABC President\, Mr. Rolf-Dieter Daniel represented as the EABC President at the Panel Debate on “Thailand and the AEC: challenges and opportunities. How are companies preparing themselves?” at the Thai-Belgian Economic Forum at Assumption University (ABAC)\, Suvarnabhumi Campus\, John XXIII Conference Center on November 4\, 2015.
URL:https://www.eabc-thailand.org/event/eabc-at-thai-belgian-economic-forum-on-4-november/
LOCATION:ABAC Suvarnabhumi Campus
ATTACH;FMTTYPE=image/jpeg:https://www.eabc-thailand.org/wp-content/uploads/2019/01/15530498791f6f261971be8cb74ad2f3.jpg
END:VEVENT
BEGIN:VEVENT
DTSTART;TZID=Asia/Krasnoyarsk:20151106T080000
DTEND;TZID=Asia/Krasnoyarsk:20151106T170000
DTSTAMP:20260426T092926
CREATED:20190123T103317Z
LAST-MODIFIED:20190123T103317Z
UID:1839-1446796800-1446829200@www.eabc-thailand.org
SUMMARY:EABC in Chiang Mai on 6 November
DESCRIPTION:6 November 2015 – EABC with NTCC\, BCCT\, FTCC and GTCC were at the Promenada Resort Mall in Chiang Mai. The event was held successfully with more than 40 participants\, included 10 participants from EABC.
URL:https://www.eabc-thailand.org/event/eabc-in-chiang-mai-on-6-november/
LOCATION:the Promenada Resort Mall
ATTACH;FMTTYPE=image/jpeg:https://www.eabc-thailand.org/wp-content/uploads/2019/01/fc136fd421a22037cec750f34790bbe8.jpg
END:VEVENT
BEGIN:VEVENT
DTSTART;VALUE=DATE:20151110
DTEND;VALUE=DATE:20151111
DTSTAMP:20260426T092926
CREATED:20190123T103544Z
LAST-MODIFIED:20190123T103544Z
UID:1843-1447113600-1447199999@www.eabc-thailand.org
SUMMARY:EABC OUTREACH in THE NETHERLANDS
DESCRIPTION:The European Association for Business and Commerce (EABC)\, in collaboration with EuroChambres participated at the Road 2 South East Asia event organized by the Dutch Chamber of Commerce\, on the November 10\, 2015 in Amsterdam. The EABC was represented by Mr. Philippe Adriaenssens of EuroChambres.  \nThe event served as an opportunity for the EABC to cooperate further with its consortium network members to better facilitate and educate companies and SMEs in Europe interested in doing business in Thailand. \nThe 1 day event featured presentations on the various markets in ASEAN including Thailand\, followed by workshops\, networking sessions as well as round-table discussions\, where Mr Adriaenssens was able to meet with several Dutch SMEs seeking business assistance to explore opportunities in Thailand. \nMr Adriaenssens presented the EABC’s activities in Thailand\, in a short presentation\, as well as how it works in collaboration with its consortium network to support European companies\, particularly SMEs interested to enter the Thai market. 
URL:https://www.eabc-thailand.org/event/eabc-outreach-in-the-netherlands/
LOCATION:Amsterdam
ATTACH;FMTTYPE=image/jpeg:https://www.eabc-thailand.org/wp-content/uploads/2019/01/ac7a60e45f23be66f1f4fc30c23771d0.jpg
END:VEVENT
BEGIN:VEVENT
DTSTART;VALUE=DATE:20151110
DTEND;VALUE=DATE:20151111
DTSTAMP:20260426T092926
CREATED:20190124T031525Z
LAST-MODIFIED:20190124T031525Z
UID:1855-1447113600-1447199999@www.eabc-thailand.org
SUMMARY:EABC AT SLOVAK MATCHMAKING FAIR 2015 IN BRATISLAVA
DESCRIPTION:The European Association for Business and Commerce (EABC) took part in the Slovak MatchMaking Fair 2015\, organized by the Slovak Investment and Trade Development Agency (SARIO)\, at the Bratislava Hotel\, in Bratislava on November 10\, 2015. \nThe aim of the event was to inform Slovak companies about the various business opportunities the Thai market\, as well as to also help interested Slovak companies\, particularly SMEs learn about the services and activities provided by the EABC to support market entry into Thailandand other ASEAN countries. The event was attended by more than 180 participants. \nThe representative of the EABC was able to hold several B2B meetings with many Slovak\, as well as other European companies interested in the Thai market.   \nMore information about the event here.
URL:https://www.eabc-thailand.org/event/eabc-at-slovak-matchmaking-fair-2015-in-bratislava/
ATTACH;FMTTYPE=image/jpeg:https://www.eabc-thailand.org/wp-content/uploads/2019/01/0a470d5a054d231a1d16bb8883508d1c.jpg
END:VEVENT
BEGIN:VEVENT
DTSTART;TZID=Asia/Krasnoyarsk:20151112T080000
DTEND;TZID=Asia/Krasnoyarsk:20151112T170000
DTSTAMP:20260426T092926
CREATED:20190123T102711Z
LAST-MODIFIED:20190123T102711Z
UID:1830-1447315200-1447347600@www.eabc-thailand.org
SUMMARY:EABC & EPBN MEETING WITH CEA
DESCRIPTION:The European Association for Business and Commerce (EABC)\, in collaboration with the EU-Philippines Business Network (EPBN)\nmet with representatives of the Croatian Employer’s Association in Zagreb on November 12\, 2015. \nThe aim of the meeting was to discuss possible future collaboration\, especially on the topic how both the EABC and EPBN in their capacity as EU funded projects\, are able to provide support to Croatian companies looking to enter the Thai market. Representatives of botht the EABC and the EPBN\, presented an overview of their respective markets followed by in-depth discussions with some of the CEA’s member SMEs wo eere interested to know more about particular sectors in Thailand. \n 
URL:https://www.eabc-thailand.org/event/eabc-epbn-meeting-with-cea/
LOCATION:Zagreb
ATTACH;FMTTYPE=image/jpeg:https://www.eabc-thailand.org/wp-content/uploads/2019/01/7f6e5b5af2f671dc24a32f131f5c5f6d.jpg
END:VEVENT
BEGIN:VEVENT
DTSTART;VALUE=DATE:20151113
DTEND;VALUE=DATE:20151114
DTSTAMP:20260426T092926
CREATED:20190124T031922Z
LAST-MODIFIED:20190124T033105Z
UID:1859-1447372800-1447459199@www.eabc-thailand.org
SUMMARY:EABC OUTREACH IN ZAGREB - PHILIPPINES AND THAILAND BUSINESS SEMINAR - GATEWAYS TO SOUTH-EAST ASIA
DESCRIPTION:The European Association for Business and Commerce (EABC)\, in collaboration with the EU-Philippines Business Network (EPBN)\nand the Croatian Chamber of Economy organized a Philippines and Thailand Business Seminar in Zagreb on November 13\, 2015. \nThe aim of the event was to inform Croatian companies about the various business opportunities in both the Thai and Filipino markets\, as well as to also help interested Croatian companies\, particularly SMEs learn about the services and activities provided by both the EABC and EPBN\, as well as other EU-ASEAN Business Networks\, to support market entry into Thailand\, Philippines and other ASEAN countries.\nThe event consisted of presentations about opportunities in both the Thai and Filipino markets\, followed by a networking and B2B session\, where interested Croatian companies\, were able to discuss business with both EABC and EPBn representatives.\nOverall\, the event was received with more than 20 comapnies takign part.
URL:https://www.eabc-thailand.org/event/eabc-outreach-in-zagreb-philippines-and-thailand-business-seminar-gateways-to-south-east-asia/
LOCATION:Zagreb
ATTACH;FMTTYPE=image/jpeg:https://www.eabc-thailand.org/wp-content/uploads/2019/01/2232939501ae3ee14a14454b83dc3506.jpg
END:VEVENT
BEGIN:VEVENT
DTSTART;VALUE=DATE:20151125
DTEND;VALUE=DATE:20151128
DTSTAMP:20260426T092926
CREATED:20190124T033311Z
LAST-MODIFIED:20190124T033726Z
UID:1873-1448409600-1448668799@www.eabc-thailand.org
SUMMARY:SmartRail Asia 2015 on 25-27 November
DESCRIPTION:  \n \nEABC has exhibited at the European Pavilion at the SmartRail Asia 2015 – Congress and Expo in Bangkok\nfrom 25 – 27 November 2015\nat BITEC\, Bangkok \n \nMr. Rolf-Dieter Daniel – EABC President has welcomed Mr. Vatcharachan Sirisuwannatash (middle in photo) from the State Railway of Thailand who was the Chairman of the Opening Ceremony and also Mr. David Aitken from AES (second from left) at EABC exhibition booth. \n \nMr. Rolf-Dieter Daniel – EABC President at the Opening Ceremony of the SMART Rail Congress & Expo on 25 November 2015 at Hall 106\, BITEC Bangna\, Bangkok.
URL:https://www.eabc-thailand.org/event/smartrail-asia-2015-on-25-27-november/
LOCATION:BITEC Bangna
ATTACH;FMTTYPE=image/png:https://www.eabc-thailand.org/wp-content/uploads/2019/01/96452928ba388e33b8bec00ea6b0daf5.png
END:VEVENT
BEGIN:VEVENT
DTSTART;TZID=Asia/Krasnoyarsk:20151125T110000
DTEND;TZID=Asia/Krasnoyarsk:20151125T153000
DTSTAMP:20260426T092926
CREATED:20190124T034025Z
LAST-MODIFIED:20190124T034025Z
UID:1882-1448449200-1448465400@www.eabc-thailand.org
SUMMARY:JFCCT Luncheon session with H.E. Prime Minister General Prayut Chan-Ocha on 25 November 2015
DESCRIPTION:JFCCT Luncheon with H.E. Prime Minister General Prayut Chan-ocha\nWednesday\, 25th November 2015\n11:00 – 15:30hrs.\nBangkok Convention Centre A\, Centara Grand Central World \nIndividual ticket price: 2\,500 Baht Net\nTable of 10 pax: 25\,000 Baht for one table (10pax)
URL:https://www.eabc-thailand.org/event/jfcct-luncheon-session-with-h-e-prime-minister-general-prayut-chan-ocha-on-25-november-2015/
LOCATION:Bangkok Convention Centre A\, Centara Grand Central World
ATTACH;FMTTYPE=image/jpeg:https://www.eabc-thailand.org/wp-content/uploads/2019/01/55853936bf18bb3817c03879e38bbe0b.jpg
END:VEVENT
BEGIN:VEVENT
DTSTART;VALUE=DATE:20151126
DTEND;VALUE=DATE:20151127
DTSTAMP:20260426T092926
CREATED:20190124T035938Z
LAST-MODIFIED:20190124T035938Z
UID:1889-1448496000-1448582399@www.eabc-thailand.org
SUMMARY:Launch Event of Thailand Import Export Guide on 26 November
DESCRIPTION:On 26 November 2015 – The EABC successfully organised the Launch Event of the Thailand Import Export Guide on 26 November 2015\, followed by a networking evening. The evening was very interesting and informative with a keynote address from Mr. Chaiyut Kumkun – Director of Suvarnabhumi Airport Passenger Control Customs Bureau delivering a speech on Customs and Trade Facilitation. The EABC was very pleased to welcome the Vice Minister for Commerce\, Mr. Winichai Chaemchaeng and representatives from Thai Government Agencies\, Embassies\, EABC members and bilateral chambers members and press and media.\nProgram: \n\n\n\n17.00 – 17.15:\nRegistration\n\n\n17.15 – 17.20:\nWelcoming Remarks \nMr. Rolf-Dieter Daniel\, President\nEuropean Association for Business and Commerce (EABC)\n\n\n17.20 – 17.30:\nBrief Introduction to the Thailand Import-Export Guide \nMr. Peter Bjork\, Executive Director\nEuropean Association for Business and Commerce (EABC)\n\n\n17.30 – 17.50:\nKeynote Address “Customs and Trade Facilitation”\nMr.Chaiyut Kumkun\nDirector of Suvarnabhumi Airport Passenger Control Customs Bureau\n\n\n17.50 – 18.00:\nClosing Remarks and welcome to networking night\nMr. Jan Eriksson\, Vice President\nEuropean Association for Business and Commerce (EABC)\n\n\n18.00 – 18.05:\nPhoto Session\n\n\n18.05 – 21.00:\nEuropean Networking Night \n(free flow of wine and soft drinks\, and canapés will be served)\n\n\n\nEntrance fee: Registration dateline  23 November 2015\nMembers           THB650 (incl.VAT)\n(EABC and EU Bilateral Chambers\, Consortium Partners\, Chambers of Commerce\, Embassy staff and government officials)\nNon-Members    THB900 (incl.VAT) \n\n “Thailand Import Export Guide” book is available at THB600\, please contact service@eabc-thailand.eu or 02 670 0624. \n\nPlease click here to download the presentation from Mr. Chaiyut Kumkun – Guest Speaker \nPlease click here to download Press Release of this event
URL:https://www.eabc-thailand.org/event/launch-event-of-thailand-import-export-guide-on-26-november/
ATTACH;FMTTYPE=image/jpeg:https://www.eabc-thailand.org/wp-content/uploads/2019/01/98a9a237309fed83e0332ee2380931da.jpg
END:VEVENT
END:VCALENDAR